BEGIN:VCALENDAR
VERSION:2.0
PRODID:-//Niagara Regional Sportsmen&#039;s Gun Club - ECPv6.15.20//NONSGML v1.0//EN
CALSCALE:GREGORIAN
METHOD:PUBLISH
X-ORIGINAL-URL:https://www.niagaragunclub.com
X-WR-CALDESC:Events for Niagara Regional Sportsmen&#039;s Gun Club
REFRESH-INTERVAL;VALUE=DURATION:PT1H
X-Robots-Tag:noindex
X-PUBLISHED-TTL:PT1H
BEGIN:VTIMEZONE
TZID:America/Toronto
BEGIN:DAYLIGHT
TZOFFSETFROM:-0500
TZOFFSETTO:-0400
TZNAME:EDT
DTSTART:20290311T070000
END:DAYLIGHT
BEGIN:STANDARD
TZOFFSETFROM:-0400
TZOFFSETTO:-0500
TZNAME:EST
DTSTART:20291104T060000
END:STANDARD
BEGIN:DAYLIGHT
TZOFFSETFROM:-0500
TZOFFSETTO:-0400
TZNAME:EDT
DTSTART:20300310T070000
END:DAYLIGHT
BEGIN:STANDARD
TZOFFSETFROM:-0400
TZOFFSETTO:-0500
TZNAME:EST
DTSTART:20301103T060000
END:STANDARD
BEGIN:DAYLIGHT
TZOFFSETFROM:-0500
TZOFFSETTO:-0400
TZNAME:EDT
DTSTART:20310309T070000
END:DAYLIGHT
BEGIN:STANDARD
TZOFFSETFROM:-0400
TZOFFSETTO:-0500
TZNAME:EST
DTSTART:20311102T060000
END:STANDARD
END:VTIMEZONE
BEGIN:VEVENT
DTSTART;TZID=America/Toronto:20300519T083000
DTEND;TZID=America/Toronto:20300519T213000
DTSTAMP:20260422T093456
CREATED:20241209T025611Z
LAST-MODIFIED:20241209T025613Z
UID:10003452-1905409800-1905456600@www.niagaragunclub.com
SUMMARY:Sporting Clay 8:30am Shoot
DESCRIPTION:1st Shoot.\nRelay 1\nStarts at 8:30am whether good weather or bad.\nContact Gary to get on the mailing list. \n 
URL:https://www.niagaragunclub.com/event/sporting-clay-shoot-5-2-2/2030-05-19/
CATEGORIES:Clay Shoots 8:30am
END:VEVENT
BEGIN:VEVENT
DTSTART;TZID=America/Toronto:20300519T103000
DTEND;TZID=America/Toronto:20300519T113000
DTSTAMP:20260422T093456
CREATED:20240530T154754Z
LAST-MODIFIED:20251120T143038Z
UID:10003839-1905417000-1905420600@www.niagaragunclub.com
SUMMARY:Sporting Clay 10:30am Shoot
DESCRIPTION:2nd Shoot.\nSporting Clays Program – Relay 2\n1030am Start APproximately- depends on how long Relay 1 goes. Typically goes 2 hours . Shoot goes in good or bad weather\nContact Gary to get on the mailing list. Garyiggulden@gmail.com \n 
URL:https://www.niagaragunclub.com/event/sporting-clay-sunday-shoot/2030-05-19/
CATEGORIES:Clay Shoots 10:30am
END:VEVENT
BEGIN:VEVENT
DTSTART;TZID=America/Toronto:20300522T083000
DTEND;TZID=America/Toronto:20300522T223000
DTSTAMP:20260422T093456
CREATED:20241209T030208Z
LAST-MODIFIED:20251120T142751Z
UID:10003762-1905669000-1905719400@www.niagaragunclub.com
SUMMARY:Wednesday Sporting Clays
DESCRIPTION:First Shoot goes 830 am until 1030 am (roughly 2 hours) \nSecond shoot goes 1030 am until 1230pm (Roughly 2 hours) \nContact Gary to get on the email list- garyiggulden@gmail.com
URL:https://www.niagaragunclub.com/event/wednesday-sporting-clays/2030-05-22/
END:VEVENT
BEGIN:VEVENT
DTSTART;TZID=America/Toronto:20300526T083000
DTEND;TZID=America/Toronto:20300526T213000
DTSTAMP:20260422T093456
CREATED:20241209T025611Z
LAST-MODIFIED:20241209T025613Z
UID:10003453-1906014600-1906061400@www.niagaragunclub.com
SUMMARY:Sporting Clay 8:30am Shoot
DESCRIPTION:1st Shoot.\nRelay 1\nStarts at 8:30am whether good weather or bad.\nContact Gary to get on the mailing list. \n 
URL:https://www.niagaragunclub.com/event/sporting-clay-shoot-5-2-2/2030-05-26/
CATEGORIES:Clay Shoots 8:30am
END:VEVENT
BEGIN:VEVENT
DTSTART;TZID=America/Toronto:20300526T103000
DTEND;TZID=America/Toronto:20300526T113000
DTSTAMP:20260422T093456
CREATED:20240530T154754Z
LAST-MODIFIED:20251120T143038Z
UID:10003840-1906021800-1906025400@www.niagaragunclub.com
SUMMARY:Sporting Clay 10:30am Shoot
DESCRIPTION:2nd Shoot.\nSporting Clays Program – Relay 2\n1030am Start APproximately- depends on how long Relay 1 goes. Typically goes 2 hours . Shoot goes in good or bad weather\nContact Gary to get on the mailing list. Garyiggulden@gmail.com \n 
URL:https://www.niagaragunclub.com/event/sporting-clay-sunday-shoot/2030-05-26/
CATEGORIES:Clay Shoots 10:30am
END:VEVENT
BEGIN:VEVENT
DTSTART;TZID=America/Toronto:20300529T083000
DTEND;TZID=America/Toronto:20300529T223000
DTSTAMP:20260422T093456
CREATED:20241209T030208Z
LAST-MODIFIED:20251120T142751Z
UID:10003763-1906273800-1906324200@www.niagaragunclub.com
SUMMARY:Wednesday Sporting Clays
DESCRIPTION:First Shoot goes 830 am until 1030 am (roughly 2 hours) \nSecond shoot goes 1030 am until 1230pm (Roughly 2 hours) \nContact Gary to get on the email list- garyiggulden@gmail.com
URL:https://www.niagaragunclub.com/event/wednesday-sporting-clays/2030-05-29/
END:VEVENT
BEGIN:VEVENT
DTSTART;TZID=America/Toronto:20300602T083000
DTEND;TZID=America/Toronto:20300602T213000
DTSTAMP:20260422T093456
CREATED:20241209T025611Z
LAST-MODIFIED:20241209T025613Z
UID:10003454-1906619400-1906666200@www.niagaragunclub.com
SUMMARY:Sporting Clay 8:30am Shoot
DESCRIPTION:1st Shoot.\nRelay 1\nStarts at 8:30am whether good weather or bad.\nContact Gary to get on the mailing list. \n 
URL:https://www.niagaragunclub.com/event/sporting-clay-shoot-5-2-2/2030-06-02/
CATEGORIES:Clay Shoots 8:30am
END:VEVENT
BEGIN:VEVENT
DTSTART;TZID=America/Toronto:20300602T103000
DTEND;TZID=America/Toronto:20300602T113000
DTSTAMP:20260422T093456
CREATED:20240530T154754Z
LAST-MODIFIED:20251120T143038Z
UID:10003841-1906626600-1906630200@www.niagaragunclub.com
SUMMARY:Sporting Clay 10:30am Shoot
DESCRIPTION:2nd Shoot.\nSporting Clays Program – Relay 2\n1030am Start APproximately- depends on how long Relay 1 goes. Typically goes 2 hours . Shoot goes in good or bad weather\nContact Gary to get on the mailing list. Garyiggulden@gmail.com \n 
URL:https://www.niagaragunclub.com/event/sporting-clay-sunday-shoot/2030-06-02/
CATEGORIES:Clay Shoots 10:30am
END:VEVENT
BEGIN:VEVENT
DTSTART;TZID=America/Toronto:20300605T083000
DTEND;TZID=America/Toronto:20300605T223000
DTSTAMP:20260422T093456
CREATED:20241209T030208Z
LAST-MODIFIED:20251120T142751Z
UID:10003764-1906878600-1906929000@www.niagaragunclub.com
SUMMARY:Wednesday Sporting Clays
DESCRIPTION:First Shoot goes 830 am until 1030 am (roughly 2 hours) \nSecond shoot goes 1030 am until 1230pm (Roughly 2 hours) \nContact Gary to get on the email list- garyiggulden@gmail.com
URL:https://www.niagaragunclub.com/event/wednesday-sporting-clays/2030-06-05/
END:VEVENT
BEGIN:VEVENT
DTSTART;TZID=America/Toronto:20300609T083000
DTEND;TZID=America/Toronto:20300609T213000
DTSTAMP:20260422T093456
CREATED:20241209T025611Z
LAST-MODIFIED:20241209T025613Z
UID:10003455-1907224200-1907271000@www.niagaragunclub.com
SUMMARY:Sporting Clay 8:30am Shoot
DESCRIPTION:1st Shoot.\nRelay 1\nStarts at 8:30am whether good weather or bad.\nContact Gary to get on the mailing list. \n 
URL:https://www.niagaragunclub.com/event/sporting-clay-shoot-5-2-2/2030-06-09/
CATEGORIES:Clay Shoots 8:30am
END:VEVENT
BEGIN:VEVENT
DTSTART;TZID=America/Toronto:20300609T103000
DTEND;TZID=America/Toronto:20300609T113000
DTSTAMP:20260422T093456
CREATED:20240530T154754Z
LAST-MODIFIED:20251120T143038Z
UID:10003842-1907231400-1907235000@www.niagaragunclub.com
SUMMARY:Sporting Clay 10:30am Shoot
DESCRIPTION:2nd Shoot.\nSporting Clays Program – Relay 2\n1030am Start APproximately- depends on how long Relay 1 goes. Typically goes 2 hours . Shoot goes in good or bad weather\nContact Gary to get on the mailing list. Garyiggulden@gmail.com \n 
URL:https://www.niagaragunclub.com/event/sporting-clay-sunday-shoot/2030-06-09/
CATEGORIES:Clay Shoots 10:30am
END:VEVENT
BEGIN:VEVENT
DTSTART;TZID=America/Toronto:20300612T083000
DTEND;TZID=America/Toronto:20300612T223000
DTSTAMP:20260422T093456
CREATED:20241209T030208Z
LAST-MODIFIED:20251120T142751Z
UID:10003765-1907483400-1907533800@www.niagaragunclub.com
SUMMARY:Wednesday Sporting Clays
DESCRIPTION:First Shoot goes 830 am until 1030 am (roughly 2 hours) \nSecond shoot goes 1030 am until 1230pm (Roughly 2 hours) \nContact Gary to get on the email list- garyiggulden@gmail.com
URL:https://www.niagaragunclub.com/event/wednesday-sporting-clays/2030-06-12/
END:VEVENT
BEGIN:VEVENT
DTSTART;TZID=America/Toronto:20300616T083000
DTEND;TZID=America/Toronto:20300616T213000
DTSTAMP:20260422T093456
CREATED:20241209T025611Z
LAST-MODIFIED:20241209T025613Z
UID:10003456-1907829000-1907875800@www.niagaragunclub.com
SUMMARY:Sporting Clay 8:30am Shoot
DESCRIPTION:1st Shoot.\nRelay 1\nStarts at 8:30am whether good weather or bad.\nContact Gary to get on the mailing list. \n 
URL:https://www.niagaragunclub.com/event/sporting-clay-shoot-5-2-2/2030-06-16/
CATEGORIES:Clay Shoots 8:30am
END:VEVENT
BEGIN:VEVENT
DTSTART;TZID=America/Toronto:20300616T103000
DTEND;TZID=America/Toronto:20300616T113000
DTSTAMP:20260422T093456
CREATED:20240530T154754Z
LAST-MODIFIED:20251120T143038Z
UID:10003843-1907836200-1907839800@www.niagaragunclub.com
SUMMARY:Sporting Clay 10:30am Shoot
DESCRIPTION:2nd Shoot.\nSporting Clays Program – Relay 2\n1030am Start APproximately- depends on how long Relay 1 goes. Typically goes 2 hours . Shoot goes in good or bad weather\nContact Gary to get on the mailing list. Garyiggulden@gmail.com \n 
URL:https://www.niagaragunclub.com/event/sporting-clay-sunday-shoot/2030-06-16/
CATEGORIES:Clay Shoots 10:30am
END:VEVENT
BEGIN:VEVENT
DTSTART;TZID=America/Toronto:20300619T083000
DTEND;TZID=America/Toronto:20300619T223000
DTSTAMP:20260422T093456
CREATED:20241209T030208Z
LAST-MODIFIED:20251120T142751Z
UID:10003766-1908088200-1908138600@www.niagaragunclub.com
SUMMARY:Wednesday Sporting Clays
DESCRIPTION:First Shoot goes 830 am until 1030 am (roughly 2 hours) \nSecond shoot goes 1030 am until 1230pm (Roughly 2 hours) \nContact Gary to get on the email list- garyiggulden@gmail.com
URL:https://www.niagaragunclub.com/event/wednesday-sporting-clays/2030-06-19/
END:VEVENT
BEGIN:VEVENT
DTSTART;TZID=America/Toronto:20300623T083000
DTEND;TZID=America/Toronto:20300623T213000
DTSTAMP:20260422T093456
CREATED:20241209T025611Z
LAST-MODIFIED:20241209T025613Z
UID:10003457-1908433800-1908480600@www.niagaragunclub.com
SUMMARY:Sporting Clay 8:30am Shoot
DESCRIPTION:1st Shoot.\nRelay 1\nStarts at 8:30am whether good weather or bad.\nContact Gary to get on the mailing list. \n 
URL:https://www.niagaragunclub.com/event/sporting-clay-shoot-5-2-2/2030-06-23/
CATEGORIES:Clay Shoots 8:30am
END:VEVENT
BEGIN:VEVENT
DTSTART;TZID=America/Toronto:20300623T103000
DTEND;TZID=America/Toronto:20300623T113000
DTSTAMP:20260422T093456
CREATED:20240530T154754Z
LAST-MODIFIED:20251120T143038Z
UID:10003844-1908441000-1908444600@www.niagaragunclub.com
SUMMARY:Sporting Clay 10:30am Shoot
DESCRIPTION:2nd Shoot.\nSporting Clays Program – Relay 2\n1030am Start APproximately- depends on how long Relay 1 goes. Typically goes 2 hours . Shoot goes in good or bad weather\nContact Gary to get on the mailing list. Garyiggulden@gmail.com \n 
URL:https://www.niagaragunclub.com/event/sporting-clay-sunday-shoot/2030-06-23/
CATEGORIES:Clay Shoots 10:30am
END:VEVENT
BEGIN:VEVENT
DTSTART;TZID=America/Toronto:20300626T083000
DTEND;TZID=America/Toronto:20300626T223000
DTSTAMP:20260422T093456
CREATED:20241209T030208Z
LAST-MODIFIED:20251120T142751Z
UID:10003767-1908693000-1908743400@www.niagaragunclub.com
SUMMARY:Wednesday Sporting Clays
DESCRIPTION:First Shoot goes 830 am until 1030 am (roughly 2 hours) \nSecond shoot goes 1030 am until 1230pm (Roughly 2 hours) \nContact Gary to get on the email list- garyiggulden@gmail.com
URL:https://www.niagaragunclub.com/event/wednesday-sporting-clays/2030-06-26/
END:VEVENT
BEGIN:VEVENT
DTSTART;TZID=America/Toronto:20300630T083000
DTEND;TZID=America/Toronto:20300630T213000
DTSTAMP:20260422T093456
CREATED:20241209T025611Z
LAST-MODIFIED:20241209T025613Z
UID:10003458-1909038600-1909085400@www.niagaragunclub.com
SUMMARY:Sporting Clay 8:30am Shoot
DESCRIPTION:1st Shoot.\nRelay 1\nStarts at 8:30am whether good weather or bad.\nContact Gary to get on the mailing list. \n 
URL:https://www.niagaragunclub.com/event/sporting-clay-shoot-5-2-2/2030-06-30/
CATEGORIES:Clay Shoots 8:30am
END:VEVENT
BEGIN:VEVENT
DTSTART;TZID=America/Toronto:20300630T103000
DTEND;TZID=America/Toronto:20300630T113000
DTSTAMP:20260422T093456
CREATED:20240530T154754Z
LAST-MODIFIED:20251120T143038Z
UID:10003845-1909045800-1909049400@www.niagaragunclub.com
SUMMARY:Sporting Clay 10:30am Shoot
DESCRIPTION:2nd Shoot.\nSporting Clays Program – Relay 2\n1030am Start APproximately- depends on how long Relay 1 goes. Typically goes 2 hours . Shoot goes in good or bad weather\nContact Gary to get on the mailing list. Garyiggulden@gmail.com \n 
URL:https://www.niagaragunclub.com/event/sporting-clay-sunday-shoot/2030-06-30/
CATEGORIES:Clay Shoots 10:30am
END:VEVENT
BEGIN:VEVENT
DTSTART;TZID=America/Toronto:20300703T083000
DTEND;TZID=America/Toronto:20300703T223000
DTSTAMP:20260422T093456
CREATED:20241209T030208Z
LAST-MODIFIED:20251120T142751Z
UID:10003768-1909297800-1909348200@www.niagaragunclub.com
SUMMARY:Wednesday Sporting Clays
DESCRIPTION:First Shoot goes 830 am until 1030 am (roughly 2 hours) \nSecond shoot goes 1030 am until 1230pm (Roughly 2 hours) \nContact Gary to get on the email list- garyiggulden@gmail.com
URL:https://www.niagaragunclub.com/event/wednesday-sporting-clays/2030-07-03/
END:VEVENT
BEGIN:VEVENT
DTSTART;TZID=America/Toronto:20300707T083000
DTEND;TZID=America/Toronto:20300707T213000
DTSTAMP:20260422T093456
CREATED:20241209T025611Z
LAST-MODIFIED:20241209T025613Z
UID:10003459-1909643400-1909690200@www.niagaragunclub.com
SUMMARY:Sporting Clay 8:30am Shoot
DESCRIPTION:1st Shoot.\nRelay 1\nStarts at 8:30am whether good weather or bad.\nContact Gary to get on the mailing list. \n 
URL:https://www.niagaragunclub.com/event/sporting-clay-shoot-5-2-2/2030-07-07/
CATEGORIES:Clay Shoots 8:30am
END:VEVENT
BEGIN:VEVENT
DTSTART;TZID=America/Toronto:20300707T103000
DTEND;TZID=America/Toronto:20300707T113000
DTSTAMP:20260422T093456
CREATED:20240530T154754Z
LAST-MODIFIED:20251120T143038Z
UID:10003846-1909650600-1909654200@www.niagaragunclub.com
SUMMARY:Sporting Clay 10:30am Shoot
DESCRIPTION:2nd Shoot.\nSporting Clays Program – Relay 2\n1030am Start APproximately- depends on how long Relay 1 goes. Typically goes 2 hours . Shoot goes in good or bad weather\nContact Gary to get on the mailing list. Garyiggulden@gmail.com \n 
URL:https://www.niagaragunclub.com/event/sporting-clay-sunday-shoot/2030-07-07/
CATEGORIES:Clay Shoots 10:30am
END:VEVENT
BEGIN:VEVENT
DTSTART;TZID=America/Toronto:20300710T083000
DTEND;TZID=America/Toronto:20300710T223000
DTSTAMP:20260422T093456
CREATED:20241209T030208Z
LAST-MODIFIED:20251120T142751Z
UID:10003769-1909902600-1909953000@www.niagaragunclub.com
SUMMARY:Wednesday Sporting Clays
DESCRIPTION:First Shoot goes 830 am until 1030 am (roughly 2 hours) \nSecond shoot goes 1030 am until 1230pm (Roughly 2 hours) \nContact Gary to get on the email list- garyiggulden@gmail.com
URL:https://www.niagaragunclub.com/event/wednesday-sporting-clays/2030-07-10/
END:VEVENT
BEGIN:VEVENT
DTSTART;TZID=America/Toronto:20300714T083000
DTEND;TZID=America/Toronto:20300714T213000
DTSTAMP:20260422T093456
CREATED:20241209T025611Z
LAST-MODIFIED:20241209T025613Z
UID:10003460-1910248200-1910295000@www.niagaragunclub.com
SUMMARY:Sporting Clay 8:30am Shoot
DESCRIPTION:1st Shoot.\nRelay 1\nStarts at 8:30am whether good weather or bad.\nContact Gary to get on the mailing list. \n 
URL:https://www.niagaragunclub.com/event/sporting-clay-shoot-5-2-2/2030-07-14/
CATEGORIES:Clay Shoots 8:30am
END:VEVENT
BEGIN:VEVENT
DTSTART;TZID=America/Toronto:20300714T103000
DTEND;TZID=America/Toronto:20300714T113000
DTSTAMP:20260422T093456
CREATED:20240530T154754Z
LAST-MODIFIED:20251120T143038Z
UID:10003847-1910255400-1910259000@www.niagaragunclub.com
SUMMARY:Sporting Clay 10:30am Shoot
DESCRIPTION:2nd Shoot.\nSporting Clays Program – Relay 2\n1030am Start APproximately- depends on how long Relay 1 goes. Typically goes 2 hours . Shoot goes in good or bad weather\nContact Gary to get on the mailing list. Garyiggulden@gmail.com \n 
URL:https://www.niagaragunclub.com/event/sporting-clay-sunday-shoot/2030-07-14/
CATEGORIES:Clay Shoots 10:30am
END:VEVENT
BEGIN:VEVENT
DTSTART;TZID=America/Toronto:20300717T083000
DTEND;TZID=America/Toronto:20300717T223000
DTSTAMP:20260422T093456
CREATED:20241209T030208Z
LAST-MODIFIED:20251120T142751Z
UID:10003770-1910507400-1910557800@www.niagaragunclub.com
SUMMARY:Wednesday Sporting Clays
DESCRIPTION:First Shoot goes 830 am until 1030 am (roughly 2 hours) \nSecond shoot goes 1030 am until 1230pm (Roughly 2 hours) \nContact Gary to get on the email list- garyiggulden@gmail.com
URL:https://www.niagaragunclub.com/event/wednesday-sporting-clays/2030-07-17/
END:VEVENT
BEGIN:VEVENT
DTSTART;TZID=America/Toronto:20300721T083000
DTEND;TZID=America/Toronto:20300721T213000
DTSTAMP:20260422T093456
CREATED:20241209T025611Z
LAST-MODIFIED:20241209T025613Z
UID:10003461-1910853000-1910899800@www.niagaragunclub.com
SUMMARY:Sporting Clay 8:30am Shoot
DESCRIPTION:1st Shoot.\nRelay 1\nStarts at 8:30am whether good weather or bad.\nContact Gary to get on the mailing list. \n 
URL:https://www.niagaragunclub.com/event/sporting-clay-shoot-5-2-2/2030-07-21/
CATEGORIES:Clay Shoots 8:30am
END:VEVENT
BEGIN:VEVENT
DTSTART;TZID=America/Toronto:20300721T103000
DTEND;TZID=America/Toronto:20300721T113000
DTSTAMP:20260422T093456
CREATED:20240530T154754Z
LAST-MODIFIED:20251120T143038Z
UID:10003848-1910860200-1910863800@www.niagaragunclub.com
SUMMARY:Sporting Clay 10:30am Shoot
DESCRIPTION:2nd Shoot.\nSporting Clays Program – Relay 2\n1030am Start APproximately- depends on how long Relay 1 goes. Typically goes 2 hours . Shoot goes in good or bad weather\nContact Gary to get on the mailing list. Garyiggulden@gmail.com \n 
URL:https://www.niagaragunclub.com/event/sporting-clay-sunday-shoot/2030-07-21/
CATEGORIES:Clay Shoots 10:30am
END:VEVENT
BEGIN:VEVENT
DTSTART;TZID=America/Toronto:20300724T083000
DTEND;TZID=America/Toronto:20300724T223000
DTSTAMP:20260422T093456
CREATED:20241209T030208Z
LAST-MODIFIED:20251120T142751Z
UID:10003771-1911112200-1911162600@www.niagaragunclub.com
SUMMARY:Wednesday Sporting Clays
DESCRIPTION:First Shoot goes 830 am until 1030 am (roughly 2 hours) \nSecond shoot goes 1030 am until 1230pm (Roughly 2 hours) \nContact Gary to get on the email list- garyiggulden@gmail.com
URL:https://www.niagaragunclub.com/event/wednesday-sporting-clays/2030-07-24/
END:VEVENT
END:VCALENDAR