BEGIN:VCALENDAR
VERSION:2.0
PRODID:-//Niagara Regional Sportsmen&#039;s Gun Club - ECPv6.15.20//NONSGML v1.0//EN
CALSCALE:GREGORIAN
METHOD:PUBLISH
X-ORIGINAL-URL:https://www.niagaragunclub.com
X-WR-CALDESC:Events for Niagara Regional Sportsmen&#039;s Gun Club
REFRESH-INTERVAL;VALUE=DURATION:PT1H
X-Robots-Tag:noindex
X-PUBLISHED-TTL:PT1H
BEGIN:VTIMEZONE
TZID:America/Toronto
BEGIN:DAYLIGHT
TZOFFSETFROM:-0500
TZOFFSETTO:-0400
TZNAME:EDT
DTSTART:20290311T070000
END:DAYLIGHT
BEGIN:STANDARD
TZOFFSETFROM:-0400
TZOFFSETTO:-0500
TZNAME:EST
DTSTART:20291104T060000
END:STANDARD
BEGIN:DAYLIGHT
TZOFFSETFROM:-0500
TZOFFSETTO:-0400
TZNAME:EDT
DTSTART:20300310T070000
END:DAYLIGHT
BEGIN:STANDARD
TZOFFSETFROM:-0400
TZOFFSETTO:-0500
TZNAME:EST
DTSTART:20301103T060000
END:STANDARD
BEGIN:DAYLIGHT
TZOFFSETFROM:-0500
TZOFFSETTO:-0400
TZNAME:EDT
DTSTART:20310309T070000
END:DAYLIGHT
BEGIN:STANDARD
TZOFFSETFROM:-0400
TZOFFSETTO:-0500
TZNAME:EST
DTSTART:20311102T060000
END:STANDARD
END:VTIMEZONE
BEGIN:VEVENT
DTSTART;TZID=America/Toronto:20300127T083000
DTEND;TZID=America/Toronto:20300127T213000
DTSTAMP:20260422T060438
CREATED:20241209T025611Z
LAST-MODIFIED:20241209T025613Z
UID:10003436-1895733000-1895779800@www.niagaragunclub.com
SUMMARY:Sporting Clay 8:30am Shoot
DESCRIPTION:1st Shoot.\nRelay 1\nStarts at 8:30am whether good weather or bad.\nContact Gary to get on the mailing list. \n 
URL:https://www.niagaragunclub.com/event/sporting-clay-shoot-5-2-2/2030-01-27/
CATEGORIES:Clay Shoots 8:30am
END:VEVENT
BEGIN:VEVENT
DTSTART;TZID=America/Toronto:20300127T103000
DTEND;TZID=America/Toronto:20300127T113000
DTSTAMP:20260422T060438
CREATED:20240530T154754Z
LAST-MODIFIED:20251120T143038Z
UID:10003823-1895740200-1895743800@www.niagaragunclub.com
SUMMARY:Sporting Clay 10:30am Shoot
DESCRIPTION:2nd Shoot.\nSporting Clays Program – Relay 2\n1030am Start APproximately- depends on how long Relay 1 goes. Typically goes 2 hours . Shoot goes in good or bad weather\nContact Gary to get on the mailing list. Garyiggulden@gmail.com \n 
URL:https://www.niagaragunclub.com/event/sporting-clay-sunday-shoot/2030-01-27/
CATEGORIES:Clay Shoots 10:30am
END:VEVENT
BEGIN:VEVENT
DTSTART;TZID=America/Toronto:20300130T083000
DTEND;TZID=America/Toronto:20300130T223000
DTSTAMP:20260422T060438
CREATED:20241209T030208Z
LAST-MODIFIED:20251120T142751Z
UID:10003746-1895992200-1896042600@www.niagaragunclub.com
SUMMARY:Wednesday Sporting Clays
DESCRIPTION:First Shoot goes 830 am until 1030 am (roughly 2 hours) \nSecond shoot goes 1030 am until 1230pm (Roughly 2 hours) \nContact Gary to get on the email list- garyiggulden@gmail.com
URL:https://www.niagaragunclub.com/event/wednesday-sporting-clays/2030-01-30/
END:VEVENT
BEGIN:VEVENT
DTSTART;TZID=America/Toronto:20300203T083000
DTEND;TZID=America/Toronto:20300203T213000
DTSTAMP:20260422T060438
CREATED:20241209T025611Z
LAST-MODIFIED:20241209T025613Z
UID:10003437-1896337800-1896384600@www.niagaragunclub.com
SUMMARY:Sporting Clay 8:30am Shoot
DESCRIPTION:1st Shoot.\nRelay 1\nStarts at 8:30am whether good weather or bad.\nContact Gary to get on the mailing list. \n 
URL:https://www.niagaragunclub.com/event/sporting-clay-shoot-5-2-2/2030-02-03/
CATEGORIES:Clay Shoots 8:30am
END:VEVENT
BEGIN:VEVENT
DTSTART;TZID=America/Toronto:20300203T103000
DTEND;TZID=America/Toronto:20300203T113000
DTSTAMP:20260422T060438
CREATED:20240530T154754Z
LAST-MODIFIED:20251120T143038Z
UID:10003824-1896345000-1896348600@www.niagaragunclub.com
SUMMARY:Sporting Clay 10:30am Shoot
DESCRIPTION:2nd Shoot.\nSporting Clays Program – Relay 2\n1030am Start APproximately- depends on how long Relay 1 goes. Typically goes 2 hours . Shoot goes in good or bad weather\nContact Gary to get on the mailing list. Garyiggulden@gmail.com \n 
URL:https://www.niagaragunclub.com/event/sporting-clay-sunday-shoot/2030-02-03/
CATEGORIES:Clay Shoots 10:30am
END:VEVENT
BEGIN:VEVENT
DTSTART;TZID=America/Toronto:20300206T083000
DTEND;TZID=America/Toronto:20300206T223000
DTSTAMP:20260422T060438
CREATED:20241209T030208Z
LAST-MODIFIED:20251120T142751Z
UID:10003747-1896597000-1896647400@www.niagaragunclub.com
SUMMARY:Wednesday Sporting Clays
DESCRIPTION:First Shoot goes 830 am until 1030 am (roughly 2 hours) \nSecond shoot goes 1030 am until 1230pm (Roughly 2 hours) \nContact Gary to get on the email list- garyiggulden@gmail.com
URL:https://www.niagaragunclub.com/event/wednesday-sporting-clays/2030-02-06/
END:VEVENT
BEGIN:VEVENT
DTSTART;TZID=America/Toronto:20300210T083000
DTEND;TZID=America/Toronto:20300210T213000
DTSTAMP:20260422T060438
CREATED:20241209T025611Z
LAST-MODIFIED:20241209T025613Z
UID:10003438-1896942600-1896989400@www.niagaragunclub.com
SUMMARY:Sporting Clay 8:30am Shoot
DESCRIPTION:1st Shoot.\nRelay 1\nStarts at 8:30am whether good weather or bad.\nContact Gary to get on the mailing list. \n 
URL:https://www.niagaragunclub.com/event/sporting-clay-shoot-5-2-2/2030-02-10/
CATEGORIES:Clay Shoots 8:30am
END:VEVENT
BEGIN:VEVENT
DTSTART;TZID=America/Toronto:20300210T103000
DTEND;TZID=America/Toronto:20300210T113000
DTSTAMP:20260422T060438
CREATED:20240530T154754Z
LAST-MODIFIED:20251120T143038Z
UID:10003825-1896949800-1896953400@www.niagaragunclub.com
SUMMARY:Sporting Clay 10:30am Shoot
DESCRIPTION:2nd Shoot.\nSporting Clays Program – Relay 2\n1030am Start APproximately- depends on how long Relay 1 goes. Typically goes 2 hours . Shoot goes in good or bad weather\nContact Gary to get on the mailing list. Garyiggulden@gmail.com \n 
URL:https://www.niagaragunclub.com/event/sporting-clay-sunday-shoot/2030-02-10/
CATEGORIES:Clay Shoots 10:30am
END:VEVENT
BEGIN:VEVENT
DTSTART;TZID=America/Toronto:20300213T083000
DTEND;TZID=America/Toronto:20300213T223000
DTSTAMP:20260422T060438
CREATED:20241209T030208Z
LAST-MODIFIED:20251120T142751Z
UID:10003748-1897201800-1897252200@www.niagaragunclub.com
SUMMARY:Wednesday Sporting Clays
DESCRIPTION:First Shoot goes 830 am until 1030 am (roughly 2 hours) \nSecond shoot goes 1030 am until 1230pm (Roughly 2 hours) \nContact Gary to get on the email list- garyiggulden@gmail.com
URL:https://www.niagaragunclub.com/event/wednesday-sporting-clays/2030-02-13/
END:VEVENT
BEGIN:VEVENT
DTSTART;TZID=America/Toronto:20300217T083000
DTEND;TZID=America/Toronto:20300217T213000
DTSTAMP:20260422T060438
CREATED:20241209T025611Z
LAST-MODIFIED:20241209T025613Z
UID:10003439-1897547400-1897594200@www.niagaragunclub.com
SUMMARY:Sporting Clay 8:30am Shoot
DESCRIPTION:1st Shoot.\nRelay 1\nStarts at 8:30am whether good weather or bad.\nContact Gary to get on the mailing list. \n 
URL:https://www.niagaragunclub.com/event/sporting-clay-shoot-5-2-2/2030-02-17/
CATEGORIES:Clay Shoots 8:30am
END:VEVENT
BEGIN:VEVENT
DTSTART;TZID=America/Toronto:20300217T103000
DTEND;TZID=America/Toronto:20300217T113000
DTSTAMP:20260422T060438
CREATED:20240530T154754Z
LAST-MODIFIED:20251120T143038Z
UID:10003826-1897554600-1897558200@www.niagaragunclub.com
SUMMARY:Sporting Clay 10:30am Shoot
DESCRIPTION:2nd Shoot.\nSporting Clays Program – Relay 2\n1030am Start APproximately- depends on how long Relay 1 goes. Typically goes 2 hours . Shoot goes in good or bad weather\nContact Gary to get on the mailing list. Garyiggulden@gmail.com \n 
URL:https://www.niagaragunclub.com/event/sporting-clay-sunday-shoot/2030-02-17/
CATEGORIES:Clay Shoots 10:30am
END:VEVENT
BEGIN:VEVENT
DTSTART;TZID=America/Toronto:20300220T083000
DTEND;TZID=America/Toronto:20300220T223000
DTSTAMP:20260422T060438
CREATED:20241209T030208Z
LAST-MODIFIED:20251120T142751Z
UID:10003749-1897806600-1897857000@www.niagaragunclub.com
SUMMARY:Wednesday Sporting Clays
DESCRIPTION:First Shoot goes 830 am until 1030 am (roughly 2 hours) \nSecond shoot goes 1030 am until 1230pm (Roughly 2 hours) \nContact Gary to get on the email list- garyiggulden@gmail.com
URL:https://www.niagaragunclub.com/event/wednesday-sporting-clays/2030-02-20/
END:VEVENT
BEGIN:VEVENT
DTSTART;TZID=America/Toronto:20300224T083000
DTEND;TZID=America/Toronto:20300224T213000
DTSTAMP:20260422T060438
CREATED:20241209T025611Z
LAST-MODIFIED:20241209T025613Z
UID:10003440-1898152200-1898199000@www.niagaragunclub.com
SUMMARY:Sporting Clay 8:30am Shoot
DESCRIPTION:1st Shoot.\nRelay 1\nStarts at 8:30am whether good weather or bad.\nContact Gary to get on the mailing list. \n 
URL:https://www.niagaragunclub.com/event/sporting-clay-shoot-5-2-2/2030-02-24/
CATEGORIES:Clay Shoots 8:30am
END:VEVENT
BEGIN:VEVENT
DTSTART;TZID=America/Toronto:20300224T103000
DTEND;TZID=America/Toronto:20300224T113000
DTSTAMP:20260422T060438
CREATED:20240530T154754Z
LAST-MODIFIED:20251120T143038Z
UID:10003827-1898159400-1898163000@www.niagaragunclub.com
SUMMARY:Sporting Clay 10:30am Shoot
DESCRIPTION:2nd Shoot.\nSporting Clays Program – Relay 2\n1030am Start APproximately- depends on how long Relay 1 goes. Typically goes 2 hours . Shoot goes in good or bad weather\nContact Gary to get on the mailing list. Garyiggulden@gmail.com \n 
URL:https://www.niagaragunclub.com/event/sporting-clay-sunday-shoot/2030-02-24/
CATEGORIES:Clay Shoots 10:30am
END:VEVENT
BEGIN:VEVENT
DTSTART;TZID=America/Toronto:20300227T083000
DTEND;TZID=America/Toronto:20300227T223000
DTSTAMP:20260422T060438
CREATED:20241209T030208Z
LAST-MODIFIED:20251120T142751Z
UID:10003750-1898411400-1898461800@www.niagaragunclub.com
SUMMARY:Wednesday Sporting Clays
DESCRIPTION:First Shoot goes 830 am until 1030 am (roughly 2 hours) \nSecond shoot goes 1030 am until 1230pm (Roughly 2 hours) \nContact Gary to get on the email list- garyiggulden@gmail.com
URL:https://www.niagaragunclub.com/event/wednesday-sporting-clays/2030-02-27/
END:VEVENT
BEGIN:VEVENT
DTSTART;TZID=America/Toronto:20300303T083000
DTEND;TZID=America/Toronto:20300303T213000
DTSTAMP:20260422T060438
CREATED:20241209T025611Z
LAST-MODIFIED:20241209T025613Z
UID:10003441-1898757000-1898803800@www.niagaragunclub.com
SUMMARY:Sporting Clay 8:30am Shoot
DESCRIPTION:1st Shoot.\nRelay 1\nStarts at 8:30am whether good weather or bad.\nContact Gary to get on the mailing list. \n 
URL:https://www.niagaragunclub.com/event/sporting-clay-shoot-5-2-2/2030-03-03/
CATEGORIES:Clay Shoots 8:30am
END:VEVENT
BEGIN:VEVENT
DTSTART;TZID=America/Toronto:20300303T103000
DTEND;TZID=America/Toronto:20300303T113000
DTSTAMP:20260422T060438
CREATED:20240530T154754Z
LAST-MODIFIED:20251120T143038Z
UID:10003828-1898764200-1898767800@www.niagaragunclub.com
SUMMARY:Sporting Clay 10:30am Shoot
DESCRIPTION:2nd Shoot.\nSporting Clays Program – Relay 2\n1030am Start APproximately- depends on how long Relay 1 goes. Typically goes 2 hours . Shoot goes in good or bad weather\nContact Gary to get on the mailing list. Garyiggulden@gmail.com \n 
URL:https://www.niagaragunclub.com/event/sporting-clay-sunday-shoot/2030-03-03/
CATEGORIES:Clay Shoots 10:30am
END:VEVENT
BEGIN:VEVENT
DTSTART;TZID=America/Toronto:20300306T083000
DTEND;TZID=America/Toronto:20300306T223000
DTSTAMP:20260422T060438
CREATED:20241209T030208Z
LAST-MODIFIED:20251120T142751Z
UID:10003751-1899016200-1899066600@www.niagaragunclub.com
SUMMARY:Wednesday Sporting Clays
DESCRIPTION:First Shoot goes 830 am until 1030 am (roughly 2 hours) \nSecond shoot goes 1030 am until 1230pm (Roughly 2 hours) \nContact Gary to get on the email list- garyiggulden@gmail.com
URL:https://www.niagaragunclub.com/event/wednesday-sporting-clays/2030-03-06/
END:VEVENT
BEGIN:VEVENT
DTSTART;TZID=America/Toronto:20300310T083000
DTEND;TZID=America/Toronto:20300310T213000
DTSTAMP:20260422T060438
CREATED:20241209T025611Z
LAST-MODIFIED:20241209T025613Z
UID:10003442-1899361800-1899408600@www.niagaragunclub.com
SUMMARY:Sporting Clay 8:30am Shoot
DESCRIPTION:1st Shoot.\nRelay 1\nStarts at 8:30am whether good weather or bad.\nContact Gary to get on the mailing list. \n 
URL:https://www.niagaragunclub.com/event/sporting-clay-shoot-5-2-2/2030-03-10/
CATEGORIES:Clay Shoots 8:30am
END:VEVENT
BEGIN:VEVENT
DTSTART;TZID=America/Toronto:20300310T103000
DTEND;TZID=America/Toronto:20300310T113000
DTSTAMP:20260422T060438
CREATED:20240530T154754Z
LAST-MODIFIED:20251120T143038Z
UID:10003829-1899369000-1899372600@www.niagaragunclub.com
SUMMARY:Sporting Clay 10:30am Shoot
DESCRIPTION:2nd Shoot.\nSporting Clays Program – Relay 2\n1030am Start APproximately- depends on how long Relay 1 goes. Typically goes 2 hours . Shoot goes in good or bad weather\nContact Gary to get on the mailing list. Garyiggulden@gmail.com \n 
URL:https://www.niagaragunclub.com/event/sporting-clay-sunday-shoot/2030-03-10/
CATEGORIES:Clay Shoots 10:30am
END:VEVENT
BEGIN:VEVENT
DTSTART;TZID=America/Toronto:20300313T083000
DTEND;TZID=America/Toronto:20300313T223000
DTSTAMP:20260422T060438
CREATED:20241209T030208Z
LAST-MODIFIED:20251120T142751Z
UID:10003752-1899621000-1899671400@www.niagaragunclub.com
SUMMARY:Wednesday Sporting Clays
DESCRIPTION:First Shoot goes 830 am until 1030 am (roughly 2 hours) \nSecond shoot goes 1030 am until 1230pm (Roughly 2 hours) \nContact Gary to get on the email list- garyiggulden@gmail.com
URL:https://www.niagaragunclub.com/event/wednesday-sporting-clays/2030-03-13/
END:VEVENT
BEGIN:VEVENT
DTSTART;TZID=America/Toronto:20300317T083000
DTEND;TZID=America/Toronto:20300317T213000
DTSTAMP:20260422T060438
CREATED:20241209T025611Z
LAST-MODIFIED:20241209T025613Z
UID:10003443-1899966600-1900013400@www.niagaragunclub.com
SUMMARY:Sporting Clay 8:30am Shoot
DESCRIPTION:1st Shoot.\nRelay 1\nStarts at 8:30am whether good weather or bad.\nContact Gary to get on the mailing list. \n 
URL:https://www.niagaragunclub.com/event/sporting-clay-shoot-5-2-2/2030-03-17/
CATEGORIES:Clay Shoots 8:30am
END:VEVENT
BEGIN:VEVENT
DTSTART;TZID=America/Toronto:20300317T103000
DTEND;TZID=America/Toronto:20300317T113000
DTSTAMP:20260422T060438
CREATED:20240530T154754Z
LAST-MODIFIED:20251120T143038Z
UID:10003830-1899973800-1899977400@www.niagaragunclub.com
SUMMARY:Sporting Clay 10:30am Shoot
DESCRIPTION:2nd Shoot.\nSporting Clays Program – Relay 2\n1030am Start APproximately- depends on how long Relay 1 goes. Typically goes 2 hours . Shoot goes in good or bad weather\nContact Gary to get on the mailing list. Garyiggulden@gmail.com \n 
URL:https://www.niagaragunclub.com/event/sporting-clay-sunday-shoot/2030-03-17/
CATEGORIES:Clay Shoots 10:30am
END:VEVENT
BEGIN:VEVENT
DTSTART;TZID=America/Toronto:20300320T083000
DTEND;TZID=America/Toronto:20300320T223000
DTSTAMP:20260422T060438
CREATED:20241209T030208Z
LAST-MODIFIED:20251120T142751Z
UID:10003753-1900225800-1900276200@www.niagaragunclub.com
SUMMARY:Wednesday Sporting Clays
DESCRIPTION:First Shoot goes 830 am until 1030 am (roughly 2 hours) \nSecond shoot goes 1030 am until 1230pm (Roughly 2 hours) \nContact Gary to get on the email list- garyiggulden@gmail.com
URL:https://www.niagaragunclub.com/event/wednesday-sporting-clays/2030-03-20/
END:VEVENT
BEGIN:VEVENT
DTSTART;TZID=America/Toronto:20300324T083000
DTEND;TZID=America/Toronto:20300324T213000
DTSTAMP:20260422T060438
CREATED:20241209T025611Z
LAST-MODIFIED:20241209T025613Z
UID:10003444-1900571400-1900618200@www.niagaragunclub.com
SUMMARY:Sporting Clay 8:30am Shoot
DESCRIPTION:1st Shoot.\nRelay 1\nStarts at 8:30am whether good weather or bad.\nContact Gary to get on the mailing list. \n 
URL:https://www.niagaragunclub.com/event/sporting-clay-shoot-5-2-2/2030-03-24/
CATEGORIES:Clay Shoots 8:30am
END:VEVENT
BEGIN:VEVENT
DTSTART;TZID=America/Toronto:20300324T103000
DTEND;TZID=America/Toronto:20300324T113000
DTSTAMP:20260422T060438
CREATED:20240530T154754Z
LAST-MODIFIED:20251120T143038Z
UID:10003831-1900578600-1900582200@www.niagaragunclub.com
SUMMARY:Sporting Clay 10:30am Shoot
DESCRIPTION:2nd Shoot.\nSporting Clays Program – Relay 2\n1030am Start APproximately- depends on how long Relay 1 goes. Typically goes 2 hours . Shoot goes in good or bad weather\nContact Gary to get on the mailing list. Garyiggulden@gmail.com \n 
URL:https://www.niagaragunclub.com/event/sporting-clay-sunday-shoot/2030-03-24/
CATEGORIES:Clay Shoots 10:30am
END:VEVENT
BEGIN:VEVENT
DTSTART;TZID=America/Toronto:20300327T083000
DTEND;TZID=America/Toronto:20300327T223000
DTSTAMP:20260422T060438
CREATED:20241209T030208Z
LAST-MODIFIED:20251120T142751Z
UID:10003754-1900830600-1900881000@www.niagaragunclub.com
SUMMARY:Wednesday Sporting Clays
DESCRIPTION:First Shoot goes 830 am until 1030 am (roughly 2 hours) \nSecond shoot goes 1030 am until 1230pm (Roughly 2 hours) \nContact Gary to get on the email list- garyiggulden@gmail.com
URL:https://www.niagaragunclub.com/event/wednesday-sporting-clays/2030-03-27/
END:VEVENT
BEGIN:VEVENT
DTSTART;TZID=America/Toronto:20300331T083000
DTEND;TZID=America/Toronto:20300331T213000
DTSTAMP:20260422T060438
CREATED:20241209T025611Z
LAST-MODIFIED:20241209T025613Z
UID:10003445-1901176200-1901223000@www.niagaragunclub.com
SUMMARY:Sporting Clay 8:30am Shoot
DESCRIPTION:1st Shoot.\nRelay 1\nStarts at 8:30am whether good weather or bad.\nContact Gary to get on the mailing list. \n 
URL:https://www.niagaragunclub.com/event/sporting-clay-shoot-5-2-2/2030-03-31/
CATEGORIES:Clay Shoots 8:30am
END:VEVENT
BEGIN:VEVENT
DTSTART;TZID=America/Toronto:20300331T103000
DTEND;TZID=America/Toronto:20300331T113000
DTSTAMP:20260422T060438
CREATED:20240530T154754Z
LAST-MODIFIED:20251120T143038Z
UID:10003832-1901183400-1901187000@www.niagaragunclub.com
SUMMARY:Sporting Clay 10:30am Shoot
DESCRIPTION:2nd Shoot.\nSporting Clays Program – Relay 2\n1030am Start APproximately- depends on how long Relay 1 goes. Typically goes 2 hours . Shoot goes in good or bad weather\nContact Gary to get on the mailing list. Garyiggulden@gmail.com \n 
URL:https://www.niagaragunclub.com/event/sporting-clay-sunday-shoot/2030-03-31/
CATEGORIES:Clay Shoots 10:30am
END:VEVENT
BEGIN:VEVENT
DTSTART;TZID=America/Toronto:20300403T083000
DTEND;TZID=America/Toronto:20300403T223000
DTSTAMP:20260422T060438
CREATED:20241209T030208Z
LAST-MODIFIED:20251120T142751Z
UID:10003755-1901435400-1901485800@www.niagaragunclub.com
SUMMARY:Wednesday Sporting Clays
DESCRIPTION:First Shoot goes 830 am until 1030 am (roughly 2 hours) \nSecond shoot goes 1030 am until 1230pm (Roughly 2 hours) \nContact Gary to get on the email list- garyiggulden@gmail.com
URL:https://www.niagaragunclub.com/event/wednesday-sporting-clays/2030-04-03/
END:VEVENT
END:VCALENDAR