BEGIN:VCALENDAR
VERSION:2.0
PRODID:-//Niagara Regional Sportsmen&#039;s Gun Club - ECPv6.15.20//NONSGML v1.0//EN
CALSCALE:GREGORIAN
METHOD:PUBLISH
X-ORIGINAL-URL:https://www.niagaragunclub.com
X-WR-CALDESC:Events for Niagara Regional Sportsmen&#039;s Gun Club
REFRESH-INTERVAL;VALUE=DURATION:PT1H
X-Robots-Tag:noindex
X-PUBLISHED-TTL:PT1H
BEGIN:VTIMEZONE
TZID:America/Toronto
BEGIN:DAYLIGHT
TZOFFSETFROM:-0500
TZOFFSETTO:-0400
TZNAME:EDT
DTSTART:20280312T070000
END:DAYLIGHT
BEGIN:STANDARD
TZOFFSETFROM:-0400
TZOFFSETTO:-0500
TZNAME:EST
DTSTART:20281105T060000
END:STANDARD
BEGIN:DAYLIGHT
TZOFFSETFROM:-0500
TZOFFSETTO:-0400
TZNAME:EDT
DTSTART:20290311T070000
END:DAYLIGHT
BEGIN:STANDARD
TZOFFSETFROM:-0400
TZOFFSETTO:-0500
TZNAME:EST
DTSTART:20291104T060000
END:STANDARD
BEGIN:DAYLIGHT
TZOFFSETFROM:-0500
TZOFFSETTO:-0400
TZNAME:EDT
DTSTART:20300310T070000
END:DAYLIGHT
BEGIN:STANDARD
TZOFFSETFROM:-0400
TZOFFSETTO:-0500
TZNAME:EST
DTSTART:20301103T060000
END:STANDARD
BEGIN:DAYLIGHT
TZOFFSETFROM:-0500
TZOFFSETTO:-0400
TZNAME:EDT
DTSTART:20310309T070000
END:DAYLIGHT
BEGIN:STANDARD
TZOFFSETFROM:-0400
TZOFFSETTO:-0500
TZNAME:EST
DTSTART:20311102T060000
END:STANDARD
END:VTIMEZONE
BEGIN:VEVENT
DTSTART;TZID=America/Toronto:20291202T083000
DTEND;TZID=America/Toronto:20291202T213000
DTSTAMP:20260422T042926
CREATED:20241209T025611Z
LAST-MODIFIED:20241209T025613Z
UID:10002553-1890894600-1890941400@www.niagaragunclub.com
SUMMARY:Sporting Clay 8:30am Shoot
DESCRIPTION:1st Shoot.\nRelay 1\nStarts at 8:30am whether good weather or bad.\nContact Gary to get on the mailing list. \n 
URL:https://www.niagaragunclub.com/event/sporting-clay-shoot-5-2-2/2029-12-02/
CATEGORIES:Clay Shoots 8:30am
END:VEVENT
BEGIN:VEVENT
DTSTART;TZID=America/Toronto:20291202T103000
DTEND;TZID=America/Toronto:20291202T113000
DTSTAMP:20260422T042926
CREATED:20240530T154754Z
LAST-MODIFIED:20251120T143038Z
UID:10003815-1890901800-1890905400@www.niagaragunclub.com
SUMMARY:Sporting Clay 10:30am Shoot
DESCRIPTION:2nd Shoot.\nSporting Clays Program – Relay 2\n1030am Start APproximately- depends on how long Relay 1 goes. Typically goes 2 hours . Shoot goes in good or bad weather\nContact Gary to get on the mailing list. Garyiggulden@gmail.com \n 
URL:https://www.niagaragunclub.com/event/sporting-clay-sunday-shoot/2029-12-02/
CATEGORIES:Clay Shoots 10:30am
END:VEVENT
BEGIN:VEVENT
DTSTART;TZID=America/Toronto:20291205T083000
DTEND;TZID=America/Toronto:20291205T223000
DTSTAMP:20260422T042926
CREATED:20241209T030208Z
LAST-MODIFIED:20251120T142751Z
UID:10002814-1891153800-1891204200@www.niagaragunclub.com
SUMMARY:Wednesday Sporting Clays
DESCRIPTION:First Shoot goes 830 am until 1030 am (roughly 2 hours) \nSecond shoot goes 1030 am until 1230pm (Roughly 2 hours) \nContact Gary to get on the email list- garyiggulden@gmail.com
URL:https://www.niagaragunclub.com/event/wednesday-sporting-clays/2029-12-05/
END:VEVENT
BEGIN:VEVENT
DTSTART;TZID=America/Toronto:20291209T083000
DTEND;TZID=America/Toronto:20291209T213000
DTSTAMP:20260422T042926
CREATED:20241209T025611Z
LAST-MODIFIED:20241209T025613Z
UID:10003429-1891499400-1891546200@www.niagaragunclub.com
SUMMARY:Sporting Clay 8:30am Shoot
DESCRIPTION:1st Shoot.\nRelay 1\nStarts at 8:30am whether good weather or bad.\nContact Gary to get on the mailing list. \n 
URL:https://www.niagaragunclub.com/event/sporting-clay-shoot-5-2-2/2029-12-09/
CATEGORIES:Clay Shoots 8:30am
END:VEVENT
BEGIN:VEVENT
DTSTART;TZID=America/Toronto:20291209T103000
DTEND;TZID=America/Toronto:20291209T113000
DTSTAMP:20260422T042926
CREATED:20240530T154754Z
LAST-MODIFIED:20251120T143038Z
UID:10003816-1891506600-1891510200@www.niagaragunclub.com
SUMMARY:Sporting Clay 10:30am Shoot
DESCRIPTION:2nd Shoot.\nSporting Clays Program – Relay 2\n1030am Start APproximately- depends on how long Relay 1 goes. Typically goes 2 hours . Shoot goes in good or bad weather\nContact Gary to get on the mailing list. Garyiggulden@gmail.com \n 
URL:https://www.niagaragunclub.com/event/sporting-clay-sunday-shoot/2029-12-09/
CATEGORIES:Clay Shoots 10:30am
END:VEVENT
BEGIN:VEVENT
DTSTART;TZID=America/Toronto:20291212T083000
DTEND;TZID=America/Toronto:20291212T223000
DTSTAMP:20260422T042926
CREATED:20241209T030208Z
LAST-MODIFIED:20251120T142751Z
UID:10003739-1891758600-1891809000@www.niagaragunclub.com
SUMMARY:Wednesday Sporting Clays
DESCRIPTION:First Shoot goes 830 am until 1030 am (roughly 2 hours) \nSecond shoot goes 1030 am until 1230pm (Roughly 2 hours) \nContact Gary to get on the email list- garyiggulden@gmail.com
URL:https://www.niagaragunclub.com/event/wednesday-sporting-clays/2029-12-12/
END:VEVENT
BEGIN:VEVENT
DTSTART;TZID=America/Toronto:20291216T083000
DTEND;TZID=America/Toronto:20291216T213000
DTSTAMP:20260422T042926
CREATED:20241209T025611Z
LAST-MODIFIED:20241209T025613Z
UID:10003430-1892104200-1892151000@www.niagaragunclub.com
SUMMARY:Sporting Clay 8:30am Shoot
DESCRIPTION:1st Shoot.\nRelay 1\nStarts at 8:30am whether good weather or bad.\nContact Gary to get on the mailing list. \n 
URL:https://www.niagaragunclub.com/event/sporting-clay-shoot-5-2-2/2029-12-16/
CATEGORIES:Clay Shoots 8:30am
END:VEVENT
BEGIN:VEVENT
DTSTART;TZID=America/Toronto:20291216T103000
DTEND;TZID=America/Toronto:20291216T113000
DTSTAMP:20260422T042926
CREATED:20240530T154754Z
LAST-MODIFIED:20251120T143038Z
UID:10003817-1892111400-1892115000@www.niagaragunclub.com
SUMMARY:Sporting Clay 10:30am Shoot
DESCRIPTION:2nd Shoot.\nSporting Clays Program – Relay 2\n1030am Start APproximately- depends on how long Relay 1 goes. Typically goes 2 hours . Shoot goes in good or bad weather\nContact Gary to get on the mailing list. Garyiggulden@gmail.com \n 
URL:https://www.niagaragunclub.com/event/sporting-clay-sunday-shoot/2029-12-16/
CATEGORIES:Clay Shoots 10:30am
END:VEVENT
BEGIN:VEVENT
DTSTART;TZID=America/Toronto:20291219T083000
DTEND;TZID=America/Toronto:20291219T223000
DTSTAMP:20260422T042926
CREATED:20241209T030208Z
LAST-MODIFIED:20251120T142751Z
UID:10003740-1892363400-1892413800@www.niagaragunclub.com
SUMMARY:Wednesday Sporting Clays
DESCRIPTION:First Shoot goes 830 am until 1030 am (roughly 2 hours) \nSecond shoot goes 1030 am until 1230pm (Roughly 2 hours) \nContact Gary to get on the email list- garyiggulden@gmail.com
URL:https://www.niagaragunclub.com/event/wednesday-sporting-clays/2029-12-19/
END:VEVENT
BEGIN:VEVENT
DTSTART;TZID=America/Toronto:20291223T083000
DTEND;TZID=America/Toronto:20291223T213000
DTSTAMP:20260422T042926
CREATED:20241209T025611Z
LAST-MODIFIED:20241209T025613Z
UID:10003431-1892709000-1892755800@www.niagaragunclub.com
SUMMARY:Sporting Clay 8:30am Shoot
DESCRIPTION:1st Shoot.\nRelay 1\nStarts at 8:30am whether good weather or bad.\nContact Gary to get on the mailing list. \n 
URL:https://www.niagaragunclub.com/event/sporting-clay-shoot-5-2-2/2029-12-23/
CATEGORIES:Clay Shoots 8:30am
END:VEVENT
BEGIN:VEVENT
DTSTART;TZID=America/Toronto:20291223T103000
DTEND;TZID=America/Toronto:20291223T113000
DTSTAMP:20260422T042926
CREATED:20240530T154754Z
LAST-MODIFIED:20251120T143038Z
UID:10003818-1892716200-1892719800@www.niagaragunclub.com
SUMMARY:Sporting Clay 10:30am Shoot
DESCRIPTION:2nd Shoot.\nSporting Clays Program – Relay 2\n1030am Start APproximately- depends on how long Relay 1 goes. Typically goes 2 hours . Shoot goes in good or bad weather\nContact Gary to get on the mailing list. Garyiggulden@gmail.com \n 
URL:https://www.niagaragunclub.com/event/sporting-clay-sunday-shoot/2029-12-23/
CATEGORIES:Clay Shoots 10:30am
END:VEVENT
BEGIN:VEVENT
DTSTART;TZID=America/Toronto:20291226T083000
DTEND;TZID=America/Toronto:20291226T223000
DTSTAMP:20260422T042926
CREATED:20241209T030208Z
LAST-MODIFIED:20251120T142751Z
UID:10003741-1892968200-1893018600@www.niagaragunclub.com
SUMMARY:Wednesday Sporting Clays
DESCRIPTION:First Shoot goes 830 am until 1030 am (roughly 2 hours) \nSecond shoot goes 1030 am until 1230pm (Roughly 2 hours) \nContact Gary to get on the email list- garyiggulden@gmail.com
URL:https://www.niagaragunclub.com/event/wednesday-sporting-clays/2029-12-26/
END:VEVENT
BEGIN:VEVENT
DTSTART;TZID=America/Toronto:20291230T083000
DTEND;TZID=America/Toronto:20291230T213000
DTSTAMP:20260422T042926
CREATED:20241209T025611Z
LAST-MODIFIED:20241209T025613Z
UID:10003432-1893313800-1893360600@www.niagaragunclub.com
SUMMARY:Sporting Clay 8:30am Shoot
DESCRIPTION:1st Shoot.\nRelay 1\nStarts at 8:30am whether good weather or bad.\nContact Gary to get on the mailing list. \n 
URL:https://www.niagaragunclub.com/event/sporting-clay-shoot-5-2-2/2029-12-30/
CATEGORIES:Clay Shoots 8:30am
END:VEVENT
BEGIN:VEVENT
DTSTART;TZID=America/Toronto:20291230T103000
DTEND;TZID=America/Toronto:20291230T113000
DTSTAMP:20260422T042926
CREATED:20240530T154754Z
LAST-MODIFIED:20251120T143038Z
UID:10003819-1893321000-1893324600@www.niagaragunclub.com
SUMMARY:Sporting Clay 10:30am Shoot
DESCRIPTION:2nd Shoot.\nSporting Clays Program – Relay 2\n1030am Start APproximately- depends on how long Relay 1 goes. Typically goes 2 hours . Shoot goes in good or bad weather\nContact Gary to get on the mailing list. Garyiggulden@gmail.com \n 
URL:https://www.niagaragunclub.com/event/sporting-clay-sunday-shoot/2029-12-30/
CATEGORIES:Clay Shoots 10:30am
END:VEVENT
BEGIN:VEVENT
DTSTART;TZID=America/Toronto:20300102T083000
DTEND;TZID=America/Toronto:20300102T223000
DTSTAMP:20260422T042926
CREATED:20241209T030208Z
LAST-MODIFIED:20251120T142751Z
UID:10003742-1893573000-1893623400@www.niagaragunclub.com
SUMMARY:Wednesday Sporting Clays
DESCRIPTION:First Shoot goes 830 am until 1030 am (roughly 2 hours) \nSecond shoot goes 1030 am until 1230pm (Roughly 2 hours) \nContact Gary to get on the email list- garyiggulden@gmail.com
URL:https://www.niagaragunclub.com/event/wednesday-sporting-clays/2030-01-02/
END:VEVENT
BEGIN:VEVENT
DTSTART;TZID=America/Toronto:20300106T083000
DTEND;TZID=America/Toronto:20300106T213000
DTSTAMP:20260422T042926
CREATED:20241209T025611Z
LAST-MODIFIED:20241209T025613Z
UID:10003433-1893918600-1893965400@www.niagaragunclub.com
SUMMARY:Sporting Clay 8:30am Shoot
DESCRIPTION:1st Shoot.\nRelay 1\nStarts at 8:30am whether good weather or bad.\nContact Gary to get on the mailing list. \n 
URL:https://www.niagaragunclub.com/event/sporting-clay-shoot-5-2-2/2030-01-06/
CATEGORIES:Clay Shoots 8:30am
END:VEVENT
BEGIN:VEVENT
DTSTART;TZID=America/Toronto:20300106T103000
DTEND;TZID=America/Toronto:20300106T113000
DTSTAMP:20260422T042926
CREATED:20240530T154754Z
LAST-MODIFIED:20251120T143038Z
UID:10003820-1893925800-1893929400@www.niagaragunclub.com
SUMMARY:Sporting Clay 10:30am Shoot
DESCRIPTION:2nd Shoot.\nSporting Clays Program – Relay 2\n1030am Start APproximately- depends on how long Relay 1 goes. Typically goes 2 hours . Shoot goes in good or bad weather\nContact Gary to get on the mailing list. Garyiggulden@gmail.com \n 
URL:https://www.niagaragunclub.com/event/sporting-clay-sunday-shoot/2030-01-06/
CATEGORIES:Clay Shoots 10:30am
END:VEVENT
BEGIN:VEVENT
DTSTART;TZID=America/Toronto:20300109T083000
DTEND;TZID=America/Toronto:20300109T223000
DTSTAMP:20260422T042926
CREATED:20241209T030208Z
LAST-MODIFIED:20251120T142751Z
UID:10003743-1894177800-1894228200@www.niagaragunclub.com
SUMMARY:Wednesday Sporting Clays
DESCRIPTION:First Shoot goes 830 am until 1030 am (roughly 2 hours) \nSecond shoot goes 1030 am until 1230pm (Roughly 2 hours) \nContact Gary to get on the email list- garyiggulden@gmail.com
URL:https://www.niagaragunclub.com/event/wednesday-sporting-clays/2030-01-09/
END:VEVENT
BEGIN:VEVENT
DTSTART;TZID=America/Toronto:20300113T083000
DTEND;TZID=America/Toronto:20300113T213000
DTSTAMP:20260422T042926
CREATED:20241209T025611Z
LAST-MODIFIED:20241209T025613Z
UID:10003434-1894523400-1894570200@www.niagaragunclub.com
SUMMARY:Sporting Clay 8:30am Shoot
DESCRIPTION:1st Shoot.\nRelay 1\nStarts at 8:30am whether good weather or bad.\nContact Gary to get on the mailing list. \n 
URL:https://www.niagaragunclub.com/event/sporting-clay-shoot-5-2-2/2030-01-13/
CATEGORIES:Clay Shoots 8:30am
END:VEVENT
BEGIN:VEVENT
DTSTART;TZID=America/Toronto:20300113T103000
DTEND;TZID=America/Toronto:20300113T113000
DTSTAMP:20260422T042926
CREATED:20240530T154754Z
LAST-MODIFIED:20251120T143038Z
UID:10003821-1894530600-1894534200@www.niagaragunclub.com
SUMMARY:Sporting Clay 10:30am Shoot
DESCRIPTION:2nd Shoot.\nSporting Clays Program – Relay 2\n1030am Start APproximately- depends on how long Relay 1 goes. Typically goes 2 hours . Shoot goes in good or bad weather\nContact Gary to get on the mailing list. Garyiggulden@gmail.com \n 
URL:https://www.niagaragunclub.com/event/sporting-clay-sunday-shoot/2030-01-13/
CATEGORIES:Clay Shoots 10:30am
END:VEVENT
BEGIN:VEVENT
DTSTART;TZID=America/Toronto:20300116T083000
DTEND;TZID=America/Toronto:20300116T223000
DTSTAMP:20260422T042926
CREATED:20241209T030208Z
LAST-MODIFIED:20251120T142751Z
UID:10003744-1894782600-1894833000@www.niagaragunclub.com
SUMMARY:Wednesday Sporting Clays
DESCRIPTION:First Shoot goes 830 am until 1030 am (roughly 2 hours) \nSecond shoot goes 1030 am until 1230pm (Roughly 2 hours) \nContact Gary to get on the email list- garyiggulden@gmail.com
URL:https://www.niagaragunclub.com/event/wednesday-sporting-clays/2030-01-16/
END:VEVENT
BEGIN:VEVENT
DTSTART;TZID=America/Toronto:20300120T083000
DTEND;TZID=America/Toronto:20300120T213000
DTSTAMP:20260422T042926
CREATED:20241209T025611Z
LAST-MODIFIED:20241209T025613Z
UID:10003435-1895128200-1895175000@www.niagaragunclub.com
SUMMARY:Sporting Clay 8:30am Shoot
DESCRIPTION:1st Shoot.\nRelay 1\nStarts at 8:30am whether good weather or bad.\nContact Gary to get on the mailing list. \n 
URL:https://www.niagaragunclub.com/event/sporting-clay-shoot-5-2-2/2030-01-20/
CATEGORIES:Clay Shoots 8:30am
END:VEVENT
BEGIN:VEVENT
DTSTART;TZID=America/Toronto:20300120T103000
DTEND;TZID=America/Toronto:20300120T113000
DTSTAMP:20260422T042926
CREATED:20240530T154754Z
LAST-MODIFIED:20251120T143038Z
UID:10003822-1895135400-1895139000@www.niagaragunclub.com
SUMMARY:Sporting Clay 10:30am Shoot
DESCRIPTION:2nd Shoot.\nSporting Clays Program – Relay 2\n1030am Start APproximately- depends on how long Relay 1 goes. Typically goes 2 hours . Shoot goes in good or bad weather\nContact Gary to get on the mailing list. Garyiggulden@gmail.com \n 
URL:https://www.niagaragunclub.com/event/sporting-clay-sunday-shoot/2030-01-20/
CATEGORIES:Clay Shoots 10:30am
END:VEVENT
BEGIN:VEVENT
DTSTART;TZID=America/Toronto:20300123T083000
DTEND;TZID=America/Toronto:20300123T223000
DTSTAMP:20260422T042926
CREATED:20241209T030208Z
LAST-MODIFIED:20251120T142751Z
UID:10003745-1895387400-1895437800@www.niagaragunclub.com
SUMMARY:Wednesday Sporting Clays
DESCRIPTION:First Shoot goes 830 am until 1030 am (roughly 2 hours) \nSecond shoot goes 1030 am until 1230pm (Roughly 2 hours) \nContact Gary to get on the email list- garyiggulden@gmail.com
URL:https://www.niagaragunclub.com/event/wednesday-sporting-clays/2030-01-23/
END:VEVENT
BEGIN:VEVENT
DTSTART;TZID=America/Toronto:20300127T083000
DTEND;TZID=America/Toronto:20300127T213000
DTSTAMP:20260422T042926
CREATED:20241209T025611Z
LAST-MODIFIED:20241209T025613Z
UID:10003436-1895733000-1895779800@www.niagaragunclub.com
SUMMARY:Sporting Clay 8:30am Shoot
DESCRIPTION:1st Shoot.\nRelay 1\nStarts at 8:30am whether good weather or bad.\nContact Gary to get on the mailing list. \n 
URL:https://www.niagaragunclub.com/event/sporting-clay-shoot-5-2-2/2030-01-27/
CATEGORIES:Clay Shoots 8:30am
END:VEVENT
BEGIN:VEVENT
DTSTART;TZID=America/Toronto:20300127T103000
DTEND;TZID=America/Toronto:20300127T113000
DTSTAMP:20260422T042926
CREATED:20240530T154754Z
LAST-MODIFIED:20251120T143038Z
UID:10003823-1895740200-1895743800@www.niagaragunclub.com
SUMMARY:Sporting Clay 10:30am Shoot
DESCRIPTION:2nd Shoot.\nSporting Clays Program – Relay 2\n1030am Start APproximately- depends on how long Relay 1 goes. Typically goes 2 hours . Shoot goes in good or bad weather\nContact Gary to get on the mailing list. Garyiggulden@gmail.com \n 
URL:https://www.niagaragunclub.com/event/sporting-clay-sunday-shoot/2030-01-27/
CATEGORIES:Clay Shoots 10:30am
END:VEVENT
BEGIN:VEVENT
DTSTART;TZID=America/Toronto:20300130T083000
DTEND;TZID=America/Toronto:20300130T223000
DTSTAMP:20260422T042926
CREATED:20241209T030208Z
LAST-MODIFIED:20251120T142751Z
UID:10003746-1895992200-1896042600@www.niagaragunclub.com
SUMMARY:Wednesday Sporting Clays
DESCRIPTION:First Shoot goes 830 am until 1030 am (roughly 2 hours) \nSecond shoot goes 1030 am until 1230pm (Roughly 2 hours) \nContact Gary to get on the email list- garyiggulden@gmail.com
URL:https://www.niagaragunclub.com/event/wednesday-sporting-clays/2030-01-30/
END:VEVENT
BEGIN:VEVENT
DTSTART;TZID=America/Toronto:20300203T083000
DTEND;TZID=America/Toronto:20300203T213000
DTSTAMP:20260422T042926
CREATED:20241209T025611Z
LAST-MODIFIED:20241209T025613Z
UID:10003437-1896337800-1896384600@www.niagaragunclub.com
SUMMARY:Sporting Clay 8:30am Shoot
DESCRIPTION:1st Shoot.\nRelay 1\nStarts at 8:30am whether good weather or bad.\nContact Gary to get on the mailing list. \n 
URL:https://www.niagaragunclub.com/event/sporting-clay-shoot-5-2-2/2030-02-03/
CATEGORIES:Clay Shoots 8:30am
END:VEVENT
BEGIN:VEVENT
DTSTART;TZID=America/Toronto:20300203T103000
DTEND;TZID=America/Toronto:20300203T113000
DTSTAMP:20260422T042926
CREATED:20240530T154754Z
LAST-MODIFIED:20251120T143038Z
UID:10003824-1896345000-1896348600@www.niagaragunclub.com
SUMMARY:Sporting Clay 10:30am Shoot
DESCRIPTION:2nd Shoot.\nSporting Clays Program – Relay 2\n1030am Start APproximately- depends on how long Relay 1 goes. Typically goes 2 hours . Shoot goes in good or bad weather\nContact Gary to get on the mailing list. Garyiggulden@gmail.com \n 
URL:https://www.niagaragunclub.com/event/sporting-clay-sunday-shoot/2030-02-03/
CATEGORIES:Clay Shoots 10:30am
END:VEVENT
BEGIN:VEVENT
DTSTART;TZID=America/Toronto:20300206T083000
DTEND;TZID=America/Toronto:20300206T223000
DTSTAMP:20260422T042926
CREATED:20241209T030208Z
LAST-MODIFIED:20251120T142751Z
UID:10003747-1896597000-1896647400@www.niagaragunclub.com
SUMMARY:Wednesday Sporting Clays
DESCRIPTION:First Shoot goes 830 am until 1030 am (roughly 2 hours) \nSecond shoot goes 1030 am until 1230pm (Roughly 2 hours) \nContact Gary to get on the email list- garyiggulden@gmail.com
URL:https://www.niagaragunclub.com/event/wednesday-sporting-clays/2030-02-06/
END:VEVENT
END:VCALENDAR