BEGIN:VCALENDAR
VERSION:2.0
PRODID:-//Niagara Regional Sportsmen&#039;s Gun Club - ECPv6.15.20//NONSGML v1.0//EN
CALSCALE:GREGORIAN
METHOD:PUBLISH
X-WR-CALNAME:Niagara Regional Sportsmen&#039;s Gun Club
X-ORIGINAL-URL:https://www.niagaragunclub.com
X-WR-CALDESC:Events for Niagara Regional Sportsmen&#039;s Gun Club
REFRESH-INTERVAL;VALUE=DURATION:PT1H
X-Robots-Tag:noindex
X-PUBLISHED-TTL:PT1H
BEGIN:VTIMEZONE
TZID:America/Toronto
BEGIN:DAYLIGHT
TZOFFSETFROM:-0500
TZOFFSETTO:-0400
TZNAME:EDT
DTSTART:20280312T070000
END:DAYLIGHT
BEGIN:STANDARD
TZOFFSETFROM:-0400
TZOFFSETTO:-0500
TZNAME:EST
DTSTART:20281105T060000
END:STANDARD
BEGIN:DAYLIGHT
TZOFFSETFROM:-0500
TZOFFSETTO:-0400
TZNAME:EDT
DTSTART:20290311T070000
END:DAYLIGHT
BEGIN:STANDARD
TZOFFSETFROM:-0400
TZOFFSETTO:-0500
TZNAME:EST
DTSTART:20291104T060000
END:STANDARD
BEGIN:DAYLIGHT
TZOFFSETFROM:-0500
TZOFFSETTO:-0400
TZNAME:EDT
DTSTART:20300310T070000
END:DAYLIGHT
BEGIN:STANDARD
TZOFFSETFROM:-0400
TZOFFSETTO:-0500
TZNAME:EST
DTSTART:20301103T060000
END:STANDARD
END:VTIMEZONE
BEGIN:VEVENT
DTSTART;TZID=America/Toronto:20290812T103000
DTEND;TZID=America/Toronto:20290812T113000
DTSTAMP:20260420T020734
CREATED:20240530T154754Z
LAST-MODIFIED:20251120T143038Z
UID:10003799-1881225000-1881228600@www.niagaragunclub.com
SUMMARY:Sporting Clay 10:30am Shoot
DESCRIPTION:2nd Shoot.\nSporting Clays Program – Relay 2\n1030am Start APproximately- depends on how long Relay 1 goes. Typically goes 2 hours . Shoot goes in good or bad weather\nContact Gary to get on the mailing list. Garyiggulden@gmail.com \n 
URL:https://www.niagaragunclub.com/event/sporting-clay-sunday-shoot/2029-08-12/
CATEGORIES:Clay Shoots 10:30am
END:VEVENT
BEGIN:VEVENT
DTSTART;TZID=America/Toronto:20290815T083000
DTEND;TZID=America/Toronto:20290815T223000
DTSTAMP:20260420T020734
CREATED:20241209T030208Z
LAST-MODIFIED:20251120T142751Z
UID:10002798-1881477000-1881527400@www.niagaragunclub.com
SUMMARY:Wednesday Sporting Clays
DESCRIPTION:First Shoot goes 830 am until 1030 am (roughly 2 hours) \nSecond shoot goes 1030 am until 1230pm (Roughly 2 hours) \nContact Gary to get on the email list- garyiggulden@gmail.com
URL:https://www.niagaragunclub.com/event/wednesday-sporting-clays/2029-08-15/
END:VEVENT
BEGIN:VEVENT
DTSTART;TZID=America/Toronto:20290819T083000
DTEND;TZID=America/Toronto:20290819T213000
DTSTAMP:20260420T020734
CREATED:20241209T025611Z
LAST-MODIFIED:20241209T025613Z
UID:10002538-1881822600-1881869400@www.niagaragunclub.com
SUMMARY:Sporting Clay 8:30am Shoot
DESCRIPTION:1st Shoot.\nRelay 1\nStarts at 8:30am whether good weather or bad.\nContact Gary to get on the mailing list. \n 
URL:https://www.niagaragunclub.com/event/sporting-clay-shoot-5-2-2/2029-08-19/
CATEGORIES:Clay Shoots 8:30am
END:VEVENT
BEGIN:VEVENT
DTSTART;TZID=America/Toronto:20290819T103000
DTEND;TZID=America/Toronto:20290819T113000
DTSTAMP:20260420T020734
CREATED:20240530T154754Z
LAST-MODIFIED:20251120T143038Z
UID:10003800-1881829800-1881833400@www.niagaragunclub.com
SUMMARY:Sporting Clay 10:30am Shoot
DESCRIPTION:2nd Shoot.\nSporting Clays Program – Relay 2\n1030am Start APproximately- depends on how long Relay 1 goes. Typically goes 2 hours . Shoot goes in good or bad weather\nContact Gary to get on the mailing list. Garyiggulden@gmail.com \n 
URL:https://www.niagaragunclub.com/event/sporting-clay-sunday-shoot/2029-08-19/
CATEGORIES:Clay Shoots 10:30am
END:VEVENT
BEGIN:VEVENT
DTSTART;TZID=America/Toronto:20290822T083000
DTEND;TZID=America/Toronto:20290822T223000
DTSTAMP:20260420T020734
CREATED:20241209T030208Z
LAST-MODIFIED:20251120T142751Z
UID:10002799-1882081800-1882132200@www.niagaragunclub.com
SUMMARY:Wednesday Sporting Clays
DESCRIPTION:First Shoot goes 830 am until 1030 am (roughly 2 hours) \nSecond shoot goes 1030 am until 1230pm (Roughly 2 hours) \nContact Gary to get on the email list- garyiggulden@gmail.com
URL:https://www.niagaragunclub.com/event/wednesday-sporting-clays/2029-08-22/
END:VEVENT
BEGIN:VEVENT
DTSTART;TZID=America/Toronto:20290826T083000
DTEND;TZID=America/Toronto:20290826T213000
DTSTAMP:20260420T020734
CREATED:20241209T025611Z
LAST-MODIFIED:20241209T025613Z
UID:10002539-1882427400-1882474200@www.niagaragunclub.com
SUMMARY:Sporting Clay 8:30am Shoot
DESCRIPTION:1st Shoot.\nRelay 1\nStarts at 8:30am whether good weather or bad.\nContact Gary to get on the mailing list. \n 
URL:https://www.niagaragunclub.com/event/sporting-clay-shoot-5-2-2/2029-08-26/
CATEGORIES:Clay Shoots 8:30am
END:VEVENT
BEGIN:VEVENT
DTSTART;TZID=America/Toronto:20290826T103000
DTEND;TZID=America/Toronto:20290826T113000
DTSTAMP:20260420T020734
CREATED:20240530T154754Z
LAST-MODIFIED:20251120T143038Z
UID:10003801-1882434600-1882438200@www.niagaragunclub.com
SUMMARY:Sporting Clay 10:30am Shoot
DESCRIPTION:2nd Shoot.\nSporting Clays Program – Relay 2\n1030am Start APproximately- depends on how long Relay 1 goes. Typically goes 2 hours . Shoot goes in good or bad weather\nContact Gary to get on the mailing list. Garyiggulden@gmail.com \n 
URL:https://www.niagaragunclub.com/event/sporting-clay-sunday-shoot/2029-08-26/
CATEGORIES:Clay Shoots 10:30am
END:VEVENT
BEGIN:VEVENT
DTSTART;TZID=America/Toronto:20290829T083000
DTEND;TZID=America/Toronto:20290829T223000
DTSTAMP:20260420T020734
CREATED:20241209T030208Z
LAST-MODIFIED:20251120T142751Z
UID:10002800-1882686600-1882737000@www.niagaragunclub.com
SUMMARY:Wednesday Sporting Clays
DESCRIPTION:First Shoot goes 830 am until 1030 am (roughly 2 hours) \nSecond shoot goes 1030 am until 1230pm (Roughly 2 hours) \nContact Gary to get on the email list- garyiggulden@gmail.com
URL:https://www.niagaragunclub.com/event/wednesday-sporting-clays/2029-08-29/
END:VEVENT
BEGIN:VEVENT
DTSTART;TZID=America/Toronto:20290902T083000
DTEND;TZID=America/Toronto:20290902T213000
DTSTAMP:20260420T020734
CREATED:20241209T025611Z
LAST-MODIFIED:20241209T025613Z
UID:10002540-1883032200-1883079000@www.niagaragunclub.com
SUMMARY:Sporting Clay 8:30am Shoot
DESCRIPTION:1st Shoot.\nRelay 1\nStarts at 8:30am whether good weather or bad.\nContact Gary to get on the mailing list. \n 
URL:https://www.niagaragunclub.com/event/sporting-clay-shoot-5-2-2/2029-09-02/
CATEGORIES:Clay Shoots 8:30am
END:VEVENT
BEGIN:VEVENT
DTSTART;TZID=America/Toronto:20290902T103000
DTEND;TZID=America/Toronto:20290902T113000
DTSTAMP:20260420T020734
CREATED:20240530T154754Z
LAST-MODIFIED:20251120T143038Z
UID:10003802-1883039400-1883043000@www.niagaragunclub.com
SUMMARY:Sporting Clay 10:30am Shoot
DESCRIPTION:2nd Shoot.\nSporting Clays Program – Relay 2\n1030am Start APproximately- depends on how long Relay 1 goes. Typically goes 2 hours . Shoot goes in good or bad weather\nContact Gary to get on the mailing list. Garyiggulden@gmail.com \n 
URL:https://www.niagaragunclub.com/event/sporting-clay-sunday-shoot/2029-09-02/
CATEGORIES:Clay Shoots 10:30am
END:VEVENT
BEGIN:VEVENT
DTSTART;TZID=America/Toronto:20290905T083000
DTEND;TZID=America/Toronto:20290905T223000
DTSTAMP:20260420T020734
CREATED:20241209T030208Z
LAST-MODIFIED:20251120T142751Z
UID:10002801-1883291400-1883341800@www.niagaragunclub.com
SUMMARY:Wednesday Sporting Clays
DESCRIPTION:First Shoot goes 830 am until 1030 am (roughly 2 hours) \nSecond shoot goes 1030 am until 1230pm (Roughly 2 hours) \nContact Gary to get on the email list- garyiggulden@gmail.com
URL:https://www.niagaragunclub.com/event/wednesday-sporting-clays/2029-09-05/
END:VEVENT
BEGIN:VEVENT
DTSTART;TZID=America/Toronto:20290909T083000
DTEND;TZID=America/Toronto:20290909T213000
DTSTAMP:20260420T020734
CREATED:20241209T025611Z
LAST-MODIFIED:20241209T025613Z
UID:10002541-1883637000-1883683800@www.niagaragunclub.com
SUMMARY:Sporting Clay 8:30am Shoot
DESCRIPTION:1st Shoot.\nRelay 1\nStarts at 8:30am whether good weather or bad.\nContact Gary to get on the mailing list. \n 
URL:https://www.niagaragunclub.com/event/sporting-clay-shoot-5-2-2/2029-09-09/
CATEGORIES:Clay Shoots 8:30am
END:VEVENT
BEGIN:VEVENT
DTSTART;TZID=America/Toronto:20290909T103000
DTEND;TZID=America/Toronto:20290909T113000
DTSTAMP:20260420T020734
CREATED:20240530T154754Z
LAST-MODIFIED:20251120T143038Z
UID:10003803-1883644200-1883647800@www.niagaragunclub.com
SUMMARY:Sporting Clay 10:30am Shoot
DESCRIPTION:2nd Shoot.\nSporting Clays Program – Relay 2\n1030am Start APproximately- depends on how long Relay 1 goes. Typically goes 2 hours . Shoot goes in good or bad weather\nContact Gary to get on the mailing list. Garyiggulden@gmail.com \n 
URL:https://www.niagaragunclub.com/event/sporting-clay-sunday-shoot/2029-09-09/
CATEGORIES:Clay Shoots 10:30am
END:VEVENT
BEGIN:VEVENT
DTSTART;TZID=America/Toronto:20290912T083000
DTEND;TZID=America/Toronto:20290912T223000
DTSTAMP:20260420T020734
CREATED:20241209T030208Z
LAST-MODIFIED:20251120T142751Z
UID:10002802-1883896200-1883946600@www.niagaragunclub.com
SUMMARY:Wednesday Sporting Clays
DESCRIPTION:First Shoot goes 830 am until 1030 am (roughly 2 hours) \nSecond shoot goes 1030 am until 1230pm (Roughly 2 hours) \nContact Gary to get on the email list- garyiggulden@gmail.com
URL:https://www.niagaragunclub.com/event/wednesday-sporting-clays/2029-09-12/
END:VEVENT
BEGIN:VEVENT
DTSTART;TZID=America/Toronto:20290916T083000
DTEND;TZID=America/Toronto:20290916T213000
DTSTAMP:20260420T020734
CREATED:20241209T025611Z
LAST-MODIFIED:20241209T025613Z
UID:10002542-1884241800-1884288600@www.niagaragunclub.com
SUMMARY:Sporting Clay 8:30am Shoot
DESCRIPTION:1st Shoot.\nRelay 1\nStarts at 8:30am whether good weather or bad.\nContact Gary to get on the mailing list. \n 
URL:https://www.niagaragunclub.com/event/sporting-clay-shoot-5-2-2/2029-09-16/
CATEGORIES:Clay Shoots 8:30am
END:VEVENT
BEGIN:VEVENT
DTSTART;TZID=America/Toronto:20290916T103000
DTEND;TZID=America/Toronto:20290916T113000
DTSTAMP:20260420T020734
CREATED:20240530T154754Z
LAST-MODIFIED:20251120T143038Z
UID:10003804-1884249000-1884252600@www.niagaragunclub.com
SUMMARY:Sporting Clay 10:30am Shoot
DESCRIPTION:2nd Shoot.\nSporting Clays Program – Relay 2\n1030am Start APproximately- depends on how long Relay 1 goes. Typically goes 2 hours . Shoot goes in good or bad weather\nContact Gary to get on the mailing list. Garyiggulden@gmail.com \n 
URL:https://www.niagaragunclub.com/event/sporting-clay-sunday-shoot/2029-09-16/
CATEGORIES:Clay Shoots 10:30am
END:VEVENT
BEGIN:VEVENT
DTSTART;TZID=America/Toronto:20290919T083000
DTEND;TZID=America/Toronto:20290919T223000
DTSTAMP:20260420T020734
CREATED:20241209T030208Z
LAST-MODIFIED:20251120T142751Z
UID:10002803-1884501000-1884551400@www.niagaragunclub.com
SUMMARY:Wednesday Sporting Clays
DESCRIPTION:First Shoot goes 830 am until 1030 am (roughly 2 hours) \nSecond shoot goes 1030 am until 1230pm (Roughly 2 hours) \nContact Gary to get on the email list- garyiggulden@gmail.com
URL:https://www.niagaragunclub.com/event/wednesday-sporting-clays/2029-09-19/
END:VEVENT
BEGIN:VEVENT
DTSTART;TZID=America/Toronto:20290923T083000
DTEND;TZID=America/Toronto:20290923T213000
DTSTAMP:20260420T020734
CREATED:20241209T025611Z
LAST-MODIFIED:20241209T025613Z
UID:10002543-1884846600-1884893400@www.niagaragunclub.com
SUMMARY:Sporting Clay 8:30am Shoot
DESCRIPTION:1st Shoot.\nRelay 1\nStarts at 8:30am whether good weather or bad.\nContact Gary to get on the mailing list. \n 
URL:https://www.niagaragunclub.com/event/sporting-clay-shoot-5-2-2/2029-09-23/
CATEGORIES:Clay Shoots 8:30am
END:VEVENT
BEGIN:VEVENT
DTSTART;TZID=America/Toronto:20290923T103000
DTEND;TZID=America/Toronto:20290923T113000
DTSTAMP:20260420T020734
CREATED:20240530T154754Z
LAST-MODIFIED:20251120T143038Z
UID:10003805-1884853800-1884857400@www.niagaragunclub.com
SUMMARY:Sporting Clay 10:30am Shoot
DESCRIPTION:2nd Shoot.\nSporting Clays Program – Relay 2\n1030am Start APproximately- depends on how long Relay 1 goes. Typically goes 2 hours . Shoot goes in good or bad weather\nContact Gary to get on the mailing list. Garyiggulden@gmail.com \n 
URL:https://www.niagaragunclub.com/event/sporting-clay-sunday-shoot/2029-09-23/
CATEGORIES:Clay Shoots 10:30am
END:VEVENT
BEGIN:VEVENT
DTSTART;TZID=America/Toronto:20290926T083000
DTEND;TZID=America/Toronto:20290926T223000
DTSTAMP:20260420T020734
CREATED:20241209T030208Z
LAST-MODIFIED:20251120T142751Z
UID:10002804-1885105800-1885156200@www.niagaragunclub.com
SUMMARY:Wednesday Sporting Clays
DESCRIPTION:First Shoot goes 830 am until 1030 am (roughly 2 hours) \nSecond shoot goes 1030 am until 1230pm (Roughly 2 hours) \nContact Gary to get on the email list- garyiggulden@gmail.com
URL:https://www.niagaragunclub.com/event/wednesday-sporting-clays/2029-09-26/
END:VEVENT
BEGIN:VEVENT
DTSTART;TZID=America/Toronto:20290930T083000
DTEND;TZID=America/Toronto:20290930T213000
DTSTAMP:20260420T020734
CREATED:20241209T025611Z
LAST-MODIFIED:20241209T025613Z
UID:10002544-1885451400-1885498200@www.niagaragunclub.com
SUMMARY:Sporting Clay 8:30am Shoot
DESCRIPTION:1st Shoot.\nRelay 1\nStarts at 8:30am whether good weather or bad.\nContact Gary to get on the mailing list. \n 
URL:https://www.niagaragunclub.com/event/sporting-clay-shoot-5-2-2/2029-09-30/
CATEGORIES:Clay Shoots 8:30am
END:VEVENT
BEGIN:VEVENT
DTSTART;TZID=America/Toronto:20290930T103000
DTEND;TZID=America/Toronto:20290930T113000
DTSTAMP:20260420T020734
CREATED:20240530T154754Z
LAST-MODIFIED:20251120T143038Z
UID:10003806-1885458600-1885462200@www.niagaragunclub.com
SUMMARY:Sporting Clay 10:30am Shoot
DESCRIPTION:2nd Shoot.\nSporting Clays Program – Relay 2\n1030am Start APproximately- depends on how long Relay 1 goes. Typically goes 2 hours . Shoot goes in good or bad weather\nContact Gary to get on the mailing list. Garyiggulden@gmail.com \n 
URL:https://www.niagaragunclub.com/event/sporting-clay-sunday-shoot/2029-09-30/
CATEGORIES:Clay Shoots 10:30am
END:VEVENT
BEGIN:VEVENT
DTSTART;TZID=America/Toronto:20291003T083000
DTEND;TZID=America/Toronto:20291003T223000
DTSTAMP:20260420T020734
CREATED:20241209T030208Z
LAST-MODIFIED:20251120T142751Z
UID:10002805-1885710600-1885761000@www.niagaragunclub.com
SUMMARY:Wednesday Sporting Clays
DESCRIPTION:First Shoot goes 830 am until 1030 am (roughly 2 hours) \nSecond shoot goes 1030 am until 1230pm (Roughly 2 hours) \nContact Gary to get on the email list- garyiggulden@gmail.com
URL:https://www.niagaragunclub.com/event/wednesday-sporting-clays/2029-10-03/
END:VEVENT
BEGIN:VEVENT
DTSTART;TZID=America/Toronto:20291007T083000
DTEND;TZID=America/Toronto:20291007T213000
DTSTAMP:20260420T020734
CREATED:20241209T025611Z
LAST-MODIFIED:20241209T025613Z
UID:10002545-1886056200-1886103000@www.niagaragunclub.com
SUMMARY:Sporting Clay 8:30am Shoot
DESCRIPTION:1st Shoot.\nRelay 1\nStarts at 8:30am whether good weather or bad.\nContact Gary to get on the mailing list. \n 
URL:https://www.niagaragunclub.com/event/sporting-clay-shoot-5-2-2/2029-10-07/
CATEGORIES:Clay Shoots 8:30am
END:VEVENT
BEGIN:VEVENT
DTSTART;TZID=America/Toronto:20291007T103000
DTEND;TZID=America/Toronto:20291007T113000
DTSTAMP:20260420T020734
CREATED:20240530T154754Z
LAST-MODIFIED:20251120T143038Z
UID:10003807-1886063400-1886067000@www.niagaragunclub.com
SUMMARY:Sporting Clay 10:30am Shoot
DESCRIPTION:2nd Shoot.\nSporting Clays Program – Relay 2\n1030am Start APproximately- depends on how long Relay 1 goes. Typically goes 2 hours . Shoot goes in good or bad weather\nContact Gary to get on the mailing list. Garyiggulden@gmail.com \n 
URL:https://www.niagaragunclub.com/event/sporting-clay-sunday-shoot/2029-10-07/
CATEGORIES:Clay Shoots 10:30am
END:VEVENT
BEGIN:VEVENT
DTSTART;TZID=America/Toronto:20291010T083000
DTEND;TZID=America/Toronto:20291010T223000
DTSTAMP:20260420T020734
CREATED:20241209T030208Z
LAST-MODIFIED:20251120T142751Z
UID:10002806-1886315400-1886365800@www.niagaragunclub.com
SUMMARY:Wednesday Sporting Clays
DESCRIPTION:First Shoot goes 830 am until 1030 am (roughly 2 hours) \nSecond shoot goes 1030 am until 1230pm (Roughly 2 hours) \nContact Gary to get on the email list- garyiggulden@gmail.com
URL:https://www.niagaragunclub.com/event/wednesday-sporting-clays/2029-10-10/
END:VEVENT
BEGIN:VEVENT
DTSTART;TZID=America/Toronto:20291014T083000
DTEND;TZID=America/Toronto:20291014T213000
DTSTAMP:20260420T020734
CREATED:20241209T025611Z
LAST-MODIFIED:20241209T025613Z
UID:10002546-1886661000-1886707800@www.niagaragunclub.com
SUMMARY:Sporting Clay 8:30am Shoot
DESCRIPTION:1st Shoot.\nRelay 1\nStarts at 8:30am whether good weather or bad.\nContact Gary to get on the mailing list. \n 
URL:https://www.niagaragunclub.com/event/sporting-clay-shoot-5-2-2/2029-10-14/
CATEGORIES:Clay Shoots 8:30am
END:VEVENT
BEGIN:VEVENT
DTSTART;TZID=America/Toronto:20291014T103000
DTEND;TZID=America/Toronto:20291014T113000
DTSTAMP:20260420T020734
CREATED:20240530T154754Z
LAST-MODIFIED:20251120T143038Z
UID:10003808-1886668200-1886671800@www.niagaragunclub.com
SUMMARY:Sporting Clay 10:30am Shoot
DESCRIPTION:2nd Shoot.\nSporting Clays Program – Relay 2\n1030am Start APproximately- depends on how long Relay 1 goes. Typically goes 2 hours . Shoot goes in good or bad weather\nContact Gary to get on the mailing list. Garyiggulden@gmail.com \n 
URL:https://www.niagaragunclub.com/event/sporting-clay-sunday-shoot/2029-10-14/
CATEGORIES:Clay Shoots 10:30am
END:VEVENT
BEGIN:VEVENT
DTSTART;TZID=America/Toronto:20291017T083000
DTEND;TZID=America/Toronto:20291017T223000
DTSTAMP:20260420T020734
CREATED:20241209T030208Z
LAST-MODIFIED:20251120T142751Z
UID:10002807-1886920200-1886970600@www.niagaragunclub.com
SUMMARY:Wednesday Sporting Clays
DESCRIPTION:First Shoot goes 830 am until 1030 am (roughly 2 hours) \nSecond shoot goes 1030 am until 1230pm (Roughly 2 hours) \nContact Gary to get on the email list- garyiggulden@gmail.com
URL:https://www.niagaragunclub.com/event/wednesday-sporting-clays/2029-10-17/
END:VEVENT
BEGIN:VEVENT
DTSTART;TZID=America/Toronto:20291021T083000
DTEND;TZID=America/Toronto:20291021T213000
DTSTAMP:20260420T020734
CREATED:20241209T025611Z
LAST-MODIFIED:20241209T025613Z
UID:10002547-1887265800-1887312600@www.niagaragunclub.com
SUMMARY:Sporting Clay 8:30am Shoot
DESCRIPTION:1st Shoot.\nRelay 1\nStarts at 8:30am whether good weather or bad.\nContact Gary to get on the mailing list. \n 
URL:https://www.niagaragunclub.com/event/sporting-clay-shoot-5-2-2/2029-10-21/
CATEGORIES:Clay Shoots 8:30am
END:VEVENT
END:VCALENDAR