BEGIN:VCALENDAR
VERSION:2.0
PRODID:-//Niagara Regional Sportsmen&#039;s Gun Club - ECPv6.15.20//NONSGML v1.0//EN
CALSCALE:GREGORIAN
METHOD:PUBLISH
X-ORIGINAL-URL:https://www.niagaragunclub.com
X-WR-CALDESC:Events for Niagara Regional Sportsmen&#039;s Gun Club
REFRESH-INTERVAL;VALUE=DURATION:PT1H
X-Robots-Tag:noindex
X-PUBLISHED-TTL:PT1H
BEGIN:VTIMEZONE
TZID:America/Toronto
BEGIN:DAYLIGHT
TZOFFSETFROM:-0500
TZOFFSETTO:-0400
TZNAME:EDT
DTSTART:20280312T070000
END:DAYLIGHT
BEGIN:STANDARD
TZOFFSETFROM:-0400
TZOFFSETTO:-0500
TZNAME:EST
DTSTART:20281105T060000
END:STANDARD
BEGIN:DAYLIGHT
TZOFFSETFROM:-0500
TZOFFSETTO:-0400
TZNAME:EDT
DTSTART:20290311T070000
END:DAYLIGHT
BEGIN:STANDARD
TZOFFSETFROM:-0400
TZOFFSETTO:-0500
TZNAME:EST
DTSTART:20291104T060000
END:STANDARD
BEGIN:DAYLIGHT
TZOFFSETFROM:-0500
TZOFFSETTO:-0400
TZNAME:EDT
DTSTART:20300310T070000
END:DAYLIGHT
BEGIN:STANDARD
TZOFFSETFROM:-0400
TZOFFSETTO:-0500
TZNAME:EST
DTSTART:20301103T060000
END:STANDARD
END:VTIMEZONE
BEGIN:VEVENT
DTSTART;TZID=America/Toronto:20290422T103000
DTEND;TZID=America/Toronto:20290422T113000
DTSTAMP:20260419T224851
CREATED:20240530T154754Z
LAST-MODIFIED:20251120T143038Z
UID:10002137-1871548200-1871551800@www.niagaragunclub.com
SUMMARY:Sporting Clay 10:30am Shoot
DESCRIPTION:2nd Shoot.\nSporting Clays Program – Relay 2\n1030am Start APproximately- depends on how long Relay 1 goes. Typically goes 2 hours . Shoot goes in good or bad weather\nContact Gary to get on the mailing list. Garyiggulden@gmail.com \n 
URL:https://www.niagaragunclub.com/event/sporting-clay-sunday-shoot/2029-04-22/
CATEGORIES:Clay Shoots 10:30am
END:VEVENT
BEGIN:VEVENT
DTSTART;TZID=America/Toronto:20290425T083000
DTEND;TZID=America/Toronto:20290425T223000
DTSTAMP:20260419T224851
CREATED:20241209T030208Z
LAST-MODIFIED:20251120T142751Z
UID:10002782-1871800200-1871850600@www.niagaragunclub.com
SUMMARY:Wednesday Sporting Clays
DESCRIPTION:First Shoot goes 830 am until 1030 am (roughly 2 hours) \nSecond shoot goes 1030 am until 1230pm (Roughly 2 hours) \nContact Gary to get on the email list- garyiggulden@gmail.com
URL:https://www.niagaragunclub.com/event/wednesday-sporting-clays/2029-04-25/
END:VEVENT
BEGIN:VEVENT
DTSTART;TZID=America/Toronto:20290429T083000
DTEND;TZID=America/Toronto:20290429T213000
DTSTAMP:20260419T224851
CREATED:20241209T025611Z
LAST-MODIFIED:20241209T025613Z
UID:10002426-1872145800-1872192600@www.niagaragunclub.com
SUMMARY:Sporting Clay 8:30am Shoot
DESCRIPTION:1st Shoot.\nRelay 1\nStarts at 8:30am whether good weather or bad.\nContact Gary to get on the mailing list. \n 
URL:https://www.niagaragunclub.com/event/sporting-clay-shoot-5-2-2/2029-04-29/
CATEGORIES:Clay Shoots 8:30am
END:VEVENT
BEGIN:VEVENT
DTSTART;TZID=America/Toronto:20290429T103000
DTEND;TZID=America/Toronto:20290429T113000
DTSTAMP:20260419T224851
CREATED:20240530T154754Z
LAST-MODIFIED:20251120T143038Z
UID:10002138-1872153000-1872156600@www.niagaragunclub.com
SUMMARY:Sporting Clay 10:30am Shoot
DESCRIPTION:2nd Shoot.\nSporting Clays Program – Relay 2\n1030am Start APproximately- depends on how long Relay 1 goes. Typically goes 2 hours . Shoot goes in good or bad weather\nContact Gary to get on the mailing list. Garyiggulden@gmail.com \n 
URL:https://www.niagaragunclub.com/event/sporting-clay-sunday-shoot/2029-04-29/
CATEGORIES:Clay Shoots 10:30am
END:VEVENT
BEGIN:VEVENT
DTSTART;TZID=America/Toronto:20290502T083000
DTEND;TZID=America/Toronto:20290502T223000
DTSTAMP:20260419T224851
CREATED:20241209T030208Z
LAST-MODIFIED:20251120T142751Z
UID:10002783-1872405000-1872455400@www.niagaragunclub.com
SUMMARY:Wednesday Sporting Clays
DESCRIPTION:First Shoot goes 830 am until 1030 am (roughly 2 hours) \nSecond shoot goes 1030 am until 1230pm (Roughly 2 hours) \nContact Gary to get on the email list- garyiggulden@gmail.com
URL:https://www.niagaragunclub.com/event/wednesday-sporting-clays/2029-05-02/
END:VEVENT
BEGIN:VEVENT
DTSTART;TZID=America/Toronto:20290506T083000
DTEND;TZID=America/Toronto:20290506T213000
DTSTAMP:20260419T224851
CREATED:20241209T025611Z
LAST-MODIFIED:20241209T025613Z
UID:10002427-1872750600-1872797400@www.niagaragunclub.com
SUMMARY:Sporting Clay 8:30am Shoot
DESCRIPTION:1st Shoot.\nRelay 1\nStarts at 8:30am whether good weather or bad.\nContact Gary to get on the mailing list. \n 
URL:https://www.niagaragunclub.com/event/sporting-clay-shoot-5-2-2/2029-05-06/
CATEGORIES:Clay Shoots 8:30am
END:VEVENT
BEGIN:VEVENT
DTSTART;TZID=America/Toronto:20290506T103000
DTEND;TZID=America/Toronto:20290506T113000
DTSTAMP:20260419T224851
CREATED:20240530T154754Z
LAST-MODIFIED:20251120T143038Z
UID:10002139-1872757800-1872761400@www.niagaragunclub.com
SUMMARY:Sporting Clay 10:30am Shoot
DESCRIPTION:2nd Shoot.\nSporting Clays Program – Relay 2\n1030am Start APproximately- depends on how long Relay 1 goes. Typically goes 2 hours . Shoot goes in good or bad weather\nContact Gary to get on the mailing list. Garyiggulden@gmail.com \n 
URL:https://www.niagaragunclub.com/event/sporting-clay-sunday-shoot/2029-05-06/
CATEGORIES:Clay Shoots 10:30am
END:VEVENT
BEGIN:VEVENT
DTSTART;TZID=America/Toronto:20290509T083000
DTEND;TZID=America/Toronto:20290509T223000
DTSTAMP:20260419T224851
CREATED:20241209T030208Z
LAST-MODIFIED:20251120T142751Z
UID:10002784-1873009800-1873060200@www.niagaragunclub.com
SUMMARY:Wednesday Sporting Clays
DESCRIPTION:First Shoot goes 830 am until 1030 am (roughly 2 hours) \nSecond shoot goes 1030 am until 1230pm (Roughly 2 hours) \nContact Gary to get on the email list- garyiggulden@gmail.com
URL:https://www.niagaragunclub.com/event/wednesday-sporting-clays/2029-05-09/
END:VEVENT
BEGIN:VEVENT
DTSTART;TZID=America/Toronto:20290513T083000
DTEND;TZID=America/Toronto:20290513T213000
DTSTAMP:20260419T224851
CREATED:20241209T025611Z
LAST-MODIFIED:20241209T025613Z
UID:10002428-1873355400-1873402200@www.niagaragunclub.com
SUMMARY:Sporting Clay 8:30am Shoot
DESCRIPTION:1st Shoot.\nRelay 1\nStarts at 8:30am whether good weather or bad.\nContact Gary to get on the mailing list. \n 
URL:https://www.niagaragunclub.com/event/sporting-clay-shoot-5-2-2/2029-05-13/
CATEGORIES:Clay Shoots 8:30am
END:VEVENT
BEGIN:VEVENT
DTSTART;TZID=America/Toronto:20290513T103000
DTEND;TZID=America/Toronto:20290513T113000
DTSTAMP:20260419T224851
CREATED:20240530T154754Z
LAST-MODIFIED:20251120T143038Z
UID:10002140-1873362600-1873366200@www.niagaragunclub.com
SUMMARY:Sporting Clay 10:30am Shoot
DESCRIPTION:2nd Shoot.\nSporting Clays Program – Relay 2\n1030am Start APproximately- depends on how long Relay 1 goes. Typically goes 2 hours . Shoot goes in good or bad weather\nContact Gary to get on the mailing list. Garyiggulden@gmail.com \n 
URL:https://www.niagaragunclub.com/event/sporting-clay-sunday-shoot/2029-05-13/
CATEGORIES:Clay Shoots 10:30am
END:VEVENT
BEGIN:VEVENT
DTSTART;TZID=America/Toronto:20290516T083000
DTEND;TZID=America/Toronto:20290516T223000
DTSTAMP:20260419T224851
CREATED:20241209T030208Z
LAST-MODIFIED:20251120T142751Z
UID:10002785-1873614600-1873665000@www.niagaragunclub.com
SUMMARY:Wednesday Sporting Clays
DESCRIPTION:First Shoot goes 830 am until 1030 am (roughly 2 hours) \nSecond shoot goes 1030 am until 1230pm (Roughly 2 hours) \nContact Gary to get on the email list- garyiggulden@gmail.com
URL:https://www.niagaragunclub.com/event/wednesday-sporting-clays/2029-05-16/
END:VEVENT
BEGIN:VEVENT
DTSTART;TZID=America/Toronto:20290520T083000
DTEND;TZID=America/Toronto:20290520T213000
DTSTAMP:20260419T224851
CREATED:20241209T025611Z
LAST-MODIFIED:20241209T025613Z
UID:10002429-1873960200-1874007000@www.niagaragunclub.com
SUMMARY:Sporting Clay 8:30am Shoot
DESCRIPTION:1st Shoot.\nRelay 1\nStarts at 8:30am whether good weather or bad.\nContact Gary to get on the mailing list. \n 
URL:https://www.niagaragunclub.com/event/sporting-clay-shoot-5-2-2/2029-05-20/
CATEGORIES:Clay Shoots 8:30am
END:VEVENT
BEGIN:VEVENT
DTSTART;TZID=America/Toronto:20290520T103000
DTEND;TZID=America/Toronto:20290520T113000
DTSTAMP:20260419T224851
CREATED:20240530T154754Z
LAST-MODIFIED:20251120T143038Z
UID:10002141-1873967400-1873971000@www.niagaragunclub.com
SUMMARY:Sporting Clay 10:30am Shoot
DESCRIPTION:2nd Shoot.\nSporting Clays Program – Relay 2\n1030am Start APproximately- depends on how long Relay 1 goes. Typically goes 2 hours . Shoot goes in good or bad weather\nContact Gary to get on the mailing list. Garyiggulden@gmail.com \n 
URL:https://www.niagaragunclub.com/event/sporting-clay-sunday-shoot/2029-05-20/
CATEGORIES:Clay Shoots 10:30am
END:VEVENT
BEGIN:VEVENT
DTSTART;TZID=America/Toronto:20290523T083000
DTEND;TZID=America/Toronto:20290523T223000
DTSTAMP:20260419T224851
CREATED:20241209T030208Z
LAST-MODIFIED:20251120T142751Z
UID:10002786-1874219400-1874269800@www.niagaragunclub.com
SUMMARY:Wednesday Sporting Clays
DESCRIPTION:First Shoot goes 830 am until 1030 am (roughly 2 hours) \nSecond shoot goes 1030 am until 1230pm (Roughly 2 hours) \nContact Gary to get on the email list- garyiggulden@gmail.com
URL:https://www.niagaragunclub.com/event/wednesday-sporting-clays/2029-05-23/
END:VEVENT
BEGIN:VEVENT
DTSTART;TZID=America/Toronto:20290527T083000
DTEND;TZID=America/Toronto:20290527T213000
DTSTAMP:20260419T224851
CREATED:20241209T025611Z
LAST-MODIFIED:20241209T025613Z
UID:10002430-1874565000-1874611800@www.niagaragunclub.com
SUMMARY:Sporting Clay 8:30am Shoot
DESCRIPTION:1st Shoot.\nRelay 1\nStarts at 8:30am whether good weather or bad.\nContact Gary to get on the mailing list. \n 
URL:https://www.niagaragunclub.com/event/sporting-clay-shoot-5-2-2/2029-05-27/
CATEGORIES:Clay Shoots 8:30am
END:VEVENT
BEGIN:VEVENT
DTSTART;TZID=America/Toronto:20290527T103000
DTEND;TZID=America/Toronto:20290527T113000
DTSTAMP:20260419T224851
CREATED:20240530T154754Z
LAST-MODIFIED:20251120T143038Z
UID:10002142-1874572200-1874575800@www.niagaragunclub.com
SUMMARY:Sporting Clay 10:30am Shoot
DESCRIPTION:2nd Shoot.\nSporting Clays Program – Relay 2\n1030am Start APproximately- depends on how long Relay 1 goes. Typically goes 2 hours . Shoot goes in good or bad weather\nContact Gary to get on the mailing list. Garyiggulden@gmail.com \n 
URL:https://www.niagaragunclub.com/event/sporting-clay-sunday-shoot/2029-05-27/
CATEGORIES:Clay Shoots 10:30am
END:VEVENT
BEGIN:VEVENT
DTSTART;TZID=America/Toronto:20290530T083000
DTEND;TZID=America/Toronto:20290530T223000
DTSTAMP:20260419T224851
CREATED:20241209T030208Z
LAST-MODIFIED:20251120T142751Z
UID:10002787-1874824200-1874874600@www.niagaragunclub.com
SUMMARY:Wednesday Sporting Clays
DESCRIPTION:First Shoot goes 830 am until 1030 am (roughly 2 hours) \nSecond shoot goes 1030 am until 1230pm (Roughly 2 hours) \nContact Gary to get on the email list- garyiggulden@gmail.com
URL:https://www.niagaragunclub.com/event/wednesday-sporting-clays/2029-05-30/
END:VEVENT
BEGIN:VEVENT
DTSTART;TZID=America/Toronto:20290603T083000
DTEND;TZID=America/Toronto:20290603T213000
DTSTAMP:20260419T224851
CREATED:20241209T025611Z
LAST-MODIFIED:20241209T025613Z
UID:10002527-1875169800-1875216600@www.niagaragunclub.com
SUMMARY:Sporting Clay 8:30am Shoot
DESCRIPTION:1st Shoot.\nRelay 1\nStarts at 8:30am whether good weather or bad.\nContact Gary to get on the mailing list. \n 
URL:https://www.niagaragunclub.com/event/sporting-clay-shoot-5-2-2/2029-06-03/
CATEGORIES:Clay Shoots 8:30am
END:VEVENT
BEGIN:VEVENT
DTSTART;TZID=America/Toronto:20290603T103000
DTEND;TZID=America/Toronto:20290603T113000
DTSTAMP:20260419T224851
CREATED:20240530T154754Z
LAST-MODIFIED:20251120T143038Z
UID:10003789-1875177000-1875180600@www.niagaragunclub.com
SUMMARY:Sporting Clay 10:30am Shoot
DESCRIPTION:2nd Shoot.\nSporting Clays Program – Relay 2\n1030am Start APproximately- depends on how long Relay 1 goes. Typically goes 2 hours . Shoot goes in good or bad weather\nContact Gary to get on the mailing list. Garyiggulden@gmail.com \n 
URL:https://www.niagaragunclub.com/event/sporting-clay-sunday-shoot/2029-06-03/
CATEGORIES:Clay Shoots 10:30am
END:VEVENT
BEGIN:VEVENT
DTSTART;TZID=America/Toronto:20290606T083000
DTEND;TZID=America/Toronto:20290606T223000
DTSTAMP:20260419T224851
CREATED:20241209T030208Z
LAST-MODIFIED:20251120T142751Z
UID:10002788-1875429000-1875479400@www.niagaragunclub.com
SUMMARY:Wednesday Sporting Clays
DESCRIPTION:First Shoot goes 830 am until 1030 am (roughly 2 hours) \nSecond shoot goes 1030 am until 1230pm (Roughly 2 hours) \nContact Gary to get on the email list- garyiggulden@gmail.com
URL:https://www.niagaragunclub.com/event/wednesday-sporting-clays/2029-06-06/
END:VEVENT
BEGIN:VEVENT
DTSTART;TZID=America/Toronto:20290610T083000
DTEND;TZID=America/Toronto:20290610T213000
DTSTAMP:20260419T224851
CREATED:20241209T025611Z
LAST-MODIFIED:20241209T025613Z
UID:10002528-1875774600-1875821400@www.niagaragunclub.com
SUMMARY:Sporting Clay 8:30am Shoot
DESCRIPTION:1st Shoot.\nRelay 1\nStarts at 8:30am whether good weather or bad.\nContact Gary to get on the mailing list. \n 
URL:https://www.niagaragunclub.com/event/sporting-clay-shoot-5-2-2/2029-06-10/
CATEGORIES:Clay Shoots 8:30am
END:VEVENT
BEGIN:VEVENT
DTSTART;TZID=America/Toronto:20290610T103000
DTEND;TZID=America/Toronto:20290610T113000
DTSTAMP:20260419T224851
CREATED:20240530T154754Z
LAST-MODIFIED:20251120T143038Z
UID:10003790-1875781800-1875785400@www.niagaragunclub.com
SUMMARY:Sporting Clay 10:30am Shoot
DESCRIPTION:2nd Shoot.\nSporting Clays Program – Relay 2\n1030am Start APproximately- depends on how long Relay 1 goes. Typically goes 2 hours . Shoot goes in good or bad weather\nContact Gary to get on the mailing list. Garyiggulden@gmail.com \n 
URL:https://www.niagaragunclub.com/event/sporting-clay-sunday-shoot/2029-06-10/
CATEGORIES:Clay Shoots 10:30am
END:VEVENT
BEGIN:VEVENT
DTSTART;TZID=America/Toronto:20290613T083000
DTEND;TZID=America/Toronto:20290613T223000
DTSTAMP:20260419T224851
CREATED:20241209T030208Z
LAST-MODIFIED:20251120T142751Z
UID:10002789-1876033800-1876084200@www.niagaragunclub.com
SUMMARY:Wednesday Sporting Clays
DESCRIPTION:First Shoot goes 830 am until 1030 am (roughly 2 hours) \nSecond shoot goes 1030 am until 1230pm (Roughly 2 hours) \nContact Gary to get on the email list- garyiggulden@gmail.com
URL:https://www.niagaragunclub.com/event/wednesday-sporting-clays/2029-06-13/
END:VEVENT
BEGIN:VEVENT
DTSTART;TZID=America/Toronto:20290617T083000
DTEND;TZID=America/Toronto:20290617T213000
DTSTAMP:20260419T224851
CREATED:20241209T025611Z
LAST-MODIFIED:20241209T025613Z
UID:10002529-1876379400-1876426200@www.niagaragunclub.com
SUMMARY:Sporting Clay 8:30am Shoot
DESCRIPTION:1st Shoot.\nRelay 1\nStarts at 8:30am whether good weather or bad.\nContact Gary to get on the mailing list. \n 
URL:https://www.niagaragunclub.com/event/sporting-clay-shoot-5-2-2/2029-06-17/
CATEGORIES:Clay Shoots 8:30am
END:VEVENT
BEGIN:VEVENT
DTSTART;TZID=America/Toronto:20290617T103000
DTEND;TZID=America/Toronto:20290617T113000
DTSTAMP:20260419T224851
CREATED:20240530T154754Z
LAST-MODIFIED:20251120T143038Z
UID:10003791-1876386600-1876390200@www.niagaragunclub.com
SUMMARY:Sporting Clay 10:30am Shoot
DESCRIPTION:2nd Shoot.\nSporting Clays Program – Relay 2\n1030am Start APproximately- depends on how long Relay 1 goes. Typically goes 2 hours . Shoot goes in good or bad weather\nContact Gary to get on the mailing list. Garyiggulden@gmail.com \n 
URL:https://www.niagaragunclub.com/event/sporting-clay-sunday-shoot/2029-06-17/
CATEGORIES:Clay Shoots 10:30am
END:VEVENT
BEGIN:VEVENT
DTSTART;TZID=America/Toronto:20290620T083000
DTEND;TZID=America/Toronto:20290620T223000
DTSTAMP:20260419T224851
CREATED:20241209T030208Z
LAST-MODIFIED:20251120T142751Z
UID:10002790-1876638600-1876689000@www.niagaragunclub.com
SUMMARY:Wednesday Sporting Clays
DESCRIPTION:First Shoot goes 830 am until 1030 am (roughly 2 hours) \nSecond shoot goes 1030 am until 1230pm (Roughly 2 hours) \nContact Gary to get on the email list- garyiggulden@gmail.com
URL:https://www.niagaragunclub.com/event/wednesday-sporting-clays/2029-06-20/
END:VEVENT
BEGIN:VEVENT
DTSTART;TZID=America/Toronto:20290624T083000
DTEND;TZID=America/Toronto:20290624T213000
DTSTAMP:20260419T224851
CREATED:20241209T025611Z
LAST-MODIFIED:20241209T025613Z
UID:10002530-1876984200-1877031000@www.niagaragunclub.com
SUMMARY:Sporting Clay 8:30am Shoot
DESCRIPTION:1st Shoot.\nRelay 1\nStarts at 8:30am whether good weather or bad.\nContact Gary to get on the mailing list. \n 
URL:https://www.niagaragunclub.com/event/sporting-clay-shoot-5-2-2/2029-06-24/
CATEGORIES:Clay Shoots 8:30am
END:VEVENT
BEGIN:VEVENT
DTSTART;TZID=America/Toronto:20290624T103000
DTEND;TZID=America/Toronto:20290624T113000
DTSTAMP:20260419T224851
CREATED:20240530T154754Z
LAST-MODIFIED:20251120T143038Z
UID:10003792-1876991400-1876995000@www.niagaragunclub.com
SUMMARY:Sporting Clay 10:30am Shoot
DESCRIPTION:2nd Shoot.\nSporting Clays Program – Relay 2\n1030am Start APproximately- depends on how long Relay 1 goes. Typically goes 2 hours . Shoot goes in good or bad weather\nContact Gary to get on the mailing list. Garyiggulden@gmail.com \n 
URL:https://www.niagaragunclub.com/event/sporting-clay-sunday-shoot/2029-06-24/
CATEGORIES:Clay Shoots 10:30am
END:VEVENT
BEGIN:VEVENT
DTSTART;TZID=America/Toronto:20290627T083000
DTEND;TZID=America/Toronto:20290627T223000
DTSTAMP:20260419T224851
CREATED:20241209T030208Z
LAST-MODIFIED:20251120T142751Z
UID:10002791-1877243400-1877293800@www.niagaragunclub.com
SUMMARY:Wednesday Sporting Clays
DESCRIPTION:First Shoot goes 830 am until 1030 am (roughly 2 hours) \nSecond shoot goes 1030 am until 1230pm (Roughly 2 hours) \nContact Gary to get on the email list- garyiggulden@gmail.com
URL:https://www.niagaragunclub.com/event/wednesday-sporting-clays/2029-06-27/
END:VEVENT
BEGIN:VEVENT
DTSTART;TZID=America/Toronto:20290701T083000
DTEND;TZID=America/Toronto:20290701T213000
DTSTAMP:20260419T224851
CREATED:20241209T025611Z
LAST-MODIFIED:20241209T025613Z
UID:10002531-1877589000-1877635800@www.niagaragunclub.com
SUMMARY:Sporting Clay 8:30am Shoot
DESCRIPTION:1st Shoot.\nRelay 1\nStarts at 8:30am whether good weather or bad.\nContact Gary to get on the mailing list. \n 
URL:https://www.niagaragunclub.com/event/sporting-clay-shoot-5-2-2/2029-07-01/
CATEGORIES:Clay Shoots 8:30am
END:VEVENT
END:VCALENDAR