BEGIN:VCALENDAR
VERSION:2.0
PRODID:-//Niagara Regional Sportsmen&#039;s Gun Club - ECPv6.15.20//NONSGML v1.0//EN
CALSCALE:GREGORIAN
METHOD:PUBLISH
X-WR-CALNAME:Niagara Regional Sportsmen&#039;s Gun Club
X-ORIGINAL-URL:https://www.niagaragunclub.com
X-WR-CALDESC:Events for Niagara Regional Sportsmen&#039;s Gun Club
REFRESH-INTERVAL;VALUE=DURATION:PT1H
X-Robots-Tag:noindex
X-PUBLISHED-TTL:PT1H
BEGIN:VTIMEZONE
TZID:America/Toronto
BEGIN:DAYLIGHT
TZOFFSETFROM:-0500
TZOFFSETTO:-0400
TZNAME:EDT
DTSTART:20280312T070000
END:DAYLIGHT
BEGIN:STANDARD
TZOFFSETFROM:-0400
TZOFFSETTO:-0500
TZNAME:EST
DTSTART:20281105T060000
END:STANDARD
BEGIN:DAYLIGHT
TZOFFSETFROM:-0500
TZOFFSETTO:-0400
TZNAME:EDT
DTSTART:20290311T070000
END:DAYLIGHT
BEGIN:STANDARD
TZOFFSETFROM:-0400
TZOFFSETTO:-0500
TZNAME:EST
DTSTART:20291104T060000
END:STANDARD
BEGIN:DAYLIGHT
TZOFFSETFROM:-0500
TZOFFSETTO:-0400
TZNAME:EDT
DTSTART:20300310T070000
END:DAYLIGHT
BEGIN:STANDARD
TZOFFSETFROM:-0400
TZOFFSETTO:-0500
TZNAME:EST
DTSTART:20301103T060000
END:STANDARD
END:VTIMEZONE
BEGIN:VEVENT
DTSTART;TZID=America/Toronto:20290311T083000
DTEND;TZID=America/Toronto:20290311T213000
DTSTAMP:20260419T201911
CREATED:20241209T025611Z
LAST-MODIFIED:20241209T025613Z
UID:10002419-1867912200-1867959000@www.niagaragunclub.com
SUMMARY:Sporting Clay 8:30am Shoot
DESCRIPTION:1st Shoot.\nRelay 1\nStarts at 8:30am whether good weather or bad.\nContact Gary to get on the mailing list. \n 
URL:https://www.niagaragunclub.com/event/sporting-clay-shoot-5-2-2/2029-03-11/
CATEGORIES:Clay Shoots 8:30am
END:VEVENT
BEGIN:VEVENT
DTSTART;TZID=America/Toronto:20290311T103000
DTEND;TZID=America/Toronto:20290311T113000
DTSTAMP:20260419T201911
CREATED:20240530T154754Z
LAST-MODIFIED:20251120T143038Z
UID:10002131-1867919400-1867923000@www.niagaragunclub.com
SUMMARY:Sporting Clay 10:30am Shoot
DESCRIPTION:2nd Shoot.\nSporting Clays Program – Relay 2\n1030am Start APproximately- depends on how long Relay 1 goes. Typically goes 2 hours . Shoot goes in good or bad weather\nContact Gary to get on the mailing list. Garyiggulden@gmail.com \n 
URL:https://www.niagaragunclub.com/event/sporting-clay-sunday-shoot/2029-03-11/
CATEGORIES:Clay Shoots 10:30am
END:VEVENT
BEGIN:VEVENT
DTSTART;TZID=America/Toronto:20290314T083000
DTEND;TZID=America/Toronto:20290314T223000
DTSTAMP:20260419T201911
CREATED:20241209T030208Z
LAST-MODIFIED:20251120T142751Z
UID:10002776-1868171400-1868221800@www.niagaragunclub.com
SUMMARY:Wednesday Sporting Clays
DESCRIPTION:First Shoot goes 830 am until 1030 am (roughly 2 hours) \nSecond shoot goes 1030 am until 1230pm (Roughly 2 hours) \nContact Gary to get on the email list- garyiggulden@gmail.com
URL:https://www.niagaragunclub.com/event/wednesday-sporting-clays/2029-03-14/
END:VEVENT
BEGIN:VEVENT
DTSTART;TZID=America/Toronto:20290318T083000
DTEND;TZID=America/Toronto:20290318T213000
DTSTAMP:20260419T201911
CREATED:20241209T025611Z
LAST-MODIFIED:20241209T025613Z
UID:10002420-1868517000-1868563800@www.niagaragunclub.com
SUMMARY:Sporting Clay 8:30am Shoot
DESCRIPTION:1st Shoot.\nRelay 1\nStarts at 8:30am whether good weather or bad.\nContact Gary to get on the mailing list. \n 
URL:https://www.niagaragunclub.com/event/sporting-clay-shoot-5-2-2/2029-03-18/
CATEGORIES:Clay Shoots 8:30am
END:VEVENT
BEGIN:VEVENT
DTSTART;TZID=America/Toronto:20290318T103000
DTEND;TZID=America/Toronto:20290318T113000
DTSTAMP:20260419T201911
CREATED:20240530T154754Z
LAST-MODIFIED:20251120T143038Z
UID:10002132-1868524200-1868527800@www.niagaragunclub.com
SUMMARY:Sporting Clay 10:30am Shoot
DESCRIPTION:2nd Shoot.\nSporting Clays Program – Relay 2\n1030am Start APproximately- depends on how long Relay 1 goes. Typically goes 2 hours . Shoot goes in good or bad weather\nContact Gary to get on the mailing list. Garyiggulden@gmail.com \n 
URL:https://www.niagaragunclub.com/event/sporting-clay-sunday-shoot/2029-03-18/
CATEGORIES:Clay Shoots 10:30am
END:VEVENT
BEGIN:VEVENT
DTSTART;TZID=America/Toronto:20290321T083000
DTEND;TZID=America/Toronto:20290321T223000
DTSTAMP:20260419T201911
CREATED:20241209T030208Z
LAST-MODIFIED:20251120T142751Z
UID:10002777-1868776200-1868826600@www.niagaragunclub.com
SUMMARY:Wednesday Sporting Clays
DESCRIPTION:First Shoot goes 830 am until 1030 am (roughly 2 hours) \nSecond shoot goes 1030 am until 1230pm (Roughly 2 hours) \nContact Gary to get on the email list- garyiggulden@gmail.com
URL:https://www.niagaragunclub.com/event/wednesday-sporting-clays/2029-03-21/
END:VEVENT
BEGIN:VEVENT
DTSTART;TZID=America/Toronto:20290325T083000
DTEND;TZID=America/Toronto:20290325T213000
DTSTAMP:20260419T201911
CREATED:20241209T025611Z
LAST-MODIFIED:20241209T025613Z
UID:10002421-1869121800-1869168600@www.niagaragunclub.com
SUMMARY:Sporting Clay 8:30am Shoot
DESCRIPTION:1st Shoot.\nRelay 1\nStarts at 8:30am whether good weather or bad.\nContact Gary to get on the mailing list. \n 
URL:https://www.niagaragunclub.com/event/sporting-clay-shoot-5-2-2/2029-03-25/
CATEGORIES:Clay Shoots 8:30am
END:VEVENT
BEGIN:VEVENT
DTSTART;TZID=America/Toronto:20290325T103000
DTEND;TZID=America/Toronto:20290325T113000
DTSTAMP:20260419T201911
CREATED:20240530T154754Z
LAST-MODIFIED:20251120T143038Z
UID:10002133-1869129000-1869132600@www.niagaragunclub.com
SUMMARY:Sporting Clay 10:30am Shoot
DESCRIPTION:2nd Shoot.\nSporting Clays Program – Relay 2\n1030am Start APproximately- depends on how long Relay 1 goes. Typically goes 2 hours . Shoot goes in good or bad weather\nContact Gary to get on the mailing list. Garyiggulden@gmail.com \n 
URL:https://www.niagaragunclub.com/event/sporting-clay-sunday-shoot/2029-03-25/
CATEGORIES:Clay Shoots 10:30am
END:VEVENT
BEGIN:VEVENT
DTSTART;TZID=America/Toronto:20290328T083000
DTEND;TZID=America/Toronto:20290328T223000
DTSTAMP:20260419T201911
CREATED:20241209T030208Z
LAST-MODIFIED:20251120T142751Z
UID:10002778-1869381000-1869431400@www.niagaragunclub.com
SUMMARY:Wednesday Sporting Clays
DESCRIPTION:First Shoot goes 830 am until 1030 am (roughly 2 hours) \nSecond shoot goes 1030 am until 1230pm (Roughly 2 hours) \nContact Gary to get on the email list- garyiggulden@gmail.com
URL:https://www.niagaragunclub.com/event/wednesday-sporting-clays/2029-03-28/
END:VEVENT
BEGIN:VEVENT
DTSTART;TZID=America/Toronto:20290401T083000
DTEND;TZID=America/Toronto:20290401T213000
DTSTAMP:20260419T201911
CREATED:20241209T025611Z
LAST-MODIFIED:20241209T025613Z
UID:10002422-1869726600-1869773400@www.niagaragunclub.com
SUMMARY:Sporting Clay 8:30am Shoot
DESCRIPTION:1st Shoot.\nRelay 1\nStarts at 8:30am whether good weather or bad.\nContact Gary to get on the mailing list. \n 
URL:https://www.niagaragunclub.com/event/sporting-clay-shoot-5-2-2/2029-04-01/
CATEGORIES:Clay Shoots 8:30am
END:VEVENT
BEGIN:VEVENT
DTSTART;TZID=America/Toronto:20290401T103000
DTEND;TZID=America/Toronto:20290401T113000
DTSTAMP:20260419T201911
CREATED:20240530T154754Z
LAST-MODIFIED:20251120T143038Z
UID:10002134-1869733800-1869737400@www.niagaragunclub.com
SUMMARY:Sporting Clay 10:30am Shoot
DESCRIPTION:2nd Shoot.\nSporting Clays Program – Relay 2\n1030am Start APproximately- depends on how long Relay 1 goes. Typically goes 2 hours . Shoot goes in good or bad weather\nContact Gary to get on the mailing list. Garyiggulden@gmail.com \n 
URL:https://www.niagaragunclub.com/event/sporting-clay-sunday-shoot/2029-04-01/
CATEGORIES:Clay Shoots 10:30am
END:VEVENT
BEGIN:VEVENT
DTSTART;TZID=America/Toronto:20290404T083000
DTEND;TZID=America/Toronto:20290404T223000
DTSTAMP:20260419T201911
CREATED:20241209T030208Z
LAST-MODIFIED:20251120T142751Z
UID:10002779-1869985800-1870036200@www.niagaragunclub.com
SUMMARY:Wednesday Sporting Clays
DESCRIPTION:First Shoot goes 830 am until 1030 am (roughly 2 hours) \nSecond shoot goes 1030 am until 1230pm (Roughly 2 hours) \nContact Gary to get on the email list- garyiggulden@gmail.com
URL:https://www.niagaragunclub.com/event/wednesday-sporting-clays/2029-04-04/
END:VEVENT
BEGIN:VEVENT
DTSTART;TZID=America/Toronto:20290408T083000
DTEND;TZID=America/Toronto:20290408T213000
DTSTAMP:20260419T201911
CREATED:20241209T025611Z
LAST-MODIFIED:20241209T025613Z
UID:10002423-1870331400-1870378200@www.niagaragunclub.com
SUMMARY:Sporting Clay 8:30am Shoot
DESCRIPTION:1st Shoot.\nRelay 1\nStarts at 8:30am whether good weather or bad.\nContact Gary to get on the mailing list. \n 
URL:https://www.niagaragunclub.com/event/sporting-clay-shoot-5-2-2/2029-04-08/
CATEGORIES:Clay Shoots 8:30am
END:VEVENT
BEGIN:VEVENT
DTSTART;TZID=America/Toronto:20290408T103000
DTEND;TZID=America/Toronto:20290408T113000
DTSTAMP:20260419T201911
CREATED:20240530T154754Z
LAST-MODIFIED:20251120T143038Z
UID:10002135-1870338600-1870342200@www.niagaragunclub.com
SUMMARY:Sporting Clay 10:30am Shoot
DESCRIPTION:2nd Shoot.\nSporting Clays Program – Relay 2\n1030am Start APproximately- depends on how long Relay 1 goes. Typically goes 2 hours . Shoot goes in good or bad weather\nContact Gary to get on the mailing list. Garyiggulden@gmail.com \n 
URL:https://www.niagaragunclub.com/event/sporting-clay-sunday-shoot/2029-04-08/
CATEGORIES:Clay Shoots 10:30am
END:VEVENT
BEGIN:VEVENT
DTSTART;TZID=America/Toronto:20290411T083000
DTEND;TZID=America/Toronto:20290411T223000
DTSTAMP:20260419T201911
CREATED:20241209T030208Z
LAST-MODIFIED:20251120T142751Z
UID:10002780-1870590600-1870641000@www.niagaragunclub.com
SUMMARY:Wednesday Sporting Clays
DESCRIPTION:First Shoot goes 830 am until 1030 am (roughly 2 hours) \nSecond shoot goes 1030 am until 1230pm (Roughly 2 hours) \nContact Gary to get on the email list- garyiggulden@gmail.com
URL:https://www.niagaragunclub.com/event/wednesday-sporting-clays/2029-04-11/
END:VEVENT
BEGIN:VEVENT
DTSTART;TZID=America/Toronto:20290415T083000
DTEND;TZID=America/Toronto:20290415T213000
DTSTAMP:20260419T201911
CREATED:20241209T025611Z
LAST-MODIFIED:20241209T025613Z
UID:10002424-1870936200-1870983000@www.niagaragunclub.com
SUMMARY:Sporting Clay 8:30am Shoot
DESCRIPTION:1st Shoot.\nRelay 1\nStarts at 8:30am whether good weather or bad.\nContact Gary to get on the mailing list. \n 
URL:https://www.niagaragunclub.com/event/sporting-clay-shoot-5-2-2/2029-04-15/
CATEGORIES:Clay Shoots 8:30am
END:VEVENT
BEGIN:VEVENT
DTSTART;TZID=America/Toronto:20290415T103000
DTEND;TZID=America/Toronto:20290415T113000
DTSTAMP:20260419T201911
CREATED:20240530T154754Z
LAST-MODIFIED:20251120T143038Z
UID:10002136-1870943400-1870947000@www.niagaragunclub.com
SUMMARY:Sporting Clay 10:30am Shoot
DESCRIPTION:2nd Shoot.\nSporting Clays Program – Relay 2\n1030am Start APproximately- depends on how long Relay 1 goes. Typically goes 2 hours . Shoot goes in good or bad weather\nContact Gary to get on the mailing list. Garyiggulden@gmail.com \n 
URL:https://www.niagaragunclub.com/event/sporting-clay-sunday-shoot/2029-04-15/
CATEGORIES:Clay Shoots 10:30am
END:VEVENT
BEGIN:VEVENT
DTSTART;TZID=America/Toronto:20290418T083000
DTEND;TZID=America/Toronto:20290418T223000
DTSTAMP:20260419T201911
CREATED:20241209T030208Z
LAST-MODIFIED:20251120T142751Z
UID:10002781-1871195400-1871245800@www.niagaragunclub.com
SUMMARY:Wednesday Sporting Clays
DESCRIPTION:First Shoot goes 830 am until 1030 am (roughly 2 hours) \nSecond shoot goes 1030 am until 1230pm (Roughly 2 hours) \nContact Gary to get on the email list- garyiggulden@gmail.com
URL:https://www.niagaragunclub.com/event/wednesday-sporting-clays/2029-04-18/
END:VEVENT
BEGIN:VEVENT
DTSTART;TZID=America/Toronto:20290422T083000
DTEND;TZID=America/Toronto:20290422T213000
DTSTAMP:20260419T201911
CREATED:20241209T025611Z
LAST-MODIFIED:20241209T025613Z
UID:10002425-1871541000-1871587800@www.niagaragunclub.com
SUMMARY:Sporting Clay 8:30am Shoot
DESCRIPTION:1st Shoot.\nRelay 1\nStarts at 8:30am whether good weather or bad.\nContact Gary to get on the mailing list. \n 
URL:https://www.niagaragunclub.com/event/sporting-clay-shoot-5-2-2/2029-04-22/
CATEGORIES:Clay Shoots 8:30am
END:VEVENT
BEGIN:VEVENT
DTSTART;TZID=America/Toronto:20290422T103000
DTEND;TZID=America/Toronto:20290422T113000
DTSTAMP:20260419T201911
CREATED:20240530T154754Z
LAST-MODIFIED:20251120T143038Z
UID:10002137-1871548200-1871551800@www.niagaragunclub.com
SUMMARY:Sporting Clay 10:30am Shoot
DESCRIPTION:2nd Shoot.\nSporting Clays Program – Relay 2\n1030am Start APproximately- depends on how long Relay 1 goes. Typically goes 2 hours . Shoot goes in good or bad weather\nContact Gary to get on the mailing list. Garyiggulden@gmail.com \n 
URL:https://www.niagaragunclub.com/event/sporting-clay-sunday-shoot/2029-04-22/
CATEGORIES:Clay Shoots 10:30am
END:VEVENT
BEGIN:VEVENT
DTSTART;TZID=America/Toronto:20290425T083000
DTEND;TZID=America/Toronto:20290425T223000
DTSTAMP:20260419T201911
CREATED:20241209T030208Z
LAST-MODIFIED:20251120T142751Z
UID:10002782-1871800200-1871850600@www.niagaragunclub.com
SUMMARY:Wednesday Sporting Clays
DESCRIPTION:First Shoot goes 830 am until 1030 am (roughly 2 hours) \nSecond shoot goes 1030 am until 1230pm (Roughly 2 hours) \nContact Gary to get on the email list- garyiggulden@gmail.com
URL:https://www.niagaragunclub.com/event/wednesday-sporting-clays/2029-04-25/
END:VEVENT
BEGIN:VEVENT
DTSTART;TZID=America/Toronto:20290429T083000
DTEND;TZID=America/Toronto:20290429T213000
DTSTAMP:20260419T201911
CREATED:20241209T025611Z
LAST-MODIFIED:20241209T025613Z
UID:10002426-1872145800-1872192600@www.niagaragunclub.com
SUMMARY:Sporting Clay 8:30am Shoot
DESCRIPTION:1st Shoot.\nRelay 1\nStarts at 8:30am whether good weather or bad.\nContact Gary to get on the mailing list. \n 
URL:https://www.niagaragunclub.com/event/sporting-clay-shoot-5-2-2/2029-04-29/
CATEGORIES:Clay Shoots 8:30am
END:VEVENT
BEGIN:VEVENT
DTSTART;TZID=America/Toronto:20290429T103000
DTEND;TZID=America/Toronto:20290429T113000
DTSTAMP:20260419T201911
CREATED:20240530T154754Z
LAST-MODIFIED:20251120T143038Z
UID:10002138-1872153000-1872156600@www.niagaragunclub.com
SUMMARY:Sporting Clay 10:30am Shoot
DESCRIPTION:2nd Shoot.\nSporting Clays Program – Relay 2\n1030am Start APproximately- depends on how long Relay 1 goes. Typically goes 2 hours . Shoot goes in good or bad weather\nContact Gary to get on the mailing list. Garyiggulden@gmail.com \n 
URL:https://www.niagaragunclub.com/event/sporting-clay-sunday-shoot/2029-04-29/
CATEGORIES:Clay Shoots 10:30am
END:VEVENT
BEGIN:VEVENT
DTSTART;TZID=America/Toronto:20290502T083000
DTEND;TZID=America/Toronto:20290502T223000
DTSTAMP:20260419T201911
CREATED:20241209T030208Z
LAST-MODIFIED:20251120T142751Z
UID:10002783-1872405000-1872455400@www.niagaragunclub.com
SUMMARY:Wednesday Sporting Clays
DESCRIPTION:First Shoot goes 830 am until 1030 am (roughly 2 hours) \nSecond shoot goes 1030 am until 1230pm (Roughly 2 hours) \nContact Gary to get on the email list- garyiggulden@gmail.com
URL:https://www.niagaragunclub.com/event/wednesday-sporting-clays/2029-05-02/
END:VEVENT
BEGIN:VEVENT
DTSTART;TZID=America/Toronto:20290506T083000
DTEND;TZID=America/Toronto:20290506T213000
DTSTAMP:20260419T201911
CREATED:20241209T025611Z
LAST-MODIFIED:20241209T025613Z
UID:10002427-1872750600-1872797400@www.niagaragunclub.com
SUMMARY:Sporting Clay 8:30am Shoot
DESCRIPTION:1st Shoot.\nRelay 1\nStarts at 8:30am whether good weather or bad.\nContact Gary to get on the mailing list. \n 
URL:https://www.niagaragunclub.com/event/sporting-clay-shoot-5-2-2/2029-05-06/
CATEGORIES:Clay Shoots 8:30am
END:VEVENT
BEGIN:VEVENT
DTSTART;TZID=America/Toronto:20290506T103000
DTEND;TZID=America/Toronto:20290506T113000
DTSTAMP:20260419T201911
CREATED:20240530T154754Z
LAST-MODIFIED:20251120T143038Z
UID:10002139-1872757800-1872761400@www.niagaragunclub.com
SUMMARY:Sporting Clay 10:30am Shoot
DESCRIPTION:2nd Shoot.\nSporting Clays Program – Relay 2\n1030am Start APproximately- depends on how long Relay 1 goes. Typically goes 2 hours . Shoot goes in good or bad weather\nContact Gary to get on the mailing list. Garyiggulden@gmail.com \n 
URL:https://www.niagaragunclub.com/event/sporting-clay-sunday-shoot/2029-05-06/
CATEGORIES:Clay Shoots 10:30am
END:VEVENT
BEGIN:VEVENT
DTSTART;TZID=America/Toronto:20290509T083000
DTEND;TZID=America/Toronto:20290509T223000
DTSTAMP:20260419T201911
CREATED:20241209T030208Z
LAST-MODIFIED:20251120T142751Z
UID:10002784-1873009800-1873060200@www.niagaragunclub.com
SUMMARY:Wednesday Sporting Clays
DESCRIPTION:First Shoot goes 830 am until 1030 am (roughly 2 hours) \nSecond shoot goes 1030 am until 1230pm (Roughly 2 hours) \nContact Gary to get on the email list- garyiggulden@gmail.com
URL:https://www.niagaragunclub.com/event/wednesday-sporting-clays/2029-05-09/
END:VEVENT
BEGIN:VEVENT
DTSTART;TZID=America/Toronto:20290513T083000
DTEND;TZID=America/Toronto:20290513T213000
DTSTAMP:20260419T201911
CREATED:20241209T025611Z
LAST-MODIFIED:20241209T025613Z
UID:10002428-1873355400-1873402200@www.niagaragunclub.com
SUMMARY:Sporting Clay 8:30am Shoot
DESCRIPTION:1st Shoot.\nRelay 1\nStarts at 8:30am whether good weather or bad.\nContact Gary to get on the mailing list. \n 
URL:https://www.niagaragunclub.com/event/sporting-clay-shoot-5-2-2/2029-05-13/
CATEGORIES:Clay Shoots 8:30am
END:VEVENT
BEGIN:VEVENT
DTSTART;TZID=America/Toronto:20290513T103000
DTEND;TZID=America/Toronto:20290513T113000
DTSTAMP:20260419T201911
CREATED:20240530T154754Z
LAST-MODIFIED:20251120T143038Z
UID:10002140-1873362600-1873366200@www.niagaragunclub.com
SUMMARY:Sporting Clay 10:30am Shoot
DESCRIPTION:2nd Shoot.\nSporting Clays Program – Relay 2\n1030am Start APproximately- depends on how long Relay 1 goes. Typically goes 2 hours . Shoot goes in good or bad weather\nContact Gary to get on the mailing list. Garyiggulden@gmail.com \n 
URL:https://www.niagaragunclub.com/event/sporting-clay-sunday-shoot/2029-05-13/
CATEGORIES:Clay Shoots 10:30am
END:VEVENT
BEGIN:VEVENT
DTSTART;TZID=America/Toronto:20290516T083000
DTEND;TZID=America/Toronto:20290516T223000
DTSTAMP:20260419T201911
CREATED:20241209T030208Z
LAST-MODIFIED:20251120T142751Z
UID:10002785-1873614600-1873665000@www.niagaragunclub.com
SUMMARY:Wednesday Sporting Clays
DESCRIPTION:First Shoot goes 830 am until 1030 am (roughly 2 hours) \nSecond shoot goes 1030 am until 1230pm (Roughly 2 hours) \nContact Gary to get on the email list- garyiggulden@gmail.com
URL:https://www.niagaragunclub.com/event/wednesday-sporting-clays/2029-05-16/
END:VEVENT
END:VCALENDAR