BEGIN:VCALENDAR
VERSION:2.0
PRODID:-//Niagara Regional Sportsmen&#039;s Gun Club - ECPv6.15.20//NONSGML v1.0//EN
CALSCALE:GREGORIAN
METHOD:PUBLISH
X-WR-CALNAME:Niagara Regional Sportsmen&#039;s Gun Club
X-ORIGINAL-URL:https://www.niagaragunclub.com
X-WR-CALDESC:Events for Niagara Regional Sportsmen&#039;s Gun Club
REFRESH-INTERVAL;VALUE=DURATION:PT1H
X-Robots-Tag:noindex
X-PUBLISHED-TTL:PT1H
BEGIN:VTIMEZONE
TZID:America/Toronto
BEGIN:DAYLIGHT
TZOFFSETFROM:-0500
TZOFFSETTO:-0400
TZNAME:EDT
DTSTART:20270314T070000
END:DAYLIGHT
BEGIN:STANDARD
TZOFFSETFROM:-0400
TZOFFSETTO:-0500
TZNAME:EST
DTSTART:20271107T060000
END:STANDARD
BEGIN:DAYLIGHT
TZOFFSETFROM:-0500
TZOFFSETTO:-0400
TZNAME:EDT
DTSTART:20280312T070000
END:DAYLIGHT
BEGIN:STANDARD
TZOFFSETFROM:-0400
TZOFFSETTO:-0500
TZNAME:EST
DTSTART:20281105T060000
END:STANDARD
BEGIN:DAYLIGHT
TZOFFSETFROM:-0500
TZOFFSETTO:-0400
TZNAME:EDT
DTSTART:20290311T070000
END:DAYLIGHT
BEGIN:STANDARD
TZOFFSETFROM:-0400
TZOFFSETTO:-0500
TZNAME:EST
DTSTART:20291104T060000
END:STANDARD
END:VTIMEZONE
BEGIN:VEVENT
DTSTART;TZID=America/Toronto:20280924T083000
DTEND;TZID=America/Toronto:20280924T213000
DTSTAMP:20260419T150212
CREATED:20241209T025611Z
LAST-MODIFIED:20241209T025613Z
UID:10002395-1853397000-1853443800@www.niagaragunclub.com
SUMMARY:Sporting Clay 8:30am Shoot
DESCRIPTION:1st Shoot.\nRelay 1\nStarts at 8:30am whether good weather or bad.\nContact Gary to get on the mailing list. \n 
URL:https://www.niagaragunclub.com/event/sporting-clay-shoot-5-2-2/2028-09-24/
CATEGORIES:Clay Shoots 8:30am
END:VEVENT
BEGIN:VEVENT
DTSTART;TZID=America/Toronto:20280924T103000
DTEND;TZID=America/Toronto:20280924T113000
DTSTAMP:20260419T150212
CREATED:20240530T154754Z
LAST-MODIFIED:20251120T143038Z
UID:10002107-1853404200-1853407800@www.niagaragunclub.com
SUMMARY:Sporting Clay 10:30am Shoot
DESCRIPTION:2nd Shoot.\nSporting Clays Program – Relay 2\n1030am Start APproximately- depends on how long Relay 1 goes. Typically goes 2 hours . Shoot goes in good or bad weather\nContact Gary to get on the mailing list. Garyiggulden@gmail.com \n 
URL:https://www.niagaragunclub.com/event/sporting-clay-sunday-shoot/2028-09-24/
CATEGORIES:Clay Shoots 10:30am
END:VEVENT
BEGIN:VEVENT
DTSTART;TZID=America/Toronto:20280927T083000
DTEND;TZID=America/Toronto:20280927T223000
DTSTAMP:20260419T150212
CREATED:20241209T030208Z
LAST-MODIFIED:20251120T142751Z
UID:10002752-1853656200-1853706600@www.niagaragunclub.com
SUMMARY:Wednesday Sporting Clays
DESCRIPTION:First Shoot goes 830 am until 1030 am (roughly 2 hours) \nSecond shoot goes 1030 am until 1230pm (Roughly 2 hours) \nContact Gary to get on the email list- garyiggulden@gmail.com
URL:https://www.niagaragunclub.com/event/wednesday-sporting-clays/2028-09-27/
END:VEVENT
BEGIN:VEVENT
DTSTART;TZID=America/Toronto:20281001T083000
DTEND;TZID=America/Toronto:20281001T213000
DTSTAMP:20260419T150212
CREATED:20241209T025611Z
LAST-MODIFIED:20241209T025613Z
UID:10002396-1854001800-1854048600@www.niagaragunclub.com
SUMMARY:Sporting Clay 8:30am Shoot
DESCRIPTION:1st Shoot.\nRelay 1\nStarts at 8:30am whether good weather or bad.\nContact Gary to get on the mailing list. \n 
URL:https://www.niagaragunclub.com/event/sporting-clay-shoot-5-2-2/2028-10-01/
CATEGORIES:Clay Shoots 8:30am
END:VEVENT
BEGIN:VEVENT
DTSTART;TZID=America/Toronto:20281001T103000
DTEND;TZID=America/Toronto:20281001T113000
DTSTAMP:20260419T150212
CREATED:20240530T154754Z
LAST-MODIFIED:20251120T143038Z
UID:10002108-1854009000-1854012600@www.niagaragunclub.com
SUMMARY:Sporting Clay 10:30am Shoot
DESCRIPTION:2nd Shoot.\nSporting Clays Program – Relay 2\n1030am Start APproximately- depends on how long Relay 1 goes. Typically goes 2 hours . Shoot goes in good or bad weather\nContact Gary to get on the mailing list. Garyiggulden@gmail.com \n 
URL:https://www.niagaragunclub.com/event/sporting-clay-sunday-shoot/2028-10-01/
CATEGORIES:Clay Shoots 10:30am
END:VEVENT
BEGIN:VEVENT
DTSTART;TZID=America/Toronto:20281004T083000
DTEND;TZID=America/Toronto:20281004T223000
DTSTAMP:20260419T150212
CREATED:20241209T030208Z
LAST-MODIFIED:20251120T142751Z
UID:10002753-1854261000-1854311400@www.niagaragunclub.com
SUMMARY:Wednesday Sporting Clays
DESCRIPTION:First Shoot goes 830 am until 1030 am (roughly 2 hours) \nSecond shoot goes 1030 am until 1230pm (Roughly 2 hours) \nContact Gary to get on the email list- garyiggulden@gmail.com
URL:https://www.niagaragunclub.com/event/wednesday-sporting-clays/2028-10-04/
END:VEVENT
BEGIN:VEVENT
DTSTART;TZID=America/Toronto:20281008T083000
DTEND;TZID=America/Toronto:20281008T213000
DTSTAMP:20260419T150212
CREATED:20241209T025611Z
LAST-MODIFIED:20241209T025613Z
UID:10002397-1854606600-1854653400@www.niagaragunclub.com
SUMMARY:Sporting Clay 8:30am Shoot
DESCRIPTION:1st Shoot.\nRelay 1\nStarts at 8:30am whether good weather or bad.\nContact Gary to get on the mailing list. \n 
URL:https://www.niagaragunclub.com/event/sporting-clay-shoot-5-2-2/2028-10-08/
CATEGORIES:Clay Shoots 8:30am
END:VEVENT
BEGIN:VEVENT
DTSTART;TZID=America/Toronto:20281008T103000
DTEND;TZID=America/Toronto:20281008T113000
DTSTAMP:20260419T150212
CREATED:20240530T154754Z
LAST-MODIFIED:20251120T143038Z
UID:10002109-1854613800-1854617400@www.niagaragunclub.com
SUMMARY:Sporting Clay 10:30am Shoot
DESCRIPTION:2nd Shoot.\nSporting Clays Program – Relay 2\n1030am Start APproximately- depends on how long Relay 1 goes. Typically goes 2 hours . Shoot goes in good or bad weather\nContact Gary to get on the mailing list. Garyiggulden@gmail.com \n 
URL:https://www.niagaragunclub.com/event/sporting-clay-sunday-shoot/2028-10-08/
CATEGORIES:Clay Shoots 10:30am
END:VEVENT
BEGIN:VEVENT
DTSTART;TZID=America/Toronto:20281011T083000
DTEND;TZID=America/Toronto:20281011T223000
DTSTAMP:20260419T150212
CREATED:20241209T030208Z
LAST-MODIFIED:20251120T142751Z
UID:10002754-1854865800-1854916200@www.niagaragunclub.com
SUMMARY:Wednesday Sporting Clays
DESCRIPTION:First Shoot goes 830 am until 1030 am (roughly 2 hours) \nSecond shoot goes 1030 am until 1230pm (Roughly 2 hours) \nContact Gary to get on the email list- garyiggulden@gmail.com
URL:https://www.niagaragunclub.com/event/wednesday-sporting-clays/2028-10-11/
END:VEVENT
BEGIN:VEVENT
DTSTART;TZID=America/Toronto:20281015T083000
DTEND;TZID=America/Toronto:20281015T213000
DTSTAMP:20260419T150212
CREATED:20241209T025611Z
LAST-MODIFIED:20241209T025613Z
UID:10002398-1855211400-1855258200@www.niagaragunclub.com
SUMMARY:Sporting Clay 8:30am Shoot
DESCRIPTION:1st Shoot.\nRelay 1\nStarts at 8:30am whether good weather or bad.\nContact Gary to get on the mailing list. \n 
URL:https://www.niagaragunclub.com/event/sporting-clay-shoot-5-2-2/2028-10-15/
CATEGORIES:Clay Shoots 8:30am
END:VEVENT
BEGIN:VEVENT
DTSTART;TZID=America/Toronto:20281015T103000
DTEND;TZID=America/Toronto:20281015T113000
DTSTAMP:20260419T150212
CREATED:20240530T154754Z
LAST-MODIFIED:20251120T143038Z
UID:10002110-1855218600-1855222200@www.niagaragunclub.com
SUMMARY:Sporting Clay 10:30am Shoot
DESCRIPTION:2nd Shoot.\nSporting Clays Program – Relay 2\n1030am Start APproximately- depends on how long Relay 1 goes. Typically goes 2 hours . Shoot goes in good or bad weather\nContact Gary to get on the mailing list. Garyiggulden@gmail.com \n 
URL:https://www.niagaragunclub.com/event/sporting-clay-sunday-shoot/2028-10-15/
CATEGORIES:Clay Shoots 10:30am
END:VEVENT
BEGIN:VEVENT
DTSTART;TZID=America/Toronto:20281018T083000
DTEND;TZID=America/Toronto:20281018T223000
DTSTAMP:20260419T150212
CREATED:20241209T030208Z
LAST-MODIFIED:20251120T142751Z
UID:10002755-1855470600-1855521000@www.niagaragunclub.com
SUMMARY:Wednesday Sporting Clays
DESCRIPTION:First Shoot goes 830 am until 1030 am (roughly 2 hours) \nSecond shoot goes 1030 am until 1230pm (Roughly 2 hours) \nContact Gary to get on the email list- garyiggulden@gmail.com
URL:https://www.niagaragunclub.com/event/wednesday-sporting-clays/2028-10-18/
END:VEVENT
BEGIN:VEVENT
DTSTART;TZID=America/Toronto:20281022T083000
DTEND;TZID=America/Toronto:20281022T213000
DTSTAMP:20260419T150212
CREATED:20241209T025611Z
LAST-MODIFIED:20241209T025613Z
UID:10002399-1855816200-1855863000@www.niagaragunclub.com
SUMMARY:Sporting Clay 8:30am Shoot
DESCRIPTION:1st Shoot.\nRelay 1\nStarts at 8:30am whether good weather or bad.\nContact Gary to get on the mailing list. \n 
URL:https://www.niagaragunclub.com/event/sporting-clay-shoot-5-2-2/2028-10-22/
CATEGORIES:Clay Shoots 8:30am
END:VEVENT
BEGIN:VEVENT
DTSTART;TZID=America/Toronto:20281022T103000
DTEND;TZID=America/Toronto:20281022T113000
DTSTAMP:20260419T150212
CREATED:20240530T154754Z
LAST-MODIFIED:20251120T143038Z
UID:10002111-1855823400-1855827000@www.niagaragunclub.com
SUMMARY:Sporting Clay 10:30am Shoot
DESCRIPTION:2nd Shoot.\nSporting Clays Program – Relay 2\n1030am Start APproximately- depends on how long Relay 1 goes. Typically goes 2 hours . Shoot goes in good or bad weather\nContact Gary to get on the mailing list. Garyiggulden@gmail.com \n 
URL:https://www.niagaragunclub.com/event/sporting-clay-sunday-shoot/2028-10-22/
CATEGORIES:Clay Shoots 10:30am
END:VEVENT
BEGIN:VEVENT
DTSTART;TZID=America/Toronto:20281025T083000
DTEND;TZID=America/Toronto:20281025T223000
DTSTAMP:20260419T150212
CREATED:20241209T030208Z
LAST-MODIFIED:20251120T142751Z
UID:10002756-1856075400-1856125800@www.niagaragunclub.com
SUMMARY:Wednesday Sporting Clays
DESCRIPTION:First Shoot goes 830 am until 1030 am (roughly 2 hours) \nSecond shoot goes 1030 am until 1230pm (Roughly 2 hours) \nContact Gary to get on the email list- garyiggulden@gmail.com
URL:https://www.niagaragunclub.com/event/wednesday-sporting-clays/2028-10-25/
END:VEVENT
BEGIN:VEVENT
DTSTART;TZID=America/Toronto:20281029T083000
DTEND;TZID=America/Toronto:20281029T213000
DTSTAMP:20260419T150212
CREATED:20241209T025611Z
LAST-MODIFIED:20241209T025613Z
UID:10002400-1856421000-1856467800@www.niagaragunclub.com
SUMMARY:Sporting Clay 8:30am Shoot
DESCRIPTION:1st Shoot.\nRelay 1\nStarts at 8:30am whether good weather or bad.\nContact Gary to get on the mailing list. \n 
URL:https://www.niagaragunclub.com/event/sporting-clay-shoot-5-2-2/2028-10-29/
CATEGORIES:Clay Shoots 8:30am
END:VEVENT
BEGIN:VEVENT
DTSTART;TZID=America/Toronto:20281029T103000
DTEND;TZID=America/Toronto:20281029T113000
DTSTAMP:20260419T150212
CREATED:20240530T154754Z
LAST-MODIFIED:20251120T143038Z
UID:10002112-1856428200-1856431800@www.niagaragunclub.com
SUMMARY:Sporting Clay 10:30am Shoot
DESCRIPTION:2nd Shoot.\nSporting Clays Program – Relay 2\n1030am Start APproximately- depends on how long Relay 1 goes. Typically goes 2 hours . Shoot goes in good or bad weather\nContact Gary to get on the mailing list. Garyiggulden@gmail.com \n 
URL:https://www.niagaragunclub.com/event/sporting-clay-sunday-shoot/2028-10-29/
CATEGORIES:Clay Shoots 10:30am
END:VEVENT
BEGIN:VEVENT
DTSTART;TZID=America/Toronto:20281101T083000
DTEND;TZID=America/Toronto:20281101T223000
DTSTAMP:20260419T150212
CREATED:20241209T030208Z
LAST-MODIFIED:20251120T142751Z
UID:10002757-1856680200-1856730600@www.niagaragunclub.com
SUMMARY:Wednesday Sporting Clays
DESCRIPTION:First Shoot goes 830 am until 1030 am (roughly 2 hours) \nSecond shoot goes 1030 am until 1230pm (Roughly 2 hours) \nContact Gary to get on the email list- garyiggulden@gmail.com
URL:https://www.niagaragunclub.com/event/wednesday-sporting-clays/2028-11-01/
END:VEVENT
BEGIN:VEVENT
DTSTART;TZID=America/Toronto:20281105T083000
DTEND;TZID=America/Toronto:20281105T213000
DTSTAMP:20260419T150212
CREATED:20241209T025611Z
LAST-MODIFIED:20241209T025613Z
UID:10002401-1857025800-1857072600@www.niagaragunclub.com
SUMMARY:Sporting Clay 8:30am Shoot
DESCRIPTION:1st Shoot.\nRelay 1\nStarts at 8:30am whether good weather or bad.\nContact Gary to get on the mailing list. \n 
URL:https://www.niagaragunclub.com/event/sporting-clay-shoot-5-2-2/2028-11-05/
CATEGORIES:Clay Shoots 8:30am
END:VEVENT
BEGIN:VEVENT
DTSTART;TZID=America/Toronto:20281105T103000
DTEND;TZID=America/Toronto:20281105T113000
DTSTAMP:20260419T150212
CREATED:20240530T154754Z
LAST-MODIFIED:20251120T143038Z
UID:10002113-1857033000-1857036600@www.niagaragunclub.com
SUMMARY:Sporting Clay 10:30am Shoot
DESCRIPTION:2nd Shoot.\nSporting Clays Program – Relay 2\n1030am Start APproximately- depends on how long Relay 1 goes. Typically goes 2 hours . Shoot goes in good or bad weather\nContact Gary to get on the mailing list. Garyiggulden@gmail.com \n 
URL:https://www.niagaragunclub.com/event/sporting-clay-sunday-shoot/2028-11-05/
CATEGORIES:Clay Shoots 10:30am
END:VEVENT
BEGIN:VEVENT
DTSTART;TZID=America/Toronto:20281108T083000
DTEND;TZID=America/Toronto:20281108T223000
DTSTAMP:20260419T150212
CREATED:20241209T030208Z
LAST-MODIFIED:20251120T142751Z
UID:10002758-1857285000-1857335400@www.niagaragunclub.com
SUMMARY:Wednesday Sporting Clays
DESCRIPTION:First Shoot goes 830 am until 1030 am (roughly 2 hours) \nSecond shoot goes 1030 am until 1230pm (Roughly 2 hours) \nContact Gary to get on the email list- garyiggulden@gmail.com
URL:https://www.niagaragunclub.com/event/wednesday-sporting-clays/2028-11-08/
END:VEVENT
BEGIN:VEVENT
DTSTART;TZID=America/Toronto:20281112T083000
DTEND;TZID=America/Toronto:20281112T213000
DTSTAMP:20260419T150212
CREATED:20241209T025611Z
LAST-MODIFIED:20241209T025613Z
UID:10002402-1857630600-1857677400@www.niagaragunclub.com
SUMMARY:Sporting Clay 8:30am Shoot
DESCRIPTION:1st Shoot.\nRelay 1\nStarts at 8:30am whether good weather or bad.\nContact Gary to get on the mailing list. \n 
URL:https://www.niagaragunclub.com/event/sporting-clay-shoot-5-2-2/2028-11-12/
CATEGORIES:Clay Shoots 8:30am
END:VEVENT
BEGIN:VEVENT
DTSTART;TZID=America/Toronto:20281112T103000
DTEND;TZID=America/Toronto:20281112T113000
DTSTAMP:20260419T150212
CREATED:20240530T154754Z
LAST-MODIFIED:20251120T143038Z
UID:10002114-1857637800-1857641400@www.niagaragunclub.com
SUMMARY:Sporting Clay 10:30am Shoot
DESCRIPTION:2nd Shoot.\nSporting Clays Program – Relay 2\n1030am Start APproximately- depends on how long Relay 1 goes. Typically goes 2 hours . Shoot goes in good or bad weather\nContact Gary to get on the mailing list. Garyiggulden@gmail.com \n 
URL:https://www.niagaragunclub.com/event/sporting-clay-sunday-shoot/2028-11-12/
CATEGORIES:Clay Shoots 10:30am
END:VEVENT
BEGIN:VEVENT
DTSTART;TZID=America/Toronto:20281115T083000
DTEND;TZID=America/Toronto:20281115T223000
DTSTAMP:20260419T150212
CREATED:20241209T030208Z
LAST-MODIFIED:20251120T142751Z
UID:10002759-1857889800-1857940200@www.niagaragunclub.com
SUMMARY:Wednesday Sporting Clays
DESCRIPTION:First Shoot goes 830 am until 1030 am (roughly 2 hours) \nSecond shoot goes 1030 am until 1230pm (Roughly 2 hours) \nContact Gary to get on the email list- garyiggulden@gmail.com
URL:https://www.niagaragunclub.com/event/wednesday-sporting-clays/2028-11-15/
END:VEVENT
BEGIN:VEVENT
DTSTART;TZID=America/Toronto:20281119T083000
DTEND;TZID=America/Toronto:20281119T213000
DTSTAMP:20260419T150212
CREATED:20241209T025611Z
LAST-MODIFIED:20241209T025613Z
UID:10002403-1858235400-1858282200@www.niagaragunclub.com
SUMMARY:Sporting Clay 8:30am Shoot
DESCRIPTION:1st Shoot.\nRelay 1\nStarts at 8:30am whether good weather or bad.\nContact Gary to get on the mailing list. \n 
URL:https://www.niagaragunclub.com/event/sporting-clay-shoot-5-2-2/2028-11-19/
CATEGORIES:Clay Shoots 8:30am
END:VEVENT
BEGIN:VEVENT
DTSTART;TZID=America/Toronto:20281119T103000
DTEND;TZID=America/Toronto:20281119T113000
DTSTAMP:20260419T150212
CREATED:20240530T154754Z
LAST-MODIFIED:20251120T143038Z
UID:10002115-1858242600-1858246200@www.niagaragunclub.com
SUMMARY:Sporting Clay 10:30am Shoot
DESCRIPTION:2nd Shoot.\nSporting Clays Program – Relay 2\n1030am Start APproximately- depends on how long Relay 1 goes. Typically goes 2 hours . Shoot goes in good or bad weather\nContact Gary to get on the mailing list. Garyiggulden@gmail.com \n 
URL:https://www.niagaragunclub.com/event/sporting-clay-sunday-shoot/2028-11-19/
CATEGORIES:Clay Shoots 10:30am
END:VEVENT
BEGIN:VEVENT
DTSTART;TZID=America/Toronto:20281122T083000
DTEND;TZID=America/Toronto:20281122T223000
DTSTAMP:20260419T150212
CREATED:20241209T030208Z
LAST-MODIFIED:20251120T142751Z
UID:10002760-1858494600-1858545000@www.niagaragunclub.com
SUMMARY:Wednesday Sporting Clays
DESCRIPTION:First Shoot goes 830 am until 1030 am (roughly 2 hours) \nSecond shoot goes 1030 am until 1230pm (Roughly 2 hours) \nContact Gary to get on the email list- garyiggulden@gmail.com
URL:https://www.niagaragunclub.com/event/wednesday-sporting-clays/2028-11-22/
END:VEVENT
BEGIN:VEVENT
DTSTART;TZID=America/Toronto:20281126T083000
DTEND;TZID=America/Toronto:20281126T213000
DTSTAMP:20260419T150212
CREATED:20241209T025611Z
LAST-MODIFIED:20241209T025613Z
UID:10002404-1858840200-1858887000@www.niagaragunclub.com
SUMMARY:Sporting Clay 8:30am Shoot
DESCRIPTION:1st Shoot.\nRelay 1\nStarts at 8:30am whether good weather or bad.\nContact Gary to get on the mailing list. \n 
URL:https://www.niagaragunclub.com/event/sporting-clay-shoot-5-2-2/2028-11-26/
CATEGORIES:Clay Shoots 8:30am
END:VEVENT
BEGIN:VEVENT
DTSTART;TZID=America/Toronto:20281126T103000
DTEND;TZID=America/Toronto:20281126T113000
DTSTAMP:20260419T150212
CREATED:20240530T154754Z
LAST-MODIFIED:20251120T143038Z
UID:10002116-1858847400-1858851000@www.niagaragunclub.com
SUMMARY:Sporting Clay 10:30am Shoot
DESCRIPTION:2nd Shoot.\nSporting Clays Program – Relay 2\n1030am Start APproximately- depends on how long Relay 1 goes. Typically goes 2 hours . Shoot goes in good or bad weather\nContact Gary to get on the mailing list. Garyiggulden@gmail.com \n 
URL:https://www.niagaragunclub.com/event/sporting-clay-sunday-shoot/2028-11-26/
CATEGORIES:Clay Shoots 10:30am
END:VEVENT
BEGIN:VEVENT
DTSTART;TZID=America/Toronto:20281129T083000
DTEND;TZID=America/Toronto:20281129T223000
DTSTAMP:20260419T150212
CREATED:20241209T030208Z
LAST-MODIFIED:20251120T142751Z
UID:10002761-1859099400-1859149800@www.niagaragunclub.com
SUMMARY:Wednesday Sporting Clays
DESCRIPTION:First Shoot goes 830 am until 1030 am (roughly 2 hours) \nSecond shoot goes 1030 am until 1230pm (Roughly 2 hours) \nContact Gary to get on the email list- garyiggulden@gmail.com
URL:https://www.niagaragunclub.com/event/wednesday-sporting-clays/2028-11-29/
END:VEVENT
END:VCALENDAR