BEGIN:VCALENDAR
VERSION:2.0
PRODID:-//Niagara Regional Sportsmen&#039;s Gun Club - ECPv6.15.20//NONSGML v1.0//EN
CALSCALE:GREGORIAN
METHOD:PUBLISH
X-WR-CALNAME:Niagara Regional Sportsmen&#039;s Gun Club
X-ORIGINAL-URL:https://www.niagaragunclub.com
X-WR-CALDESC:Events for Niagara Regional Sportsmen&#039;s Gun Club
REFRESH-INTERVAL;VALUE=DURATION:PT1H
X-Robots-Tag:noindex
X-PUBLISHED-TTL:PT1H
BEGIN:VTIMEZONE
TZID:America/Toronto
BEGIN:DAYLIGHT
TZOFFSETFROM:-0500
TZOFFSETTO:-0400
TZNAME:EDT
DTSTART:20270314T070000
END:DAYLIGHT
BEGIN:STANDARD
TZOFFSETFROM:-0400
TZOFFSETTO:-0500
TZNAME:EST
DTSTART:20271107T060000
END:STANDARD
BEGIN:DAYLIGHT
TZOFFSETFROM:-0500
TZOFFSETTO:-0400
TZNAME:EDT
DTSTART:20280312T070000
END:DAYLIGHT
BEGIN:STANDARD
TZOFFSETFROM:-0400
TZOFFSETTO:-0500
TZNAME:EST
DTSTART:20281105T060000
END:STANDARD
BEGIN:DAYLIGHT
TZOFFSETFROM:-0500
TZOFFSETTO:-0400
TZNAME:EDT
DTSTART:20290311T070000
END:DAYLIGHT
BEGIN:STANDARD
TZOFFSETFROM:-0400
TZOFFSETTO:-0500
TZNAME:EST
DTSTART:20291104T060000
END:STANDARD
END:VTIMEZONE
BEGIN:VEVENT
DTSTART;TZID=America/Toronto:20280621T083000
DTEND;TZID=America/Toronto:20280621T223000
DTSTAMP:20260419T131651
CREATED:20241209T030208Z
LAST-MODIFIED:20251120T142751Z
UID:10002738-1845189000-1845239400@www.niagaragunclub.com
SUMMARY:Wednesday Sporting Clays
DESCRIPTION:First Shoot goes 830 am until 1030 am (roughly 2 hours) \nSecond shoot goes 1030 am until 1230pm (Roughly 2 hours) \nContact Gary to get on the email list- garyiggulden@gmail.com
URL:https://www.niagaragunclub.com/event/wednesday-sporting-clays/2028-06-21/
END:VEVENT
BEGIN:VEVENT
DTSTART;TZID=America/Toronto:20280625T083000
DTEND;TZID=America/Toronto:20280625T213000
DTSTAMP:20260419T131651
CREATED:20241209T025611Z
LAST-MODIFIED:20241209T025613Z
UID:10002382-1845534600-1845581400@www.niagaragunclub.com
SUMMARY:Sporting Clay 8:30am Shoot
DESCRIPTION:1st Shoot.\nRelay 1\nStarts at 8:30am whether good weather or bad.\nContact Gary to get on the mailing list. \n 
URL:https://www.niagaragunclub.com/event/sporting-clay-shoot-5-2-2/2028-06-25/
CATEGORIES:Clay Shoots 8:30am
END:VEVENT
BEGIN:VEVENT
DTSTART;TZID=America/Toronto:20280625T103000
DTEND;TZID=America/Toronto:20280625T113000
DTSTAMP:20260419T131651
CREATED:20240530T154754Z
LAST-MODIFIED:20251120T143038Z
UID:10002094-1845541800-1845545400@www.niagaragunclub.com
SUMMARY:Sporting Clay 10:30am Shoot
DESCRIPTION:2nd Shoot.\nSporting Clays Program – Relay 2\n1030am Start APproximately- depends on how long Relay 1 goes. Typically goes 2 hours . Shoot goes in good or bad weather\nContact Gary to get on the mailing list. Garyiggulden@gmail.com \n 
URL:https://www.niagaragunclub.com/event/sporting-clay-sunday-shoot/2028-06-25/
CATEGORIES:Clay Shoots 10:30am
END:VEVENT
BEGIN:VEVENT
DTSTART;TZID=America/Toronto:20280628T083000
DTEND;TZID=America/Toronto:20280628T223000
DTSTAMP:20260419T131651
CREATED:20241209T030208Z
LAST-MODIFIED:20251120T142751Z
UID:10002739-1845793800-1845844200@www.niagaragunclub.com
SUMMARY:Wednesday Sporting Clays
DESCRIPTION:First Shoot goes 830 am until 1030 am (roughly 2 hours) \nSecond shoot goes 1030 am until 1230pm (Roughly 2 hours) \nContact Gary to get on the email list- garyiggulden@gmail.com
URL:https://www.niagaragunclub.com/event/wednesday-sporting-clays/2028-06-28/
END:VEVENT
BEGIN:VEVENT
DTSTART;TZID=America/Toronto:20280702T083000
DTEND;TZID=America/Toronto:20280702T213000
DTSTAMP:20260419T131651
CREATED:20241209T025611Z
LAST-MODIFIED:20241209T025613Z
UID:10002383-1846139400-1846186200@www.niagaragunclub.com
SUMMARY:Sporting Clay 8:30am Shoot
DESCRIPTION:1st Shoot.\nRelay 1\nStarts at 8:30am whether good weather or bad.\nContact Gary to get on the mailing list. \n 
URL:https://www.niagaragunclub.com/event/sporting-clay-shoot-5-2-2/2028-07-02/
CATEGORIES:Clay Shoots 8:30am
END:VEVENT
BEGIN:VEVENT
DTSTART;TZID=America/Toronto:20280702T103000
DTEND;TZID=America/Toronto:20280702T113000
DTSTAMP:20260419T131651
CREATED:20240530T154754Z
LAST-MODIFIED:20251120T143038Z
UID:10002095-1846146600-1846150200@www.niagaragunclub.com
SUMMARY:Sporting Clay 10:30am Shoot
DESCRIPTION:2nd Shoot.\nSporting Clays Program – Relay 2\n1030am Start APproximately- depends on how long Relay 1 goes. Typically goes 2 hours . Shoot goes in good or bad weather\nContact Gary to get on the mailing list. Garyiggulden@gmail.com \n 
URL:https://www.niagaragunclub.com/event/sporting-clay-sunday-shoot/2028-07-02/
CATEGORIES:Clay Shoots 10:30am
END:VEVENT
BEGIN:VEVENT
DTSTART;TZID=America/Toronto:20280705T083000
DTEND;TZID=America/Toronto:20280705T223000
DTSTAMP:20260419T131651
CREATED:20241209T030208Z
LAST-MODIFIED:20251120T142751Z
UID:10002740-1846398600-1846449000@www.niagaragunclub.com
SUMMARY:Wednesday Sporting Clays
DESCRIPTION:First Shoot goes 830 am until 1030 am (roughly 2 hours) \nSecond shoot goes 1030 am until 1230pm (Roughly 2 hours) \nContact Gary to get on the email list- garyiggulden@gmail.com
URL:https://www.niagaragunclub.com/event/wednesday-sporting-clays/2028-07-05/
END:VEVENT
BEGIN:VEVENT
DTSTART;TZID=America/Toronto:20280709T083000
DTEND;TZID=America/Toronto:20280709T213000
DTSTAMP:20260419T131651
CREATED:20241209T025611Z
LAST-MODIFIED:20241209T025613Z
UID:10002384-1846744200-1846791000@www.niagaragunclub.com
SUMMARY:Sporting Clay 8:30am Shoot
DESCRIPTION:1st Shoot.\nRelay 1\nStarts at 8:30am whether good weather or bad.\nContact Gary to get on the mailing list. \n 
URL:https://www.niagaragunclub.com/event/sporting-clay-shoot-5-2-2/2028-07-09/
CATEGORIES:Clay Shoots 8:30am
END:VEVENT
BEGIN:VEVENT
DTSTART;TZID=America/Toronto:20280709T103000
DTEND;TZID=America/Toronto:20280709T113000
DTSTAMP:20260419T131651
CREATED:20240530T154754Z
LAST-MODIFIED:20251120T143038Z
UID:10002096-1846751400-1846755000@www.niagaragunclub.com
SUMMARY:Sporting Clay 10:30am Shoot
DESCRIPTION:2nd Shoot.\nSporting Clays Program – Relay 2\n1030am Start APproximately- depends on how long Relay 1 goes. Typically goes 2 hours . Shoot goes in good or bad weather\nContact Gary to get on the mailing list. Garyiggulden@gmail.com \n 
URL:https://www.niagaragunclub.com/event/sporting-clay-sunday-shoot/2028-07-09/
CATEGORIES:Clay Shoots 10:30am
END:VEVENT
BEGIN:VEVENT
DTSTART;TZID=America/Toronto:20280712T083000
DTEND;TZID=America/Toronto:20280712T223000
DTSTAMP:20260419T131651
CREATED:20241209T030208Z
LAST-MODIFIED:20251120T142751Z
UID:10002741-1847003400-1847053800@www.niagaragunclub.com
SUMMARY:Wednesday Sporting Clays
DESCRIPTION:First Shoot goes 830 am until 1030 am (roughly 2 hours) \nSecond shoot goes 1030 am until 1230pm (Roughly 2 hours) \nContact Gary to get on the email list- garyiggulden@gmail.com
URL:https://www.niagaragunclub.com/event/wednesday-sporting-clays/2028-07-12/
END:VEVENT
BEGIN:VEVENT
DTSTART;TZID=America/Toronto:20280716T083000
DTEND;TZID=America/Toronto:20280716T213000
DTSTAMP:20260419T131651
CREATED:20241209T025611Z
LAST-MODIFIED:20241209T025613Z
UID:10002385-1847349000-1847395800@www.niagaragunclub.com
SUMMARY:Sporting Clay 8:30am Shoot
DESCRIPTION:1st Shoot.\nRelay 1\nStarts at 8:30am whether good weather or bad.\nContact Gary to get on the mailing list. \n 
URL:https://www.niagaragunclub.com/event/sporting-clay-shoot-5-2-2/2028-07-16/
CATEGORIES:Clay Shoots 8:30am
END:VEVENT
BEGIN:VEVENT
DTSTART;TZID=America/Toronto:20280716T103000
DTEND;TZID=America/Toronto:20280716T113000
DTSTAMP:20260419T131651
CREATED:20240530T154754Z
LAST-MODIFIED:20251120T143038Z
UID:10002097-1847356200-1847359800@www.niagaragunclub.com
SUMMARY:Sporting Clay 10:30am Shoot
DESCRIPTION:2nd Shoot.\nSporting Clays Program – Relay 2\n1030am Start APproximately- depends on how long Relay 1 goes. Typically goes 2 hours . Shoot goes in good or bad weather\nContact Gary to get on the mailing list. Garyiggulden@gmail.com \n 
URL:https://www.niagaragunclub.com/event/sporting-clay-sunday-shoot/2028-07-16/
CATEGORIES:Clay Shoots 10:30am
END:VEVENT
BEGIN:VEVENT
DTSTART;TZID=America/Toronto:20280719T083000
DTEND;TZID=America/Toronto:20280719T223000
DTSTAMP:20260419T131651
CREATED:20241209T030208Z
LAST-MODIFIED:20251120T142751Z
UID:10002742-1847608200-1847658600@www.niagaragunclub.com
SUMMARY:Wednesday Sporting Clays
DESCRIPTION:First Shoot goes 830 am until 1030 am (roughly 2 hours) \nSecond shoot goes 1030 am until 1230pm (Roughly 2 hours) \nContact Gary to get on the email list- garyiggulden@gmail.com
URL:https://www.niagaragunclub.com/event/wednesday-sporting-clays/2028-07-19/
END:VEVENT
BEGIN:VEVENT
DTSTART;TZID=America/Toronto:20280723T083000
DTEND;TZID=America/Toronto:20280723T213000
DTSTAMP:20260419T131651
CREATED:20241209T025611Z
LAST-MODIFIED:20241209T025613Z
UID:10002386-1847953800-1848000600@www.niagaragunclub.com
SUMMARY:Sporting Clay 8:30am Shoot
DESCRIPTION:1st Shoot.\nRelay 1\nStarts at 8:30am whether good weather or bad.\nContact Gary to get on the mailing list. \n 
URL:https://www.niagaragunclub.com/event/sporting-clay-shoot-5-2-2/2028-07-23/
CATEGORIES:Clay Shoots 8:30am
END:VEVENT
BEGIN:VEVENT
DTSTART;TZID=America/Toronto:20280723T103000
DTEND;TZID=America/Toronto:20280723T113000
DTSTAMP:20260419T131651
CREATED:20240530T154754Z
LAST-MODIFIED:20251120T143038Z
UID:10002098-1847961000-1847964600@www.niagaragunclub.com
SUMMARY:Sporting Clay 10:30am Shoot
DESCRIPTION:2nd Shoot.\nSporting Clays Program – Relay 2\n1030am Start APproximately- depends on how long Relay 1 goes. Typically goes 2 hours . Shoot goes in good or bad weather\nContact Gary to get on the mailing list. Garyiggulden@gmail.com \n 
URL:https://www.niagaragunclub.com/event/sporting-clay-sunday-shoot/2028-07-23/
CATEGORIES:Clay Shoots 10:30am
END:VEVENT
BEGIN:VEVENT
DTSTART;TZID=America/Toronto:20280726T083000
DTEND;TZID=America/Toronto:20280726T223000
DTSTAMP:20260419T131651
CREATED:20241209T030208Z
LAST-MODIFIED:20251120T142751Z
UID:10002743-1848213000-1848263400@www.niagaragunclub.com
SUMMARY:Wednesday Sporting Clays
DESCRIPTION:First Shoot goes 830 am until 1030 am (roughly 2 hours) \nSecond shoot goes 1030 am until 1230pm (Roughly 2 hours) \nContact Gary to get on the email list- garyiggulden@gmail.com
URL:https://www.niagaragunclub.com/event/wednesday-sporting-clays/2028-07-26/
END:VEVENT
BEGIN:VEVENT
DTSTART;TZID=America/Toronto:20280730T083000
DTEND;TZID=America/Toronto:20280730T213000
DTSTAMP:20260419T131651
CREATED:20241209T025611Z
LAST-MODIFIED:20241209T025613Z
UID:10002387-1848558600-1848605400@www.niagaragunclub.com
SUMMARY:Sporting Clay 8:30am Shoot
DESCRIPTION:1st Shoot.\nRelay 1\nStarts at 8:30am whether good weather or bad.\nContact Gary to get on the mailing list. \n 
URL:https://www.niagaragunclub.com/event/sporting-clay-shoot-5-2-2/2028-07-30/
CATEGORIES:Clay Shoots 8:30am
END:VEVENT
BEGIN:VEVENT
DTSTART;TZID=America/Toronto:20280730T103000
DTEND;TZID=America/Toronto:20280730T113000
DTSTAMP:20260419T131651
CREATED:20240530T154754Z
LAST-MODIFIED:20251120T143038Z
UID:10002099-1848565800-1848569400@www.niagaragunclub.com
SUMMARY:Sporting Clay 10:30am Shoot
DESCRIPTION:2nd Shoot.\nSporting Clays Program – Relay 2\n1030am Start APproximately- depends on how long Relay 1 goes. Typically goes 2 hours . Shoot goes in good or bad weather\nContact Gary to get on the mailing list. Garyiggulden@gmail.com \n 
URL:https://www.niagaragunclub.com/event/sporting-clay-sunday-shoot/2028-07-30/
CATEGORIES:Clay Shoots 10:30am
END:VEVENT
BEGIN:VEVENT
DTSTART;TZID=America/Toronto:20280802T083000
DTEND;TZID=America/Toronto:20280802T223000
DTSTAMP:20260419T131651
CREATED:20241209T030208Z
LAST-MODIFIED:20251120T142751Z
UID:10002744-1848817800-1848868200@www.niagaragunclub.com
SUMMARY:Wednesday Sporting Clays
DESCRIPTION:First Shoot goes 830 am until 1030 am (roughly 2 hours) \nSecond shoot goes 1030 am until 1230pm (Roughly 2 hours) \nContact Gary to get on the email list- garyiggulden@gmail.com
URL:https://www.niagaragunclub.com/event/wednesday-sporting-clays/2028-08-02/
END:VEVENT
BEGIN:VEVENT
DTSTART;TZID=America/Toronto:20280806T083000
DTEND;TZID=America/Toronto:20280806T213000
DTSTAMP:20260419T131651
CREATED:20241209T025611Z
LAST-MODIFIED:20241209T025613Z
UID:10002388-1849163400-1849210200@www.niagaragunclub.com
SUMMARY:Sporting Clay 8:30am Shoot
DESCRIPTION:1st Shoot.\nRelay 1\nStarts at 8:30am whether good weather or bad.\nContact Gary to get on the mailing list. \n 
URL:https://www.niagaragunclub.com/event/sporting-clay-shoot-5-2-2/2028-08-06/
CATEGORIES:Clay Shoots 8:30am
END:VEVENT
BEGIN:VEVENT
DTSTART;TZID=America/Toronto:20280806T103000
DTEND;TZID=America/Toronto:20280806T113000
DTSTAMP:20260419T131651
CREATED:20240530T154754Z
LAST-MODIFIED:20251120T143038Z
UID:10002100-1849170600-1849174200@www.niagaragunclub.com
SUMMARY:Sporting Clay 10:30am Shoot
DESCRIPTION:2nd Shoot.\nSporting Clays Program – Relay 2\n1030am Start APproximately- depends on how long Relay 1 goes. Typically goes 2 hours . Shoot goes in good or bad weather\nContact Gary to get on the mailing list. Garyiggulden@gmail.com \n 
URL:https://www.niagaragunclub.com/event/sporting-clay-sunday-shoot/2028-08-06/
CATEGORIES:Clay Shoots 10:30am
END:VEVENT
BEGIN:VEVENT
DTSTART;TZID=America/Toronto:20280809T083000
DTEND;TZID=America/Toronto:20280809T223000
DTSTAMP:20260419T131651
CREATED:20241209T030208Z
LAST-MODIFIED:20251120T142751Z
UID:10002745-1849422600-1849473000@www.niagaragunclub.com
SUMMARY:Wednesday Sporting Clays
DESCRIPTION:First Shoot goes 830 am until 1030 am (roughly 2 hours) \nSecond shoot goes 1030 am until 1230pm (Roughly 2 hours) \nContact Gary to get on the email list- garyiggulden@gmail.com
URL:https://www.niagaragunclub.com/event/wednesday-sporting-clays/2028-08-09/
END:VEVENT
BEGIN:VEVENT
DTSTART;TZID=America/Toronto:20280813T083000
DTEND;TZID=America/Toronto:20280813T213000
DTSTAMP:20260419T131651
CREATED:20241209T025611Z
LAST-MODIFIED:20241209T025613Z
UID:10002389-1849768200-1849815000@www.niagaragunclub.com
SUMMARY:Sporting Clay 8:30am Shoot
DESCRIPTION:1st Shoot.\nRelay 1\nStarts at 8:30am whether good weather or bad.\nContact Gary to get on the mailing list. \n 
URL:https://www.niagaragunclub.com/event/sporting-clay-shoot-5-2-2/2028-08-13/
CATEGORIES:Clay Shoots 8:30am
END:VEVENT
BEGIN:VEVENT
DTSTART;TZID=America/Toronto:20280813T103000
DTEND;TZID=America/Toronto:20280813T113000
DTSTAMP:20260419T131651
CREATED:20240530T154754Z
LAST-MODIFIED:20251120T143038Z
UID:10002101-1849775400-1849779000@www.niagaragunclub.com
SUMMARY:Sporting Clay 10:30am Shoot
DESCRIPTION:2nd Shoot.\nSporting Clays Program – Relay 2\n1030am Start APproximately- depends on how long Relay 1 goes. Typically goes 2 hours . Shoot goes in good or bad weather\nContact Gary to get on the mailing list. Garyiggulden@gmail.com \n 
URL:https://www.niagaragunclub.com/event/sporting-clay-sunday-shoot/2028-08-13/
CATEGORIES:Clay Shoots 10:30am
END:VEVENT
BEGIN:VEVENT
DTSTART;TZID=America/Toronto:20280816T083000
DTEND;TZID=America/Toronto:20280816T223000
DTSTAMP:20260419T131651
CREATED:20241209T030208Z
LAST-MODIFIED:20251120T142751Z
UID:10002746-1850027400-1850077800@www.niagaragunclub.com
SUMMARY:Wednesday Sporting Clays
DESCRIPTION:First Shoot goes 830 am until 1030 am (roughly 2 hours) \nSecond shoot goes 1030 am until 1230pm (Roughly 2 hours) \nContact Gary to get on the email list- garyiggulden@gmail.com
URL:https://www.niagaragunclub.com/event/wednesday-sporting-clays/2028-08-16/
END:VEVENT
BEGIN:VEVENT
DTSTART;TZID=America/Toronto:20280820T083000
DTEND;TZID=America/Toronto:20280820T213000
DTSTAMP:20260419T131651
CREATED:20241209T025611Z
LAST-MODIFIED:20241209T025613Z
UID:10002390-1850373000-1850419800@www.niagaragunclub.com
SUMMARY:Sporting Clay 8:30am Shoot
DESCRIPTION:1st Shoot.\nRelay 1\nStarts at 8:30am whether good weather or bad.\nContact Gary to get on the mailing list. \n 
URL:https://www.niagaragunclub.com/event/sporting-clay-shoot-5-2-2/2028-08-20/
CATEGORIES:Clay Shoots 8:30am
END:VEVENT
BEGIN:VEVENT
DTSTART;TZID=America/Toronto:20280820T103000
DTEND;TZID=America/Toronto:20280820T113000
DTSTAMP:20260419T131651
CREATED:20240530T154754Z
LAST-MODIFIED:20251120T143038Z
UID:10002102-1850380200-1850383800@www.niagaragunclub.com
SUMMARY:Sporting Clay 10:30am Shoot
DESCRIPTION:2nd Shoot.\nSporting Clays Program – Relay 2\n1030am Start APproximately- depends on how long Relay 1 goes. Typically goes 2 hours . Shoot goes in good or bad weather\nContact Gary to get on the mailing list. Garyiggulden@gmail.com \n 
URL:https://www.niagaragunclub.com/event/sporting-clay-sunday-shoot/2028-08-20/
CATEGORIES:Clay Shoots 10:30am
END:VEVENT
BEGIN:VEVENT
DTSTART;TZID=America/Toronto:20280823T083000
DTEND;TZID=America/Toronto:20280823T223000
DTSTAMP:20260419T131651
CREATED:20241209T030208Z
LAST-MODIFIED:20251120T142751Z
UID:10002747-1850632200-1850682600@www.niagaragunclub.com
SUMMARY:Wednesday Sporting Clays
DESCRIPTION:First Shoot goes 830 am until 1030 am (roughly 2 hours) \nSecond shoot goes 1030 am until 1230pm (Roughly 2 hours) \nContact Gary to get on the email list- garyiggulden@gmail.com
URL:https://www.niagaragunclub.com/event/wednesday-sporting-clays/2028-08-23/
END:VEVENT
BEGIN:VEVENT
DTSTART;TZID=America/Toronto:20280827T083000
DTEND;TZID=America/Toronto:20280827T213000
DTSTAMP:20260419T131651
CREATED:20241209T025611Z
LAST-MODIFIED:20241209T025613Z
UID:10002391-1850977800-1851024600@www.niagaragunclub.com
SUMMARY:Sporting Clay 8:30am Shoot
DESCRIPTION:1st Shoot.\nRelay 1\nStarts at 8:30am whether good weather or bad.\nContact Gary to get on the mailing list. \n 
URL:https://www.niagaragunclub.com/event/sporting-clay-shoot-5-2-2/2028-08-27/
CATEGORIES:Clay Shoots 8:30am
END:VEVENT
BEGIN:VEVENT
DTSTART;TZID=America/Toronto:20280827T103000
DTEND;TZID=America/Toronto:20280827T113000
DTSTAMP:20260419T131651
CREATED:20240530T154754Z
LAST-MODIFIED:20251120T143038Z
UID:10002103-1850985000-1850988600@www.niagaragunclub.com
SUMMARY:Sporting Clay 10:30am Shoot
DESCRIPTION:2nd Shoot.\nSporting Clays Program – Relay 2\n1030am Start APproximately- depends on how long Relay 1 goes. Typically goes 2 hours . Shoot goes in good or bad weather\nContact Gary to get on the mailing list. Garyiggulden@gmail.com \n 
URL:https://www.niagaragunclub.com/event/sporting-clay-sunday-shoot/2028-08-27/
CATEGORIES:Clay Shoots 10:30am
END:VEVENT
END:VCALENDAR