BEGIN:VCALENDAR
VERSION:2.0
PRODID:-//Niagara Regional Sportsmen&#039;s Gun Club - ECPv6.15.20//NONSGML v1.0//EN
CALSCALE:GREGORIAN
METHOD:PUBLISH
X-WR-CALNAME:Niagara Regional Sportsmen&#039;s Gun Club
X-ORIGINAL-URL:https://www.niagaragunclub.com
X-WR-CALDESC:Events for Niagara Regional Sportsmen&#039;s Gun Club
REFRESH-INTERVAL;VALUE=DURATION:PT1H
X-Robots-Tag:noindex
X-PUBLISHED-TTL:PT1H
BEGIN:VTIMEZONE
TZID:America/Toronto
BEGIN:DAYLIGHT
TZOFFSETFROM:-0500
TZOFFSETTO:-0400
TZNAME:EDT
DTSTART:20220313T070000
END:DAYLIGHT
BEGIN:STANDARD
TZOFFSETFROM:-0400
TZOFFSETTO:-0500
TZNAME:EST
DTSTART:20221106T060000
END:STANDARD
BEGIN:DAYLIGHT
TZOFFSETFROM:-0500
TZOFFSETTO:-0400
TZNAME:EDT
DTSTART:20230312T070000
END:DAYLIGHT
BEGIN:STANDARD
TZOFFSETFROM:-0400
TZOFFSETTO:-0500
TZNAME:EST
DTSTART:20231105T060000
END:STANDARD
BEGIN:DAYLIGHT
TZOFFSETFROM:-0500
TZOFFSETTO:-0400
TZNAME:EDT
DTSTART:20240310T070000
END:DAYLIGHT
BEGIN:STANDARD
TZOFFSETFROM:-0400
TZOFFSETTO:-0500
TZNAME:EST
DTSTART:20241103T060000
END:STANDARD
END:VTIMEZONE
BEGIN:VEVENT
DTSTART;TZID=America/Toronto:20230723T130000
DTEND;TZID=America/Toronto:20230723T170000
DTSTAMP:20260419T151124
CREATED:20230506T202242Z
LAST-MODIFIED:20230506T202300Z
UID:10000507-1690117200-1690131600@www.niagaragunclub.com
SUMMARY:Archery Shoot - Archery Lane Closed 1 to 4
DESCRIPTION:Rick Mercier is running the archery shoot on Sunday July 23 at 1pm. \nCompound Bow or Traditional Bow\, Field Tips required \nBullseye Target with Scoring Zones. Each Match Consist of 4 ends of 3 arrows. Distanced up to 50 yards. \nContact Rick Mercier to reserve a spot rjmercier@outlook.com \n 
URL:https://www.niagaragunclub.com/event/archery-shoot-archery-lane-closed-1-to-4-3/
END:VEVENT
BEGIN:VEVENT
DTSTART;TZID=America/Toronto:20230722T080000
DTEND;TZID=America/Toronto:20230723T170000
DTSTAMP:20260419T151124
CREATED:20230619T215610Z
LAST-MODIFIED:20230619T215610Z
UID:10000512-1690012800-1690131600@www.niagaragunclub.com
SUMMARY:Black Badge Course 25/50 Closed Saturday and Sunday
DESCRIPTION:Black badge course to be held. Closed from 7am till 17:00 \nNRSGC Executive
URL:https://www.niagaragunclub.com/event/black-badge-course-25-50-closed-saturday-and-sunday/
END:VEVENT
BEGIN:VEVENT
DTSTART;TZID=America/Toronto:20230716T100000
DTEND;TZID=America/Toronto:20230716T140000
DTSTAMP:20260419T151124
CREATED:20230227T123230Z
LAST-MODIFIED:20230305T233950Z
UID:10000487-1689501600-1689516000@www.niagaragunclub.com
SUMMARY:Black Powder Rifle Match 25/50 Closed 10am until 2pm
DESCRIPTION:Dave Hamilton is running a black powder match. Contact Dave at nadia.hamilton003@sympatico.ca for more information
URL:https://www.niagaragunclub.com/event/black-powder-rifle-match-25-50-and-50-100-closed-10am-until-2pm-7/
END:VEVENT
BEGIN:VEVENT
DTSTART;TZID=America/Toronto:20230715T080000
DTEND;TZID=America/Toronto:20230715T120000
DTSTAMP:20260419T151124
CREATED:20230629T190525Z
LAST-MODIFIED:20230629T190525Z
UID:10000513-1689408000-1689422400@www.niagaragunclub.com
SUMMARY:Work Party All Ranges Closed 8am until Noon
DESCRIPTION:Work Party for the 25/50 \,  50/100 and Pin Range. If possible please bring hand tools such as Hammers\, Shovels\, Screwdriver sets and bits. Jobs will be given to those in Attendance. if you are a probationary member this is a mandatory work party if you have not done one yet. \nNRSGC Executive
URL:https://www.niagaragunclub.com/event/work-party-all-ranges-closed-8am-until-noon/
END:VEVENT
BEGIN:VEVENT
DTSTART;TZID=America/Toronto:20230712T180000
DTEND;TZID=America/Toronto:20230712T200000
DTSTAMP:20260419T151124
CREATED:20230410T115012Z
LAST-MODIFIED:20230410T115012Z
UID:10000501-1689184800-1689192000@www.niagaragunclub.com
SUMMARY:Pin Shoot - Pin Range Closed
DESCRIPTION:Peter Rempel is running a pin shoot. Catergories include Rimfire\, Minor and Major Calibre. Semi Auto or revolvers welcome. \nContact Peter Rempel at prempel1955@gmail.com to get on his list.
URL:https://www.niagaragunclub.com/event/pin-shoot-pin-range-closed-3/
END:VEVENT
BEGIN:VEVENT
DTSTART;TZID=America/Toronto:20230707T140000
DTEND;TZID=America/Toronto:20230708T170000
DTSTAMP:20260419T151124
CREATED:20230116T004623Z
LAST-MODIFIED:20230629T190643Z
UID:10000261-1688738400-1688835600@www.niagaragunclub.com
SUMMARY:IPSC Match 50/100 Range Closed
DESCRIPTION:IPSC Match- 50/100M range closed Friday for setup and Saturday to shoot and cleanup \nWade Vanni- IPSC Coordinator
URL:https://www.niagaragunclub.com/event/ipsc-match-100m-range/
END:VEVENT
BEGIN:VEVENT
DTSTART;TZID=America/Toronto:20230702T100000
DTEND;TZID=America/Toronto:20230702T140000
DTSTAMP:20260419T151124
CREATED:20230227T123201Z
LAST-MODIFIED:20230227T123201Z
UID:10000486-1688292000-1688306400@www.niagaragunclub.com
SUMMARY:Black Powder Rifle Match 25/50 and 50/100 Closed 10am until 2pm
DESCRIPTION:Dave Hamilton is running a black powder match. Contact Dave at nadia.hamilton003@sympatico.ca for more information
URL:https://www.niagaragunclub.com/event/black-powder-rifle-match-25-50-and-50-100-closed-10am-until-2pm-6/
END:VEVENT
BEGIN:VEVENT
DTSTART;TZID=America/Toronto:20230625T130000
DTEND;TZID=America/Toronto:20230625T170000
DTSTAMP:20260419T151124
CREATED:20230506T202209Z
LAST-MODIFIED:20230506T202209Z
UID:10000506-1687698000-1687712400@www.niagaragunclub.com
SUMMARY:Archery Shoot - Archery Lane Closed 1 to 4
DESCRIPTION:Rick Mercier is running the archery shoot on Sunday June 25 at 1pm. \nCompound Bow or Traditional Bow\, Field Tips required \nBullseye Target with Scoring Zones. Each Match Consist of 4 ends of 3 arrows. Distanced up to 50 yards. \nContact Rick Mercier to reserve a spot rjmercier@outlook.com \n 
URL:https://www.niagaragunclub.com/event/archery-shoot-archery-lane-closed-1-to-4-2/
END:VEVENT
BEGIN:VEVENT
DTSTART;TZID=America/Toronto:20230624T093000
DTEND;TZID=America/Toronto:20230624T150000
DTSTAMP:20260419T151124
CREATED:20230614T194949Z
LAST-MODIFIED:20230614T194949Z
UID:10000511-1687599000-1687618800@www.niagaragunclub.com
SUMMARY:Ladies Day at The Range
DESCRIPTION:NRSGC is once again hosting a Ladies Day. The 25/50 and the Pin Range will be shut down from 10am till 3 pm for the shoot. If you wish to join email Kathy Skinner at kskinner44@hotmail.com \nNRSGC Executive
URL:https://www.niagaragunclub.com/event/ladies-day-at-the-range-2/
END:VEVENT
BEGIN:VEVENT
DTSTART;TZID=America/Toronto:20230618T100000
DTEND;TZID=America/Toronto:20230618T140000
DTSTAMP:20260419T151124
CREATED:20230227T123101Z
LAST-MODIFIED:20230305T233555Z
UID:10000485-1687082400-1687096800@www.niagaragunclub.com
SUMMARY:Black Powder Rifle Match 25/50 Closed 10am until 2pm
DESCRIPTION:Dave Hamilton is running a black powder match. Contact Dave at nadia.hamilton003@sympatico.ca for more information
URL:https://www.niagaragunclub.com/event/black-powder-rifle-match-25-50-and-50-100-closed-10am-until-2pm-5/
END:VEVENT
BEGIN:VEVENT
DTSTART;VALUE=DATE:20230618
DTEND;VALUE=DATE:20230619
DTSTAMP:20260419T151124
CREATED:20230519T112109Z
LAST-MODIFIED:20230519T112109Z
UID:10000509-1687046400-1687132799@www.niagaragunclub.com
SUMMARY:Project Mapleseed Event 100M Range Closed All Day
DESCRIPTION:Project Mapleseed is coming to NRSGC!!! \nThis is a rimfire event that focuses on marksmanship using positional shooting and slings. Tickets are available but limited. Use the Link Below to sign up. \nhttps://www.eventbrite.ca/e/project-mapleseed-nrsgc-st-anns-on-june-18-2023-tickets-638325016307
URL:https://www.niagaragunclub.com/event/project-mapleseed-event-100m-range-closed-all-day/
END:VEVENT
BEGIN:VEVENT
DTSTART;VALUE=DATE:20230618
DTEND;VALUE=DATE:20230619
DTSTAMP:20260419T151124
CREATED:20230305T232140Z
LAST-MODIFIED:20230305T232140Z
UID:10000492-1687046400-1687132799@www.niagaragunclub.com
SUMMARY:Project Mapleseed Clinic 50/100 Closed All Day
DESCRIPTION:NRSGC is proud to host a mapleseed clinic at our club. This will take place on the 50/100 and will need to be signed up through eventbrite. This is a 22lr marksmanship course which teachs use of slings and positional shooting. See email for notification and sign up procedure. Note club members will have to pay the course price but will get refunded $10 on day of match. Non club members will pay the extra $10 for range rental \nMapleseed website:  https://mapleseedrifleman.com/ \nPatrick Patterson- NRSGC Director.
URL:https://www.niagaragunclub.com/event/project-mapleseed-clinic-50-100-closed-all-day/
END:VEVENT
BEGIN:VEVENT
DTSTART;TZID=America/Toronto:20230614T180000
DTEND;TZID=America/Toronto:20230614T200000
DTSTAMP:20260419T151124
CREATED:20230410T114947Z
LAST-MODIFIED:20230410T114947Z
UID:10000500-1686765600-1686772800@www.niagaragunclub.com
SUMMARY:Pin Shoot - Pin Range Closed
DESCRIPTION:Peter Rempel is running a pin shoot. Catergories include Rimfire\, Minor and Major Calibre. Semi Auto or revolvers welcome. \nContact Peter Rempel at prempel1955@gmail.com to get on his list.
URL:https://www.niagaragunclub.com/event/pin-shoot-pin-range-closed-2/
END:VEVENT
BEGIN:VEVENT
DTSTART;TZID=America/Toronto:20230609T160000
DTEND;TZID=America/Toronto:20230610T190000
DTSTAMP:20260419T151124
CREATED:20230116T004237Z
LAST-MODIFIED:20230116T005525Z
UID:10000260-1686326400-1686423600@www.niagaragunclub.com
SUMMARY:NR3G June Match- 100 Metre Range Closed all Day
DESCRIPTION:NR3G Match- 100 M range closed Friday at 4pm for setup through Saturday all day for shoot and tear down. Contact modernriflechallenge@gmail.com for getting on the waiting list. \nPatrick Patterson and Wade Vanni- NR3G representatives.
URL:https://www.niagaragunclub.com/event/nr3g-june-match-100-metre-range-closed-all-day/
END:VEVENT
BEGIN:VEVENT
DTSTART;TZID=America/Toronto:20230601T160000
DTEND;TZID=America/Toronto:20230601T200000
DTSTAMP:20260419T151124
CREATED:20230527T000212Z
LAST-MODIFIED:20230527T000212Z
UID:10000510-1685635200-1685649600@www.niagaragunclub.com
SUMMARY:IPSC level 1 match Pin Range and 25/50 Closed at 4pm
DESCRIPTION:IPSC Match on Pin Range and 25/50 \nWade Vanni IPSC Representative
URL:https://www.niagaragunclub.com/event/ipsc-level-1-match-pin-range-and-25-50-closed-at-4pm/
END:VEVENT
BEGIN:VEVENT
DTSTART;TZID=America/Toronto:20230528T130000
DTEND;TZID=America/Toronto:20230528T170000
DTSTAMP:20260419T151124
CREATED:20230506T202128Z
LAST-MODIFIED:20230506T202128Z
UID:10000505-1685278800-1685293200@www.niagaragunclub.com
SUMMARY:Archery Shoot - Archery Lane Closed 1 to 4
DESCRIPTION:Rick Mercier is running the archery shoot on Sunday May 28th at 1pm. \nCompound Bow or Traditional Bow\, Field Tips required \nBullseye Target with Scoring Zones. Each Match Consist of 4 ends of 3 arrows. Distanced up to 50 yards. \nContact Rick Mercier to reserve a spot rjmercier@outlook.com \n 
URL:https://www.niagaragunclub.com/event/archery-shoot-archery-lane-closed-1-to-4/
END:VEVENT
BEGIN:VEVENT
DTSTART;TZID=America/Toronto:20230527T110000
DTEND;TZID=America/Toronto:20230527T140000
DTSTAMP:20260419T151124
CREATED:20230221T215211Z
LAST-MODIFIED:20230221T215452Z
UID:10000479-1685185200-1685196000@www.niagaragunclub.com
SUMMARY:Lever Rifle Shoot 25/50 Closed 11am to 2pm
DESCRIPTION:Lever Action Shoot- Lever Gun action- Contact Nigel at nigeld@cogeco.ca for further details
URL:https://www.niagaragunclub.com/event/brush-rifle-shoot-25-50-closed-11am-to-2pm/
END:VEVENT
BEGIN:VEVENT
DTSTART;TZID=America/Toronto:20230527T090000
DTEND;TZID=America/Toronto:20230527T120000
DTSTAMP:20260419T151124
CREATED:20230221T214728Z
LAST-MODIFIED:20230221T214829Z
UID:10000477-1685178000-1685188800@www.niagaragunclub.com
SUMMARY:Bench Rest Shoot 50/100 M range Closed 9 till Noon
DESCRIPTION:Bench Rest Shoot- Contact Scott Heaslip for rules and regulations about the shoot. Contact scottheaslip63@gmail.com for further details
URL:https://www.niagaragunclub.com/event/bench-rest-shoot-50-100-m-range-closed-9-till-noon/
END:VEVENT
BEGIN:VEVENT
DTSTART;TZID=America/Toronto:20230521T100000
DTEND;TZID=America/Toronto:20230521T140000
DTSTAMP:20260419T151124
CREATED:20230227T123036Z
LAST-MODIFIED:20230305T233405Z
UID:10000484-1684663200-1684677600@www.niagaragunclub.com
SUMMARY:Black Powder Rifle Match 25/50 Closed 10am until 2pm
DESCRIPTION:Dave Hamilton is running a black powder match. Contact Dave at nadia.hamilton003@sympatico.ca for more information
URL:https://www.niagaragunclub.com/event/black-powder-rifle-match-25-50-and-50-100-closed-10am-until-2pm-4/
END:VEVENT
BEGIN:VEVENT
DTSTART;TZID=America/Toronto:20230512T170000
DTEND;TZID=America/Toronto:20230513T190000
DTSTAMP:20260419T151124
CREATED:20230116T003928Z
LAST-MODIFIED:20230116T005619Z
UID:10000259-1683910800-1684004400@www.niagaragunclub.com
SUMMARY:IPSC Match 3- Pistol and PCC Level 2 100 Range
DESCRIPTION:Ipsc handgun and PCC Match – Level on the 100 Range. closed all day \nWade Vanni- IPSC Coordinator
URL:https://www.niagaragunclub.com/event/ipsc-match-3-pistol-and-pcc-level-2-100-range/
END:VEVENT
BEGIN:VEVENT
DTSTART;TZID=America/Toronto:20230510T180000
DTEND;TZID=America/Toronto:20230510T200000
DTSTAMP:20260419T151124
CREATED:20230502T231329Z
LAST-MODIFIED:20230502T231329Z
UID:10000504-1683741600-1683748800@www.niagaragunclub.com
SUMMARY:NR3G Practice Night 100M closed
DESCRIPTION:Practice for 3 gun events. All club members welcome and spectators as well. Contact Patrick at 762gnome@gmail.com to let me know you are coming. \nPatrick Patterson \nNR3G Co Chair
URL:https://www.niagaragunclub.com/event/nr3g-practice-night-100m-closed/
END:VEVENT
BEGIN:VEVENT
DTSTART;TZID=America/Toronto:20230429T090000
DTEND;TZID=America/Toronto:20230429T120000
DTSTAMP:20260419T151124
CREATED:20230410T114857Z
LAST-MODIFIED:20230410T115417Z
UID:10000499-1682758800-1682769600@www.niagaragunclub.com
SUMMARY:Pin Shoot - Pin Range Closed
DESCRIPTION:Peter Rempel is running a pin shoot. Catergories include Rimfire\, Minor and Major Calibre. Semi Auto or revolvers welcome. \nContact Peter Rempel at prempel1955@gmail.com to get on his list.
URL:https://www.niagaragunclub.com/event/pin-shoot-pin-range-closed/
END:VEVENT
BEGIN:VEVENT
DTSTART;VALUE=DATE:20230429
DTEND;VALUE=DATE:20230430
DTSTAMP:20260419T151124
CREATED:20230217T135915Z
LAST-MODIFIED:20230217T140517Z
UID:10000474-1682755200-1682787600@www.niagaragunclub.com
SUMMARY:IPSC Black Badge 25/50 Closed April 29 and 30
DESCRIPTION:25/50 Range Closed due to IPSC Black Badge Instruction. All available slots filled \nWade Vanni-IPSC Cooridnator
URL:https://www.niagaragunclub.com/event/ipsc-black-badge-25-50-closed-april-29-and-30/2023-04-29/2/
END:VEVENT
BEGIN:VEVENT
DTSTART;VALUE=DATE:20230429
DTEND;VALUE=DATE:20230501
DTSTAMP:20260419T151124
CREATED:20230217T135915Z
LAST-MODIFIED:20230217T140517Z
UID:10000473-1682726400-1682899199@www.niagaragunclub.com
SUMMARY:IPSC Black Badge 25/50 Closed April 29 and 30
DESCRIPTION:25/50 Range Closed due to IPSC Black Badge Instruction. All available slots filled \nWade Vanni-IPSC Cooridnator
URL:https://www.niagaragunclub.com/event/ipsc-black-badge-25-50-closed-april-29-and-30/2023-04-29/1/
END:VEVENT
BEGIN:VEVENT
DTSTART;TZID=America/Toronto:20230423T100000
DTEND;TZID=America/Toronto:20230423T140000
DTSTAMP:20260419T151125
CREATED:20230227T122805Z
LAST-MODIFIED:20230227T122912Z
UID:10000481-1682244000-1682258400@www.niagaragunclub.com
SUMMARY:Black Powder Rifle Match 25/50 and 50/100 Closed 10am until 2pm
DESCRIPTION:Dave Hamilton is running a black powder match. Contact Dave at nadia.hamilton003@sympatico.ca for more information
URL:https://www.niagaragunclub.com/event/black-powder-rifle-match-25-50-and-50-100-closed-10am-until-2pm/
END:VEVENT
BEGIN:VEVENT
DTSTART;TZID=America/Toronto:20230414T150000
DTEND;TZID=America/Toronto:20230416T100000
DTSTAMP:20260419T151125
CREATED:20230207T213323Z
LAST-MODIFIED:20230220T215112Z
UID:10000472-1681484400-1681639200@www.niagaragunclub.com
SUMMARY:IPSC Shotgun Level 2 50/100 and 25/50 closed
DESCRIPTION:IPSC level 2 shotgun- both main ranges closed Friday April 14th afternoon AT noon until Sunday For cleanup \nRegistration on IPSC website. \nWade Vanni -IPSC Coordinator
URL:https://www.niagaragunclub.com/event/ipsc-shotgun-level-2-50-100-and-25-50-closed/
END:VEVENT
BEGIN:VEVENT
DTSTART;TZID=America/Toronto:20230414T120000
DTEND;TZID=America/Toronto:20230414T190000
DTSTAMP:20260419T151125
CREATED:20230220T215027Z
LAST-MODIFIED:20230220T215027Z
UID:10000476-1681473600-1681498800@www.niagaragunclub.com
SUMMARY:25/50 and 50/100 Closed for Setup IPSC Level 2
DESCRIPTION:Both ranges closed for setup on the ranges \nPatrick and Wade
URL:https://www.niagaragunclub.com/event/25-50-and-50-100-closed-for-setup-ipsc-level-2/
END:VEVENT
BEGIN:VEVENT
DTSTART;TZID=America/Toronto:20230409T100000
DTEND;TZID=America/Toronto:20230409T140000
DTSTAMP:20260419T151125
CREATED:20230227T122924Z
LAST-MODIFIED:20230317T141245Z
UID:10000482-1681034400-1681048800@www.niagaragunclub.com
SUMMARY:Black Powder Rifle Match 25/50 Closed 10am until 2pm
DESCRIPTION:Dave Hamilton is running a black powder match. Contact Dave at nadia.hamilton003@sympatico.ca for more information
URL:https://www.niagaragunclub.com/event/black-powder-rifle-match-25-50-and-50-100-closed-10am-until-2pm-2/
END:VEVENT
BEGIN:VEVENT
DTSTART;VALUE=DATE:20230401
DTEND;VALUE=DATE:20230402
DTSTAMP:20260419T151125
CREATED:20230331T112654Z
LAST-MODIFIED:20230331T112654Z
UID:10000498-1680307200-1680393599@www.niagaragunclub.com
SUMMARY:3 gun practice 100M range closed 8am till 3 pm
DESCRIPTION:Wade and Patrick are hosting an open practice day on Saturday. Let us know if you will be dropping in so we can figure out some drills. Open to all members who are interested in trying 3gun in the future \nmodernriflechallenge@gmail.com \n 
URL:https://www.niagaragunclub.com/event/3-gun-practice-100m-range-closed-8am-till-3-pm/
END:VEVENT
BEGIN:VEVENT
DTSTART;TZID=America/Toronto:20230329T000000
DTEND;TZID=America/Toronto:20230329T000000
DTSTAMP:20260419T151125
CREATED:20230317T135659Z
LAST-MODIFIED:20230317T135659Z
UID:10000497-1680048000-1680048000@www.niagaragunclub.com
SUMMARY:Niagara Regional Quarterly Meeting
DESCRIPTION:Hello All \nWe will be doing our quarterly meeting at the clubhouse at 7pm Sharp. After the meeting is finished we will host our executive meeting.
URL:https://www.niagaragunclub.com/event/niagara-regional-quarterly-meeting/
END:VEVENT
END:VCALENDAR