BEGIN:VCALENDAR
VERSION:2.0
PRODID:-//Niagara Regional Sportsmen&#039;s Gun Club - ECPv6.15.20//NONSGML v1.0//EN
CALSCALE:GREGORIAN
METHOD:PUBLISH
X-WR-CALNAME:Niagara Regional Sportsmen&#039;s Gun Club
X-ORIGINAL-URL:https://www.niagaragunclub.com
X-WR-CALDESC:Events for Niagara Regional Sportsmen&#039;s Gun Club
REFRESH-INTERVAL;VALUE=DURATION:PT1H
X-Robots-Tag:noindex
X-PUBLISHED-TTL:PT1H
BEGIN:VTIMEZONE
TZID:America/Toronto
BEGIN:DAYLIGHT
TZOFFSETFROM:-0500
TZOFFSETTO:-0400
TZNAME:EDT
DTSTART:20270314T070000
END:DAYLIGHT
BEGIN:STANDARD
TZOFFSETFROM:-0400
TZOFFSETTO:-0500
TZNAME:EST
DTSTART:20271107T060000
END:STANDARD
BEGIN:DAYLIGHT
TZOFFSETFROM:-0500
TZOFFSETTO:-0400
TZNAME:EDT
DTSTART:20280312T070000
END:DAYLIGHT
BEGIN:STANDARD
TZOFFSETFROM:-0400
TZOFFSETTO:-0500
TZNAME:EST
DTSTART:20281105T060000
END:STANDARD
BEGIN:DAYLIGHT
TZOFFSETFROM:-0500
TZOFFSETTO:-0400
TZNAME:EDT
DTSTART:20290311T070000
END:DAYLIGHT
BEGIN:STANDARD
TZOFFSETFROM:-0400
TZOFFSETTO:-0500
TZNAME:EST
DTSTART:20291104T060000
END:STANDARD
END:VTIMEZONE
BEGIN:VEVENT
DTSTART;TZID=America/Toronto:20280319T103000
DTEND;TZID=America/Toronto:20280319T113000
DTSTAMP:20260419T111524
CREATED:20240530T154754Z
LAST-MODIFIED:20251120T143038Z
UID:10002080-1837074600-1837078200@www.niagaragunclub.com
SUMMARY:Sporting Clay 10:30am Shoot
DESCRIPTION:2nd Shoot.\nSporting Clays Program – Relay 2\n1030am Start APproximately- depends on how long Relay 1 goes. Typically goes 2 hours . Shoot goes in good or bad weather\nContact Gary to get on the mailing list. Garyiggulden@gmail.com \n 
URL:https://www.niagaragunclub.com/event/sporting-clay-sunday-shoot/2028-03-19/
CATEGORIES:Clay Shoots 10:30am
END:VEVENT
BEGIN:VEVENT
DTSTART;TZID=America/Toronto:20280322T083000
DTEND;TZID=America/Toronto:20280322T223000
DTSTAMP:20260419T111524
CREATED:20241209T030208Z
LAST-MODIFIED:20251120T142751Z
UID:10002725-1837326600-1837377000@www.niagaragunclub.com
SUMMARY:Wednesday Sporting Clays
DESCRIPTION:First Shoot goes 830 am until 1030 am (roughly 2 hours) \nSecond shoot goes 1030 am until 1230pm (Roughly 2 hours) \nContact Gary to get on the email list- garyiggulden@gmail.com
URL:https://www.niagaragunclub.com/event/wednesday-sporting-clays/2028-03-22/
END:VEVENT
BEGIN:VEVENT
DTSTART;TZID=America/Toronto:20280326T083000
DTEND;TZID=America/Toronto:20280326T213000
DTSTAMP:20260419T111524
CREATED:20241209T025611Z
LAST-MODIFIED:20241209T025613Z
UID:10002369-1837672200-1837719000@www.niagaragunclub.com
SUMMARY:Sporting Clay 8:30am Shoot
DESCRIPTION:1st Shoot.\nRelay 1\nStarts at 8:30am whether good weather or bad.\nContact Gary to get on the mailing list. \n 
URL:https://www.niagaragunclub.com/event/sporting-clay-shoot-5-2-2/2028-03-26/
CATEGORIES:Clay Shoots 8:30am
END:VEVENT
BEGIN:VEVENT
DTSTART;TZID=America/Toronto:20280326T103000
DTEND;TZID=America/Toronto:20280326T113000
DTSTAMP:20260419T111524
CREATED:20240530T154754Z
LAST-MODIFIED:20251120T143038Z
UID:10002081-1837679400-1837683000@www.niagaragunclub.com
SUMMARY:Sporting Clay 10:30am Shoot
DESCRIPTION:2nd Shoot.\nSporting Clays Program – Relay 2\n1030am Start APproximately- depends on how long Relay 1 goes. Typically goes 2 hours . Shoot goes in good or bad weather\nContact Gary to get on the mailing list. Garyiggulden@gmail.com \n 
URL:https://www.niagaragunclub.com/event/sporting-clay-sunday-shoot/2028-03-26/
CATEGORIES:Clay Shoots 10:30am
END:VEVENT
BEGIN:VEVENT
DTSTART;TZID=America/Toronto:20280329T083000
DTEND;TZID=America/Toronto:20280329T223000
DTSTAMP:20260419T111524
CREATED:20241209T030208Z
LAST-MODIFIED:20251120T142751Z
UID:10002726-1837931400-1837981800@www.niagaragunclub.com
SUMMARY:Wednesday Sporting Clays
DESCRIPTION:First Shoot goes 830 am until 1030 am (roughly 2 hours) \nSecond shoot goes 1030 am until 1230pm (Roughly 2 hours) \nContact Gary to get on the email list- garyiggulden@gmail.com
URL:https://www.niagaragunclub.com/event/wednesday-sporting-clays/2028-03-29/
END:VEVENT
BEGIN:VEVENT
DTSTART;TZID=America/Toronto:20280402T083000
DTEND;TZID=America/Toronto:20280402T213000
DTSTAMP:20260419T111524
CREATED:20241209T025611Z
LAST-MODIFIED:20241209T025613Z
UID:10002370-1838277000-1838323800@www.niagaragunclub.com
SUMMARY:Sporting Clay 8:30am Shoot
DESCRIPTION:1st Shoot.\nRelay 1\nStarts at 8:30am whether good weather or bad.\nContact Gary to get on the mailing list. \n 
URL:https://www.niagaragunclub.com/event/sporting-clay-shoot-5-2-2/2028-04-02/
CATEGORIES:Clay Shoots 8:30am
END:VEVENT
BEGIN:VEVENT
DTSTART;TZID=America/Toronto:20280402T103000
DTEND;TZID=America/Toronto:20280402T113000
DTSTAMP:20260419T111524
CREATED:20240530T154754Z
LAST-MODIFIED:20251120T143038Z
UID:10002082-1838284200-1838287800@www.niagaragunclub.com
SUMMARY:Sporting Clay 10:30am Shoot
DESCRIPTION:2nd Shoot.\nSporting Clays Program – Relay 2\n1030am Start APproximately- depends on how long Relay 1 goes. Typically goes 2 hours . Shoot goes in good or bad weather\nContact Gary to get on the mailing list. Garyiggulden@gmail.com \n 
URL:https://www.niagaragunclub.com/event/sporting-clay-sunday-shoot/2028-04-02/
CATEGORIES:Clay Shoots 10:30am
END:VEVENT
BEGIN:VEVENT
DTSTART;TZID=America/Toronto:20280405T083000
DTEND;TZID=America/Toronto:20280405T223000
DTSTAMP:20260419T111524
CREATED:20241209T030208Z
LAST-MODIFIED:20251120T142751Z
UID:10002727-1838536200-1838586600@www.niagaragunclub.com
SUMMARY:Wednesday Sporting Clays
DESCRIPTION:First Shoot goes 830 am until 1030 am (roughly 2 hours) \nSecond shoot goes 1030 am until 1230pm (Roughly 2 hours) \nContact Gary to get on the email list- garyiggulden@gmail.com
URL:https://www.niagaragunclub.com/event/wednesday-sporting-clays/2028-04-05/
END:VEVENT
BEGIN:VEVENT
DTSTART;TZID=America/Toronto:20280409T083000
DTEND;TZID=America/Toronto:20280409T213000
DTSTAMP:20260419T111524
CREATED:20241209T025611Z
LAST-MODIFIED:20241209T025613Z
UID:10002371-1838881800-1838928600@www.niagaragunclub.com
SUMMARY:Sporting Clay 8:30am Shoot
DESCRIPTION:1st Shoot.\nRelay 1\nStarts at 8:30am whether good weather or bad.\nContact Gary to get on the mailing list. \n 
URL:https://www.niagaragunclub.com/event/sporting-clay-shoot-5-2-2/2028-04-09/
CATEGORIES:Clay Shoots 8:30am
END:VEVENT
BEGIN:VEVENT
DTSTART;TZID=America/Toronto:20280409T103000
DTEND;TZID=America/Toronto:20280409T113000
DTSTAMP:20260419T111524
CREATED:20240530T154754Z
LAST-MODIFIED:20251120T143038Z
UID:10002083-1838889000-1838892600@www.niagaragunclub.com
SUMMARY:Sporting Clay 10:30am Shoot
DESCRIPTION:2nd Shoot.\nSporting Clays Program – Relay 2\n1030am Start APproximately- depends on how long Relay 1 goes. Typically goes 2 hours . Shoot goes in good or bad weather\nContact Gary to get on the mailing list. Garyiggulden@gmail.com \n 
URL:https://www.niagaragunclub.com/event/sporting-clay-sunday-shoot/2028-04-09/
CATEGORIES:Clay Shoots 10:30am
END:VEVENT
BEGIN:VEVENT
DTSTART;TZID=America/Toronto:20280412T083000
DTEND;TZID=America/Toronto:20280412T223000
DTSTAMP:20260419T111524
CREATED:20241209T030208Z
LAST-MODIFIED:20251120T142751Z
UID:10002728-1839141000-1839191400@www.niagaragunclub.com
SUMMARY:Wednesday Sporting Clays
DESCRIPTION:First Shoot goes 830 am until 1030 am (roughly 2 hours) \nSecond shoot goes 1030 am until 1230pm (Roughly 2 hours) \nContact Gary to get on the email list- garyiggulden@gmail.com
URL:https://www.niagaragunclub.com/event/wednesday-sporting-clays/2028-04-12/
END:VEVENT
BEGIN:VEVENT
DTSTART;TZID=America/Toronto:20280416T083000
DTEND;TZID=America/Toronto:20280416T213000
DTSTAMP:20260419T111524
CREATED:20241209T025611Z
LAST-MODIFIED:20241209T025613Z
UID:10002372-1839486600-1839533400@www.niagaragunclub.com
SUMMARY:Sporting Clay 8:30am Shoot
DESCRIPTION:1st Shoot.\nRelay 1\nStarts at 8:30am whether good weather or bad.\nContact Gary to get on the mailing list. \n 
URL:https://www.niagaragunclub.com/event/sporting-clay-shoot-5-2-2/2028-04-16/
CATEGORIES:Clay Shoots 8:30am
END:VEVENT
BEGIN:VEVENT
DTSTART;TZID=America/Toronto:20280416T103000
DTEND;TZID=America/Toronto:20280416T113000
DTSTAMP:20260419T111524
CREATED:20240530T154754Z
LAST-MODIFIED:20251120T143038Z
UID:10002084-1839493800-1839497400@www.niagaragunclub.com
SUMMARY:Sporting Clay 10:30am Shoot
DESCRIPTION:2nd Shoot.\nSporting Clays Program – Relay 2\n1030am Start APproximately- depends on how long Relay 1 goes. Typically goes 2 hours . Shoot goes in good or bad weather\nContact Gary to get on the mailing list. Garyiggulden@gmail.com \n 
URL:https://www.niagaragunclub.com/event/sporting-clay-sunday-shoot/2028-04-16/
CATEGORIES:Clay Shoots 10:30am
END:VEVENT
BEGIN:VEVENT
DTSTART;TZID=America/Toronto:20280419T083000
DTEND;TZID=America/Toronto:20280419T223000
DTSTAMP:20260419T111524
CREATED:20241209T030208Z
LAST-MODIFIED:20251120T142751Z
UID:10002729-1839745800-1839796200@www.niagaragunclub.com
SUMMARY:Wednesday Sporting Clays
DESCRIPTION:First Shoot goes 830 am until 1030 am (roughly 2 hours) \nSecond shoot goes 1030 am until 1230pm (Roughly 2 hours) \nContact Gary to get on the email list- garyiggulden@gmail.com
URL:https://www.niagaragunclub.com/event/wednesday-sporting-clays/2028-04-19/
END:VEVENT
BEGIN:VEVENT
DTSTART;TZID=America/Toronto:20280423T083000
DTEND;TZID=America/Toronto:20280423T213000
DTSTAMP:20260419T111524
CREATED:20241209T025611Z
LAST-MODIFIED:20241209T025613Z
UID:10002373-1840091400-1840138200@www.niagaragunclub.com
SUMMARY:Sporting Clay 8:30am Shoot
DESCRIPTION:1st Shoot.\nRelay 1\nStarts at 8:30am whether good weather or bad.\nContact Gary to get on the mailing list. \n 
URL:https://www.niagaragunclub.com/event/sporting-clay-shoot-5-2-2/2028-04-23/
CATEGORIES:Clay Shoots 8:30am
END:VEVENT
BEGIN:VEVENT
DTSTART;TZID=America/Toronto:20280423T103000
DTEND;TZID=America/Toronto:20280423T113000
DTSTAMP:20260419T111524
CREATED:20240530T154754Z
LAST-MODIFIED:20251120T143038Z
UID:10002085-1840098600-1840102200@www.niagaragunclub.com
SUMMARY:Sporting Clay 10:30am Shoot
DESCRIPTION:2nd Shoot.\nSporting Clays Program – Relay 2\n1030am Start APproximately- depends on how long Relay 1 goes. Typically goes 2 hours . Shoot goes in good or bad weather\nContact Gary to get on the mailing list. Garyiggulden@gmail.com \n 
URL:https://www.niagaragunclub.com/event/sporting-clay-sunday-shoot/2028-04-23/
CATEGORIES:Clay Shoots 10:30am
END:VEVENT
BEGIN:VEVENT
DTSTART;TZID=America/Toronto:20280426T083000
DTEND;TZID=America/Toronto:20280426T223000
DTSTAMP:20260419T111524
CREATED:20241209T030208Z
LAST-MODIFIED:20251120T142751Z
UID:10002730-1840350600-1840401000@www.niagaragunclub.com
SUMMARY:Wednesday Sporting Clays
DESCRIPTION:First Shoot goes 830 am until 1030 am (roughly 2 hours) \nSecond shoot goes 1030 am until 1230pm (Roughly 2 hours) \nContact Gary to get on the email list- garyiggulden@gmail.com
URL:https://www.niagaragunclub.com/event/wednesday-sporting-clays/2028-04-26/
END:VEVENT
BEGIN:VEVENT
DTSTART;TZID=America/Toronto:20280430T083000
DTEND;TZID=America/Toronto:20280430T213000
DTSTAMP:20260419T111524
CREATED:20241209T025611Z
LAST-MODIFIED:20241209T025613Z
UID:10002374-1840696200-1840743000@www.niagaragunclub.com
SUMMARY:Sporting Clay 8:30am Shoot
DESCRIPTION:1st Shoot.\nRelay 1\nStarts at 8:30am whether good weather or bad.\nContact Gary to get on the mailing list. \n 
URL:https://www.niagaragunclub.com/event/sporting-clay-shoot-5-2-2/2028-04-30/
CATEGORIES:Clay Shoots 8:30am
END:VEVENT
BEGIN:VEVENT
DTSTART;TZID=America/Toronto:20280430T103000
DTEND;TZID=America/Toronto:20280430T113000
DTSTAMP:20260419T111524
CREATED:20240530T154754Z
LAST-MODIFIED:20251120T143038Z
UID:10002086-1840703400-1840707000@www.niagaragunclub.com
SUMMARY:Sporting Clay 10:30am Shoot
DESCRIPTION:2nd Shoot.\nSporting Clays Program – Relay 2\n1030am Start APproximately- depends on how long Relay 1 goes. Typically goes 2 hours . Shoot goes in good or bad weather\nContact Gary to get on the mailing list. Garyiggulden@gmail.com \n 
URL:https://www.niagaragunclub.com/event/sporting-clay-sunday-shoot/2028-04-30/
CATEGORIES:Clay Shoots 10:30am
END:VEVENT
BEGIN:VEVENT
DTSTART;TZID=America/Toronto:20280503T083000
DTEND;TZID=America/Toronto:20280503T223000
DTSTAMP:20260419T111524
CREATED:20241209T030208Z
LAST-MODIFIED:20251120T142751Z
UID:10002731-1840955400-1841005800@www.niagaragunclub.com
SUMMARY:Wednesday Sporting Clays
DESCRIPTION:First Shoot goes 830 am until 1030 am (roughly 2 hours) \nSecond shoot goes 1030 am until 1230pm (Roughly 2 hours) \nContact Gary to get on the email list- garyiggulden@gmail.com
URL:https://www.niagaragunclub.com/event/wednesday-sporting-clays/2028-05-03/
END:VEVENT
BEGIN:VEVENT
DTSTART;TZID=America/Toronto:20280507T083000
DTEND;TZID=America/Toronto:20280507T213000
DTSTAMP:20260419T111524
CREATED:20241209T025611Z
LAST-MODIFIED:20241209T025613Z
UID:10002375-1841301000-1841347800@www.niagaragunclub.com
SUMMARY:Sporting Clay 8:30am Shoot
DESCRIPTION:1st Shoot.\nRelay 1\nStarts at 8:30am whether good weather or bad.\nContact Gary to get on the mailing list. \n 
URL:https://www.niagaragunclub.com/event/sporting-clay-shoot-5-2-2/2028-05-07/
CATEGORIES:Clay Shoots 8:30am
END:VEVENT
BEGIN:VEVENT
DTSTART;TZID=America/Toronto:20280507T103000
DTEND;TZID=America/Toronto:20280507T113000
DTSTAMP:20260419T111524
CREATED:20240530T154754Z
LAST-MODIFIED:20251120T143038Z
UID:10002087-1841308200-1841311800@www.niagaragunclub.com
SUMMARY:Sporting Clay 10:30am Shoot
DESCRIPTION:2nd Shoot.\nSporting Clays Program – Relay 2\n1030am Start APproximately- depends on how long Relay 1 goes. Typically goes 2 hours . Shoot goes in good or bad weather\nContact Gary to get on the mailing list. Garyiggulden@gmail.com \n 
URL:https://www.niagaragunclub.com/event/sporting-clay-sunday-shoot/2028-05-07/
CATEGORIES:Clay Shoots 10:30am
END:VEVENT
BEGIN:VEVENT
DTSTART;TZID=America/Toronto:20280510T083000
DTEND;TZID=America/Toronto:20280510T223000
DTSTAMP:20260419T111524
CREATED:20241209T030208Z
LAST-MODIFIED:20251120T142751Z
UID:10002732-1841560200-1841610600@www.niagaragunclub.com
SUMMARY:Wednesday Sporting Clays
DESCRIPTION:First Shoot goes 830 am until 1030 am (roughly 2 hours) \nSecond shoot goes 1030 am until 1230pm (Roughly 2 hours) \nContact Gary to get on the email list- garyiggulden@gmail.com
URL:https://www.niagaragunclub.com/event/wednesday-sporting-clays/2028-05-10/
END:VEVENT
BEGIN:VEVENT
DTSTART;TZID=America/Toronto:20280514T083000
DTEND;TZID=America/Toronto:20280514T213000
DTSTAMP:20260419T111524
CREATED:20241209T025611Z
LAST-MODIFIED:20241209T025613Z
UID:10002376-1841905800-1841952600@www.niagaragunclub.com
SUMMARY:Sporting Clay 8:30am Shoot
DESCRIPTION:1st Shoot.\nRelay 1\nStarts at 8:30am whether good weather or bad.\nContact Gary to get on the mailing list. \n 
URL:https://www.niagaragunclub.com/event/sporting-clay-shoot-5-2-2/2028-05-14/
CATEGORIES:Clay Shoots 8:30am
END:VEVENT
BEGIN:VEVENT
DTSTART;TZID=America/Toronto:20280514T103000
DTEND;TZID=America/Toronto:20280514T113000
DTSTAMP:20260419T111524
CREATED:20240530T154754Z
LAST-MODIFIED:20251120T143038Z
UID:10002088-1841913000-1841916600@www.niagaragunclub.com
SUMMARY:Sporting Clay 10:30am Shoot
DESCRIPTION:2nd Shoot.\nSporting Clays Program – Relay 2\n1030am Start APproximately- depends on how long Relay 1 goes. Typically goes 2 hours . Shoot goes in good or bad weather\nContact Gary to get on the mailing list. Garyiggulden@gmail.com \n 
URL:https://www.niagaragunclub.com/event/sporting-clay-sunday-shoot/2028-05-14/
CATEGORIES:Clay Shoots 10:30am
END:VEVENT
BEGIN:VEVENT
DTSTART;TZID=America/Toronto:20280517T083000
DTEND;TZID=America/Toronto:20280517T223000
DTSTAMP:20260419T111524
CREATED:20241209T030208Z
LAST-MODIFIED:20251120T142751Z
UID:10002733-1842165000-1842215400@www.niagaragunclub.com
SUMMARY:Wednesday Sporting Clays
DESCRIPTION:First Shoot goes 830 am until 1030 am (roughly 2 hours) \nSecond shoot goes 1030 am until 1230pm (Roughly 2 hours) \nContact Gary to get on the email list- garyiggulden@gmail.com
URL:https://www.niagaragunclub.com/event/wednesday-sporting-clays/2028-05-17/
END:VEVENT
BEGIN:VEVENT
DTSTART;TZID=America/Toronto:20280521T083000
DTEND;TZID=America/Toronto:20280521T213000
DTSTAMP:20260419T111524
CREATED:20241209T025611Z
LAST-MODIFIED:20241209T025613Z
UID:10002377-1842510600-1842557400@www.niagaragunclub.com
SUMMARY:Sporting Clay 8:30am Shoot
DESCRIPTION:1st Shoot.\nRelay 1\nStarts at 8:30am whether good weather or bad.\nContact Gary to get on the mailing list. \n 
URL:https://www.niagaragunclub.com/event/sporting-clay-shoot-5-2-2/2028-05-21/
CATEGORIES:Clay Shoots 8:30am
END:VEVENT
BEGIN:VEVENT
DTSTART;TZID=America/Toronto:20280521T103000
DTEND;TZID=America/Toronto:20280521T113000
DTSTAMP:20260419T111524
CREATED:20240530T154754Z
LAST-MODIFIED:20251120T143038Z
UID:10002089-1842517800-1842521400@www.niagaragunclub.com
SUMMARY:Sporting Clay 10:30am Shoot
DESCRIPTION:2nd Shoot.\nSporting Clays Program – Relay 2\n1030am Start APproximately- depends on how long Relay 1 goes. Typically goes 2 hours . Shoot goes in good or bad weather\nContact Gary to get on the mailing list. Garyiggulden@gmail.com \n 
URL:https://www.niagaragunclub.com/event/sporting-clay-sunday-shoot/2028-05-21/
CATEGORIES:Clay Shoots 10:30am
END:VEVENT
BEGIN:VEVENT
DTSTART;TZID=America/Toronto:20280524T083000
DTEND;TZID=America/Toronto:20280524T223000
DTSTAMP:20260419T111524
CREATED:20241209T030208Z
LAST-MODIFIED:20251120T142751Z
UID:10002734-1842769800-1842820200@www.niagaragunclub.com
SUMMARY:Wednesday Sporting Clays
DESCRIPTION:First Shoot goes 830 am until 1030 am (roughly 2 hours) \nSecond shoot goes 1030 am until 1230pm (Roughly 2 hours) \nContact Gary to get on the email list- garyiggulden@gmail.com
URL:https://www.niagaragunclub.com/event/wednesday-sporting-clays/2028-05-24/
END:VEVENT
BEGIN:VEVENT
DTSTART;TZID=America/Toronto:20280528T083000
DTEND;TZID=America/Toronto:20280528T213000
DTSTAMP:20260419T111524
CREATED:20241209T025611Z
LAST-MODIFIED:20241209T025613Z
UID:10002378-1843115400-1843162200@www.niagaragunclub.com
SUMMARY:Sporting Clay 8:30am Shoot
DESCRIPTION:1st Shoot.\nRelay 1\nStarts at 8:30am whether good weather or bad.\nContact Gary to get on the mailing list. \n 
URL:https://www.niagaragunclub.com/event/sporting-clay-shoot-5-2-2/2028-05-28/
CATEGORIES:Clay Shoots 8:30am
END:VEVENT
END:VCALENDAR