BEGIN:VCALENDAR
VERSION:2.0
PRODID:-//Niagara Regional Sportsmen&#039;s Gun Club - ECPv6.15.20//NONSGML v1.0//EN
CALSCALE:GREGORIAN
METHOD:PUBLISH
X-ORIGINAL-URL:https://www.niagaragunclub.com
X-WR-CALDESC:Events for Niagara Regional Sportsmen&#039;s Gun Club
REFRESH-INTERVAL;VALUE=DURATION:PT1H
X-Robots-Tag:noindex
X-PUBLISHED-TTL:PT1H
BEGIN:VTIMEZONE
TZID:America/Toronto
BEGIN:DAYLIGHT
TZOFFSETFROM:-0500
TZOFFSETTO:-0400
TZNAME:EDT
DTSTART:20260308T070000
END:DAYLIGHT
BEGIN:STANDARD
TZOFFSETFROM:-0400
TZOFFSETTO:-0500
TZNAME:EST
DTSTART:20261101T060000
END:STANDARD
BEGIN:DAYLIGHT
TZOFFSETFROM:-0500
TZOFFSETTO:-0400
TZNAME:EDT
DTSTART:20270314T070000
END:DAYLIGHT
BEGIN:STANDARD
TZOFFSETFROM:-0400
TZOFFSETTO:-0500
TZNAME:EST
DTSTART:20271107T060000
END:STANDARD
BEGIN:DAYLIGHT
TZOFFSETFROM:-0500
TZOFFSETTO:-0400
TZNAME:EDT
DTSTART:20280312T070000
END:DAYLIGHT
BEGIN:STANDARD
TZOFFSETFROM:-0400
TZOFFSETTO:-0500
TZNAME:EST
DTSTART:20281105T060000
END:STANDARD
END:VTIMEZONE
BEGIN:VEVENT
DTSTART;TZID=America/Toronto:20270103T083000
DTEND;TZID=America/Toronto:20270103T213000
DTSTAMP:20260419T145059
CREATED:20241209T025611Z
LAST-MODIFIED:20241209T025613Z
UID:10002305-1798965000-1799011800@www.niagaragunclub.com
SUMMARY:Sporting Clay 8:30am Shoot
DESCRIPTION:1st Shoot.\nRelay 1\nStarts at 8:30am whether good weather or bad.\nContact Gary to get on the mailing list. \n 
URL:https://www.niagaragunclub.com/event/sporting-clay-shoot-5-2-2/2027-01-03/
CATEGORIES:Clay Shoots 8:30am
END:VEVENT
BEGIN:VEVENT
DTSTART;TZID=America/Toronto:20270110T083000
DTEND;TZID=America/Toronto:20270110T213000
DTSTAMP:20260419T145059
CREATED:20241209T025611Z
LAST-MODIFIED:20241209T025613Z
UID:10002306-1799569800-1799616600@www.niagaragunclub.com
SUMMARY:Sporting Clay 8:30am Shoot
DESCRIPTION:1st Shoot.\nRelay 1\nStarts at 8:30am whether good weather or bad.\nContact Gary to get on the mailing list. \n 
URL:https://www.niagaragunclub.com/event/sporting-clay-shoot-5-2-2/2027-01-10/
CATEGORIES:Clay Shoots 8:30am
END:VEVENT
BEGIN:VEVENT
DTSTART;TZID=America/Toronto:20270117T083000
DTEND;TZID=America/Toronto:20270117T213000
DTSTAMP:20260419T145059
CREATED:20241209T025611Z
LAST-MODIFIED:20241209T025613Z
UID:10002307-1800174600-1800221400@www.niagaragunclub.com
SUMMARY:Sporting Clay 8:30am Shoot
DESCRIPTION:1st Shoot.\nRelay 1\nStarts at 8:30am whether good weather or bad.\nContact Gary to get on the mailing list. \n 
URL:https://www.niagaragunclub.com/event/sporting-clay-shoot-5-2-2/2027-01-17/
CATEGORIES:Clay Shoots 8:30am
END:VEVENT
BEGIN:VEVENT
DTSTART;TZID=America/Toronto:20270124T083000
DTEND;TZID=America/Toronto:20270124T213000
DTSTAMP:20260419T145059
CREATED:20241209T025611Z
LAST-MODIFIED:20241209T025613Z
UID:10002308-1800779400-1800826200@www.niagaragunclub.com
SUMMARY:Sporting Clay 8:30am Shoot
DESCRIPTION:1st Shoot.\nRelay 1\nStarts at 8:30am whether good weather or bad.\nContact Gary to get on the mailing list. \n 
URL:https://www.niagaragunclub.com/event/sporting-clay-shoot-5-2-2/2027-01-24/
CATEGORIES:Clay Shoots 8:30am
END:VEVENT
BEGIN:VEVENT
DTSTART;TZID=America/Toronto:20270131T083000
DTEND;TZID=America/Toronto:20270131T213000
DTSTAMP:20260419T145059
CREATED:20241209T025611Z
LAST-MODIFIED:20241209T025613Z
UID:10002309-1801384200-1801431000@www.niagaragunclub.com
SUMMARY:Sporting Clay 8:30am Shoot
DESCRIPTION:1st Shoot.\nRelay 1\nStarts at 8:30am whether good weather or bad.\nContact Gary to get on the mailing list. \n 
URL:https://www.niagaragunclub.com/event/sporting-clay-shoot-5-2-2/2027-01-31/
CATEGORIES:Clay Shoots 8:30am
END:VEVENT
END:VCALENDAR